BEGIN:VCALENDAR
VERSION:2.0
PRODID:-//Anderson County - ECPv6.15.20//NONSGML v1.0//EN
CALSCALE:GREGORIAN
METHOD:PUBLISH
X-WR-CALNAME:Anderson County
X-ORIGINAL-URL:https://www.andersoncountysc.org
X-WR-CALDESC:Events for Anderson County
REFRESH-INTERVAL;VALUE=DURATION:PT1H
X-Robots-Tag:noindex
X-PUBLISHED-TTL:PT1H
BEGIN:VTIMEZONE
TZID:UTC
BEGIN:STANDARD
TZOFFSETFROM:+0000
TZOFFSETTO:+0000
TZNAME:UTC
DTSTART:20200101T000000
END:STANDARD
END:VTIMEZONE
BEGIN:VEVENT
DTSTART;TZID=UTC:20210708T164500
DTEND;TZID=UTC:20210708T180000
DTSTAMP:20260422T014944
CREATED:20210628T182652Z
LAST-MODIFIED:20210628T182652Z
UID:10000581-1625762700-1625767200@www.andersoncountysc.org
SUMMARY:Elections & Voter Registration Board Meeting
DESCRIPTION:The Board of Elections and Voter Registration of Anderson County will meet on Thursday\, July 8\, 2021 at 4:45 p.m. The meeting will be held at the Elections office located at 301 North Main Street\, Anderson\, SC. \nAGENDA
URL:https://www.andersoncountysc.org/event/elections-voter-registration-board-meeting/
LOCATION:SC
CATEGORIES:Committee Meetings
END:VEVENT
END:VCALENDAR