BEGIN:VCALENDAR
VERSION:2.0
PRODID:-//Anderson County - ECPv6.15.20//NONSGML v1.0//EN
CALSCALE:GREGORIAN
METHOD:PUBLISH
X-ORIGINAL-URL:https://www.andersoncountysc.org
X-WR-CALDESC:Events for Anderson County
REFRESH-INTERVAL;VALUE=DURATION:PT1H
X-Robots-Tag:noindex
X-PUBLISHED-TTL:PT1H
BEGIN:VTIMEZONE
TZID:UTC
BEGIN:STANDARD
TZOFFSETFROM:+0000
TZOFFSETTO:+0000
TZNAME:UTC
DTSTART:20210101T000000
END:STANDARD
END:VTIMEZONE
BEGIN:VEVENT
DTSTART;TZID=UTC:20220131T160000
DTEND;TZID=UTC:20220131T170000
DTSTAMP:20260421T154141
CREATED:20220126T185623Z
LAST-MODIFIED:20220126T185623Z
UID:10000639-1643644800-1643648400@www.andersoncountysc.org
SUMMARY:ACTC Meeting
DESCRIPTION:The ACTC Meeting will meet on Monday\, January 31\, 2022\, at 4 PM. \nAGENDA \n 
URL:https://www.andersoncountysc.org/event/actc-meeting-7/
LOCATION:1428 County Complex\, 1428 Pearman Dairy Road\, Anderson\, 29625\, United States
CATEGORIES:Committee Meetings
ATTACH;FMTTYPE=image/png:https://www.andersoncountysc.org/wp-content/uploads/2021/04/Screen-Shot-2021-04-19-at-11.27.19-AM.png
ORGANIZER;CN="Brittany Burdette":MAILTO:bnburdette@andersoncountysc.org
END:VEVENT
END:VCALENDAR