BEGIN:VCALENDAR
VERSION:2.0
PRODID:-//Anderson County - ECPv6.15.20//NONSGML v1.0//EN
CALSCALE:GREGORIAN
METHOD:PUBLISH
X-ORIGINAL-URL:https://www.andersoncountysc.org
X-WR-CALDESC:Events for Anderson County
REFRESH-INTERVAL;VALUE=DURATION:PT1H
X-Robots-Tag:noindex
X-PUBLISHED-TTL:PT1H
BEGIN:VTIMEZONE
TZID:UTC
BEGIN:STANDARD
TZOFFSETFROM:+0000
TZOFFSETTO:+0000
TZNAME:UTC
DTSTART:20210101T000000
END:STANDARD
END:VTIMEZONE
BEGIN:VEVENT
DTSTART;TZID=UTC:20220615T160000
DTEND;TZID=UTC:20220615T160000
DTSTAMP:20260421T065344
CREATED:20220614T141529Z
LAST-MODIFIED:20220614T141529Z
UID:10000714-1655308800-1655308800@www.andersoncountysc.org
SUMMARY:ACTC Meeting
DESCRIPTION:The Anderson County Transportation Committee will meet Wednesday\, June 15\, 2022 @ 4:00 p.m. ACTC Executive Session Only \nMicrosoft Teams:\nLink \n6.15.2022 Notice & Agenda Special Called Meeting
URL:https://www.andersoncountysc.org/event/actc-meeting/
LOCATION:SC
CATEGORIES:Committee Meetings
ORGANIZER;CN="Brittany Burdette":MAILTO:bnburdette@andersoncountysc.org
END:VEVENT
BEGIN:VEVENT
DTSTART;TZID=UTC:20220628T180000
DTEND;TZID=UTC:20220628T190000
DTSTAMP:20260421T065344
CREATED:20220627T161043Z
LAST-MODIFIED:20220627T161536Z
UID:10000720-1656439200-1656442800@www.andersoncountysc.org
SUMMARY:HRC Meeting
DESCRIPTION:The Human Relations Council will meet on June 28\, 2022 at 6 o’clock in the evening. \n6.28.2022.HRC Agenda
URL:https://www.andersoncountysc.org/event/hrc-meeting-2/
LOCATION:Historic Courthouse\, 101 S. Main Street\, Anderson\, SC\, 29624\, United States
CATEGORIES:Committee Meetings
ATTACH;FMTTYPE=image/png:https://www.andersoncountysc.org/wp-content/uploads/2021/06/HRC-Logo_Website-1440x600-1-e1656346465205.png
END:VEVENT
END:VCALENDAR