BEGIN:VCALENDAR
VERSION:2.0
PRODID:-//Anderson County - ECPv6.15.20//NONSGML v1.0//EN
CALSCALE:GREGORIAN
METHOD:PUBLISH
X-WR-CALNAME:Anderson County
X-ORIGINAL-URL:https://www.andersoncountysc.org
X-WR-CALDESC:Events for Anderson County
REFRESH-INTERVAL;VALUE=DURATION:PT1H
X-Robots-Tag:noindex
X-PUBLISHED-TTL:PT1H
BEGIN:VTIMEZONE
TZID:UTC
BEGIN:STANDARD
TZOFFSETFROM:+0000
TZOFFSETTO:+0000
TZNAME:UTC
DTSTART:20220101T000000
END:STANDARD
END:VTIMEZONE
BEGIN:VEVENT
DTSTART;TZID=UTC:20230206T160000
DTEND;TZID=UTC:20230206T170000
DTSTAMP:20260420T165546
CREATED:20221201T174637Z
LAST-MODIFIED:20221201T175111Z
UID:10000630-1675699200-1675702800@www.andersoncountysc.org
SUMMARY:ACTC Meeting
DESCRIPTION:The Anderson County Transportation Committee will meet on Monday\, February 6\, 2023 at 4 o’clock . The meeting is open to the public at the Anderson County 1428 Complex located at 1428 Pearman Dairy Road\, Anderson\, SC 29625.  \nThis meeting is also available on Microsoft Teams upon request.
URL:https://www.andersoncountysc.org/event/actc-meeting-9/
LOCATION:1428 County Complex\, 1428 Pearman Dairy Road\, Anderson\, 29625\, United States
CATEGORIES:Committee Meetings
END:VEVENT
END:VCALENDAR