BEGIN:VCALENDAR
VERSION:2.0
PRODID:-//Anderson County - ECPv6.15.20//NONSGML v1.0//EN
CALSCALE:GREGORIAN
METHOD:PUBLISH
X-ORIGINAL-URL:https://www.andersoncountysc.org
X-WR-CALDESC:Events for Anderson County
REFRESH-INTERVAL;VALUE=DURATION:PT1H
X-Robots-Tag:noindex
X-PUBLISHED-TTL:PT1H
BEGIN:VTIMEZONE
TZID:UTC
BEGIN:STANDARD
TZOFFSETFROM:+0000
TZOFFSETTO:+0000
TZNAME:UTC
DTSTART:20220101T000000
END:STANDARD
END:VTIMEZONE
BEGIN:VEVENT
DTSTART;TZID=UTC:20230306T160000
DTEND;TZID=UTC:20230306T170000
DTSTAMP:20260420T151729
CREATED:20230303T174633Z
LAST-MODIFIED:20230303T174633Z
UID:10000831-1678118400-1678122000@www.andersoncountysc.org
SUMMARY:ACTC Meeting
DESCRIPTION:The Anderson County Transportation Committee will meet via Microsoft Teams on Monday\, March 6\, 2023 at 4p.m. This meeting is Executive Session Only. \nAGENDA\n3.6.23 ACTC NOTICE \n 
URL:https://www.andersoncountysc.org/event/actc-meeting-10/
LOCATION:SC
CATEGORIES:Committee Meetings
ORGANIZER;CN="Brittany Burdette":MAILTO:bnburdette@andersoncountysc.org
END:VEVENT
END:VCALENDAR