BEGIN:VCALENDAR
VERSION:2.0
PRODID:-//Anderson County - ECPv6.15.20//NONSGML v1.0//EN
CALSCALE:GREGORIAN
METHOD:PUBLISH
X-ORIGINAL-URL:https://www.andersoncountysc.org
X-WR-CALDESC:Events for Anderson County
REFRESH-INTERVAL;VALUE=DURATION:PT1H
X-Robots-Tag:noindex
X-PUBLISHED-TTL:PT1H
BEGIN:VTIMEZONE
TZID:UTC
BEGIN:STANDARD
TZOFFSETFROM:+0000
TZOFFSETTO:+0000
TZNAME:UTC
DTSTART:20220101T000000
END:STANDARD
END:VTIMEZONE
BEGIN:VEVENT
DTSTART;TZID=UTC:20230619T180000
DTEND;TZID=UTC:20230619T190000
DTSTAMP:20260420T095749
CREATED:20230607T161216Z
LAST-MODIFIED:20230607T162059Z
UID:10000701-1687197600-1687201200@www.andersoncountysc.org
SUMMARY:District 5: 2023 Statistical Update Comprehensive Plan Engagement Meeting
DESCRIPTION:2023 Statistical Update Anderson County Comprehensive Plan Engagement Meeting for Council District 5 on June 19\, 2023 at 6:00 PM. The meeting will be held at the Civic Center of Anderson\, 3027 Martin Luther King Jr Blvd\, Anderson\, SC 29625. \nAGENDA
URL:https://www.andersoncountysc.org/event/2023-statistical-update-comprehensive-plan-engagement-meeting-district-5/
LOCATION:ASEC | Anderson Sports & Entertainment Center\, 3027 Martin Luther King Jr. Boulevard\, Anderson\, SC\, 29625\, United States
CATEGORIES:Committee Meetings
END:VEVENT
END:VCALENDAR