BEGIN:VCALENDAR
VERSION:2.0
PRODID:-//Anderson County - ECPv6.15.20//NONSGML v1.0//EN
CALSCALE:GREGORIAN
METHOD:PUBLISH
X-WR-CALNAME:Anderson County
X-ORIGINAL-URL:https://www.andersoncountysc.org
X-WR-CALDESC:Events for Anderson County
REFRESH-INTERVAL;VALUE=DURATION:PT1H
X-Robots-Tag:noindex
X-PUBLISHED-TTL:PT1H
BEGIN:VTIMEZONE
TZID:UTC
BEGIN:STANDARD
TZOFFSETFROM:+0000
TZOFFSETTO:+0000
TZNAME:UTC
DTSTART:20220101T000000
END:STANDARD
END:VTIMEZONE
BEGIN:VEVENT
DTSTART;TZID=UTC:20231211T140000
DTEND;TZID=UTC:20231211T150000
DTSTAMP:20260419T221018
CREATED:20231208T171326Z
LAST-MODIFIED:20231208T171403Z
UID:10001137-1702303200-1702306800@www.andersoncountysc.org
SUMMARY:Convention & Visitors Bureau Board of Directors Meeting
DESCRIPTION:Board of Directors Regular Meeting is Monday\, December 11\, 2023 | 2:00 PM at the Visit Anderson office\,  110 Federal Street\, Anderson\, SC \n12-11-23 CVB Board Agenda
URL:https://www.andersoncountysc.org/event/convention-visitors-bureau-board-of-directors-meeting-2/
LOCATION:Visit Anderson\, 110 Federal Street\, Anderson\, SC\, 29621\, United States
CATEGORIES:Committee Meetings
ATTACH;FMTTYPE=image/jpeg:https://www.andersoncountysc.org/wp-content/uploads/2022/10/Visit-Anderson.jpg
END:VEVENT
END:VCALENDAR