BEGIN:VCALENDAR
VERSION:2.0
PRODID:-//Anderson County - ECPv6.15.20//NONSGML v1.0//EN
CALSCALE:GREGORIAN
METHOD:PUBLISH
X-WR-CALNAME:Anderson County
X-ORIGINAL-URL:https://www.andersoncountysc.org
X-WR-CALDESC:Events for Anderson County
REFRESH-INTERVAL;VALUE=DURATION:PT1H
X-Robots-Tag:noindex
X-PUBLISHED-TTL:PT1H
BEGIN:VTIMEZONE
TZID:UTC
BEGIN:STANDARD
TZOFFSETFROM:+0000
TZOFFSETTO:+0000
TZNAME:UTC
DTSTART:20230101T000000
END:STANDARD
END:VTIMEZONE
BEGIN:VEVENT
DTSTART;TZID=UTC:20240401T080000
DTEND;TZID=UTC:20240401T080000
DTSTAMP:20260426T024526
CREATED:20240327T140646Z
LAST-MODIFIED:20240327T141110Z
UID:10001180-1711958400-1711958400@www.andersoncountysc.org
SUMMARY:The Great Anderson County Cleanup
DESCRIPTION:Join Us! The GREAT Anderson County Cleanup – #GACC2024\nApril 1st — April 30th \nCleanup supplies can be picked up at 1428 Pearman Dairy Rd (the old TTI/Ryobi building) – Monday-Friday 8:30am-5pm. \nWe will provide safety vests\, gloves\, grabbers & trash bags. \nPlease call 260-1001 or email sbporter@andersoncountysc.org to report.
URL:https://www.andersoncountysc.org/event/gacc2024/
LOCATION:1428 County Complex\, 1428 Pearman Dairy Road\, Anderson\, 29625\, United States
CATEGORIES:Community Event
ATTACH;FMTTYPE=image/jpeg:https://www.andersoncountysc.org/wp-content/uploads/2024/03/GACC2024.jpg
END:VEVENT
BEGIN:VEVENT
DTSTART;TZID=UTC:20240401T100000
DTEND;TZID=UTC:20240401T103000
DTSTAMP:20260426T024526
CREATED:20240322T124143Z
LAST-MODIFIED:20240322T124602Z
UID:10001178-1711965600-1711967400@www.andersoncountysc.org
SUMMARY:MJ "Dolly" Cooper Park Playground Grand Opening
DESCRIPTION:Anderson County will hold a ribbon-cutting event at Dolly Cooper Park on the Saluda River on Monday\, April 1st\, at 10:00 AM to celebrate the completion of a new community playground at the facility.
URL:https://www.andersoncountysc.org/event/mj-dolly-cooper-park-playground-grand-opening/
LOCATION:MJ “Dolly” Cooper Park\, 170 Spearman Circle\, Greenville\, SC\, 29611\, United States
CATEGORIES:Community Event
ATTACH;FMTTYPE=image/jpeg:https://www.andersoncountysc.org/wp-content/uploads/2024/03/Dolly-Cooper-Playground_Web-Thumb-1.jpg
END:VEVENT
BEGIN:VEVENT
DTSTART;TZID=UTC:20240425T000000
DTEND;TZID=UTC:20240425T000000
DTSTAMP:20260426T024526
CREATED:20240425T192343Z
LAST-MODIFIED:20240425T200642Z
UID:10001256-1714003200-1714003200@www.andersoncountysc.org
SUMMARY:The Great Anderson County Fair
DESCRIPTION:The Great Anderson County Fair | May 2-12\, 2024! 🎡 🎪🎠\n\n\n\nRides\, Food\, and Shows -All at the 2024 Great Anderson County Fair May 2-12\, 2024 at the Anderson Sports& Entertainment Center in Anderson\, SC. See you at the Fair! \n\n\n\nGET ALL THE INFO: www.thegreatandersoncountyfair.com or event brochure here.
URL:https://www.andersoncountysc.org/event/the-great-anderson-county-fair/
LOCATION:ASEC | Anderson Sports & Entertainment Center\, 3027 Martin Luther King Jr. Boulevard\, Anderson\, SC\, 29625\, United States
CATEGORIES:Community Event
ATTACH;FMTTYPE=image/jpeg:https://www.andersoncountysc.org/wp-content/uploads/2024/04/Fair-2024_1.jpg
END:VEVENT
BEGIN:VEVENT
DTSTART;TZID=UTC:20240427T090000
DTEND;TZID=UTC:20240427T140000
DTSTAMP:20260426T024526
CREATED:20240329T182643Z
LAST-MODIFIED:20240329T182846Z
UID:10001185-1714208400-1714226400@www.andersoncountysc.org
SUMMARY:Anderson County Spring Market
DESCRIPTION:The Anderson County Farmers Market is located in downtown Anderson\, SC and is open to local vendors selling fresh produce\, baked good & crafts. Open 9 am-2 pm April 27th and Saturdays only in May.
URL:https://www.andersoncountysc.org/event/anderson-county-spring-market/
LOCATION:SC
CATEGORIES:Community Event
END:VEVENT
END:VCALENDAR