BEGIN:VCALENDAR
VERSION:2.0
PRODID:-//Anderson County - ECPv6.15.20//NONSGML v1.0//EN
CALSCALE:GREGORIAN
METHOD:PUBLISH
X-WR-CALNAME:Anderson County
X-ORIGINAL-URL:https://www.andersoncountysc.org
X-WR-CALDESC:Events for Anderson County
REFRESH-INTERVAL;VALUE=DURATION:PT1H
X-Robots-Tag:noindex
X-PUBLISHED-TTL:PT1H
BEGIN:VTIMEZONE
TZID:UTC
BEGIN:STANDARD
TZOFFSETFROM:+0000
TZOFFSETTO:+0000
TZNAME:UTC
DTSTART:20230101T000000
END:STANDARD
END:VTIMEZONE
BEGIN:VEVENT
DTSTART;TZID=UTC:20241206T180000
DTEND;TZID=UTC:20241206T203000
DTSTAMP:20260425T135855
CREATED:20241119T013408Z
LAST-MODIFIED:20241119T013408Z
UID:10001319-1733508000-1733517000@www.andersoncountysc.org
SUMMARY:Anderson County Tree Lighting & Holiday Walk
DESCRIPTION:Candy Canes—Cookies—3D Glasses—Fun for the Whole Family \nPreston Gravely\, on bagpipes\, will usher Santa Claus to the Christmas tree on the square in front of the Anderson County Courthouse. \nJoin us for the annual County Tree Lighting at the Courthouse Plaza.\n\n6 PM — TL Hanna Jazz Band\n\n7 PM — Preston Gravely will lead Santa Claus to the Christmas Tree while playing Christmas music on the bagpipes — Stop by and tell Santa your Christmas wish list — The Combo Kings will play after Santa arrives at 7 PM \n\nAnMed will have cookies and candy canes\, and the AnMed Christmas Characters and the Pelzer Light People will be there to have fun with the kids.
URL:https://www.andersoncountysc.org/event/anderson-county-tree-lighting-holiday-walk/
LOCATION:Anderson County Courthouse\, 100 S. Main Street\, Anderson\, SC\, 29624\, United States
CATEGORIES:Community Event
ATTACH;FMTTYPE=image/jpeg:https://www.andersoncountysc.org/wp-content/uploads/2024/11/TEMPLATE_FB_BoxTREE.jpg
END:VEVENT
END:VCALENDAR