BEGIN:VCALENDAR
VERSION:2.0
PRODID:-//Anderson County - ECPv6.15.20//NONSGML v1.0//EN
CALSCALE:GREGORIAN
METHOD:PUBLISH
X-WR-CALNAME:Anderson County
X-ORIGINAL-URL:https://www.andersoncountysc.org
X-WR-CALDESC:Events for Anderson County
REFRESH-INTERVAL;VALUE=DURATION:PT1H
X-Robots-Tag:noindex
X-PUBLISHED-TTL:PT1H
BEGIN:VTIMEZONE
TZID:UTC
BEGIN:STANDARD
TZOFFSETFROM:+0000
TZOFFSETTO:+0000
TZNAME:UTC
DTSTART:20240101T000000
END:STANDARD
END:VTIMEZONE
BEGIN:VEVENT
DTSTART;TZID=UTC:20250214T113000
DTEND;TZID=UTC:20250214T130000
DTSTAMP:20260425T103645
CREATED:20250204T030715Z
LAST-MODIFIED:20250204T030715Z
UID:10001339-1739532600-1739538000@www.andersoncountysc.org
SUMMARY:Senior Citizens Valentine's Day Lunch
DESCRIPTION:It’s time for our annual “Senior Citizens Valentine’s Day Lunch” for widows and widowers ages 65 and older. You must live in Anderson County Districts 2 & 5. \n\n\n\nFriday\, February 14\, 2025\n11:30 am-1:00 pm\nHomeland Park Volunteer Fire Department \n\n\n\n*Available to the first 150 seniors*\n\nPlease stay in your car and pull through the line to pick up your boxed lunch.\n\n*Limit one box lunch per person.\n\n*You must be present to receive a lunch.\n\nIt’s time for our annual “Senior Citizens Valentine’s Day Lunch” for widows and widowers ages 65 and older. You must live in Anderson County Districts 2 & 5.
URL:https://www.andersoncountysc.org/event/senior-citizens-valentines-day-lunch-2/
LOCATION:Homeland Park Volunteer Fire Department\, 3299 South Main Street\, Anderson\, SC\, 29624\, United States
CATEGORIES:Community Event
ATTACH;FMTTYPE=application/pdf:https://www.andersoncountysc.org/wp-content/uploads/2025/02/2025-Valentine-Lunch_.pdf
ORGANIZER;CN="Renee Watts":MAILTO:rdwatts@andersoncountysc.org
END:VEVENT
END:VCALENDAR