BEGIN:VCALENDAR
VERSION:2.0
PRODID:-//Anderson County - ECPv6.15.20//NONSGML v1.0//EN
CALSCALE:GREGORIAN
METHOD:PUBLISH
X-WR-CALNAME:Anderson County
X-ORIGINAL-URL:https://www.andersoncountysc.org
X-WR-CALDESC:Events for Anderson County
REFRESH-INTERVAL;VALUE=DURATION:PT1H
X-Robots-Tag:noindex
X-PUBLISHED-TTL:PT1H
BEGIN:VTIMEZONE
TZID:UTC
BEGIN:STANDARD
TZOFFSETFROM:+0000
TZOFFSETTO:+0000
TZNAME:UTC
DTSTART:20250101T000000
END:STANDARD
END:VTIMEZONE
BEGIN:VEVENT
DTSTART;TZID=UTC:20260628T130000
DTEND;TZID=UTC:20260628T150000
DTSTAMP:20260424T154816
CREATED:20260423T234423Z
LAST-MODIFIED:20260423T234423Z
UID:10001585-1782651600-1782658800@www.andersoncountysc.org
SUMMARY:Carolina Day Celebration
DESCRIPTION:Carolina Day Celebration \nDate: June 28Time: 1:00 PM – 3:00 PM \nLocation: Wren Park\, Downtown Anderson\, South Carolina \nDescription:Celebrate Carolina Day with an afternoon of community activities\, including: \n\nFood trucks\nGames for children\nPatriotic music\nHistorical reenactors\n\nSpecial Feature: \n\nSC250 Bell Tribute at 2:50 PM (25 ceremonial rings)\n\nHost: AC SC250
URL:https://www.andersoncountysc.org/event/carolina-day-celebration/
LOCATION:Carolina Wren Park\, 111 East Whitner Street\, Anderson\, SC\, 29624\, United States
CATEGORIES:Community Event
END:VEVENT
END:VCALENDAR