BEGIN:VCALENDAR
VERSION:2.0
PRODID:-//Anderson County - ECPv6.15.20//NONSGML v1.0//EN
CALSCALE:GREGORIAN
METHOD:PUBLISH
X-WR-CALNAME:Anderson County
X-ORIGINAL-URL:https://www.andersoncountysc.org
X-WR-CALDESC:Events for Anderson County
REFRESH-INTERVAL;VALUE=DURATION:PT1H
X-Robots-Tag:noindex
X-PUBLISHED-TTL:PT1H
BEGIN:VTIMEZONE
TZID:UTC
BEGIN:STANDARD
TZOFFSETFROM:+0000
TZOFFSETTO:+0000
TZNAME:UTC
DTSTART:20200101T000000
END:STANDARD
END:VTIMEZONE
BEGIN:VEVENT
DTSTART;TZID=UTC:20210915T083000
DTEND;TZID=UTC:20210915T093000
DTSTAMP:20260425T102352
CREATED:20210914T134905Z
LAST-MODIFIED:20210914T134950Z
UID:10000596-1631694600-1631698200@www.andersoncountysc.org
SUMMARY:Council Sewer Ad-Hoc Committee
DESCRIPTION:Sewer Ad-Hoc Committee Agenda for Wednesday\, September 15\, 2021 at 8:30 a.m. at the Historic Courthouse\, 101 South Main Street\, Anderson\, South Carolina 29624. \n9.15.2021 Sewer Ad Hoc Committee Meeting \n  \n 
URL:https://www.andersoncountysc.org/event/council-sewer-ad-hoc-committee/
LOCATION:Historic Courthouse\, 101 S. Main Street\, Anderson\, SC\, 29624\, United States
CATEGORIES:Council Committee Meeting
END:VEVENT
BEGIN:VEVENT
DTSTART;TZID=UTC:20210920T083000
DTEND;TZID=UTC:20210920T093000
DTSTAMP:20260425T102352
CREATED:20210917T204031Z
LAST-MODIFIED:20210917T205412Z
UID:10000600-1632126600-1632130200@www.andersoncountysc.org
SUMMARY:Finance Committee Meeting
DESCRIPTION:The Anderson County Council Finance Committee will meet on Monday\, September 20\, 2021 at 8:30 a.m. \nThe meeting will take place  at the Historic Courthouse\, 101 S. Main Street\, Anderson\, SC 29624. \n9.20.2021 Finance Committee Agenda
URL:https://www.andersoncountysc.org/event/finance-committee-meeting-6/
LOCATION:Historic Courthouse\, 101 S. Main Street\, Anderson\, SC\, 29624\, United States
CATEGORIES:Council Committee Meeting
ATTACH;FMTTYPE=image/jpeg:https://www.andersoncountysc.org/wp-content/uploads/2021/03/Drone_Historic-Courthouse1Rev.jpg
END:VEVENT
BEGIN:VEVENT
DTSTART;TZID=UTC:20210920T180000
DTEND;TZID=UTC:20210920T190000
DTSTAMP:20260425T102352
CREATED:20210917T205817Z
LAST-MODIFIED:20210917T205817Z
UID:10000602-1632160800-1632164400@www.andersoncountysc.org
SUMMARY:Personnel Committee Meeting
DESCRIPTION:The Anderson County Council Personnel Committee will meet on Monday\, September 20\, 2021 at 6:00 p.m. \nThe meeting will take place  at the Historic Courthouse\, 101 S. Main Street\, Anderson\, SC 29624. \n9-20-2021 Personnel Committee Meeting
URL:https://www.andersoncountysc.org/event/personnel-committee-meeting/
LOCATION:Historic Courthouse\, 101 S. Main Street\, Anderson\, SC\, 29624\, United States
CATEGORIES:Council Committee Meeting
END:VEVENT
END:VCALENDAR