BEGIN:VCALENDAR
VERSION:2.0
PRODID:-//Anderson County - ECPv6.15.20//NONSGML v1.0//EN
CALSCALE:GREGORIAN
METHOD:PUBLISH
X-ORIGINAL-URL:https://www.andersoncountysc.org
X-WR-CALDESC:Events for Anderson County
REFRESH-INTERVAL;VALUE=DURATION:PT1H
X-Robots-Tag:noindex
X-PUBLISHED-TTL:PT1H
BEGIN:VTIMEZONE
TZID:UTC
BEGIN:STANDARD
TZOFFSETFROM:+0000
TZOFFSETTO:+0000
TZNAME:UTC
DTSTART:20210101T000000
END:STANDARD
END:VTIMEZONE
BEGIN:VEVENT
DTSTART;TZID=UTC:20220131T083000
DTEND;TZID=UTC:20220131T093000
DTSTAMP:20260422T204606
CREATED:20220128T173053Z
LAST-MODIFIED:20220128T173053Z
UID:10000646-1643617800-1643621400@www.andersoncountysc.org
SUMMARY:Public Safety Committee Meeting
DESCRIPTION:The Council’s Public Safety Committee will meet on Monday\, January 31\, 2022 at 8:30 a. m. Meeting location is at the Historic Courthouse\, 101 S. Main Street\, Anderson\, SC. \nAGENDA
URL:https://www.andersoncountysc.org/event/public-safety-committee-meeting-5/
LOCATION:Historic Courthouse\, 101 S. Main Street\, Anderson\, SC\, 29624\, United States
CATEGORIES:Council Committee Meeting
ATTACH;FMTTYPE=image/jpeg:https://www.andersoncountysc.org/wp-content/uploads/2022/01/AC-Seal-Color-e1675270283402.jpg
ORGANIZER;CN="Renee Watts":MAILTO:rdwatts@andersoncountysc.org
END:VEVENT
END:VCALENDAR