BEGIN:VCALENDAR
VERSION:2.0
PRODID:-//Anderson County - ECPv6.15.20//NONSGML v1.0//EN
CALSCALE:GREGORIAN
METHOD:PUBLISH
X-ORIGINAL-URL:https://www.andersoncountysc.org
X-WR-CALDESC:Events for Anderson County
REFRESH-INTERVAL;VALUE=DURATION:PT1H
X-Robots-Tag:noindex
X-PUBLISHED-TTL:PT1H
BEGIN:VTIMEZONE
TZID:UTC
BEGIN:STANDARD
TZOFFSETFROM:+0000
TZOFFSETTO:+0000
TZNAME:UTC
DTSTART:20210101T000000
END:STANDARD
END:VTIMEZONE
BEGIN:VEVENT
DTSTART;TZID=UTC:20220830T122000
DTEND;TZID=UTC:20220830T133000
DTSTAMP:20260422T085852
CREATED:20220826T203200Z
LAST-MODIFIED:20220826T203200Z
UID:10000730-1661862000-1661866200@www.andersoncountysc.org
SUMMARY: Planning & Public Works Committee Meeting 
DESCRIPTION: The Council’s Planning and Public Works Committee will meet on Tuesday\, August 30\, 2022\, at 12:20 p.m. \nMeeting Location: Historic Courthouse\, 101 South Main Street\, Anderson\, SC  \n8.30.2022 Planning & Public Works Agenda
URL:https://www.andersoncountysc.org/event/planning-public-works-committee-meeting-4/
LOCATION:Historic Courthouse\, 101 S. Main Street\, Anderson\, SC\, 29624\, United States
CATEGORIES:Council Committee Meeting
ATTACH;FMTTYPE=image/jpeg:https://www.andersoncountysc.org/wp-content/uploads/2022/01/AC-Seal-Color-e1675270283402.jpg
ORGANIZER;CN="Renee Watts":MAILTO:rdwatts@andersoncountysc.org
END:VEVENT
END:VCALENDAR