BEGIN:VCALENDAR
VERSION:2.0
PRODID:-//Anderson County - ECPv6.15.20//NONSGML v1.0//EN
CALSCALE:GREGORIAN
METHOD:PUBLISH
X-ORIGINAL-URL:https://www.andersoncountysc.org
X-WR-CALDESC:Events for Anderson County
REFRESH-INTERVAL;VALUE=DURATION:PT1H
X-Robots-Tag:noindex
X-PUBLISHED-TTL:PT1H
BEGIN:VTIMEZONE
TZID:UTC
BEGIN:STANDARD
TZOFFSETFROM:+0000
TZOFFSETTO:+0000
TZNAME:UTC
DTSTART:20220101T000000
END:STANDARD
END:VTIMEZONE
BEGIN:VEVENT
DTSTART;TZID=UTC:20230503T120000
DTEND;TZID=UTC:20230503T133000
DTSTAMP:20260421T173503
CREATED:20230501T183851Z
LAST-MODIFIED:20230501T183851Z
UID:10000865-1683115200-1683120600@www.andersoncountysc.org
SUMMARY:Parks Ad hoc Committee Meeting
DESCRIPTION:The County Council’s Parks Ad hoc Committee will meet on Wednesday\, May 3\, 2023\, 12:00 pm at the Historic Courthouse\, 101 South Main Street\, Anderson\, South Carolina. \n5.3.2023 Parks Ad Hoc Agenda \n 
URL:https://www.andersoncountysc.org/event/parks-ad-hoc-committee-meeting/
LOCATION:Historic Courthouse\, 101 S. Main Street\, Anderson\, SC\, 29624\, United States
CATEGORIES:Council Committee Meeting
ATTACH;FMTTYPE=image/jpeg:https://www.andersoncountysc.org/wp-content/uploads/2022/01/AC-Seal-Color-e1675270283402.jpg
ORGANIZER;CN="Renee Watts":MAILTO:rdwatts@andersoncountysc.org
END:VEVENT
BEGIN:VEVENT
DTSTART;TZID=UTC:20230525T153000
DTEND;TZID=UTC:20230525T163000
DTSTAMP:20260421T173503
CREATED:20230523T162953Z
LAST-MODIFIED:20230523T162953Z
UID:10000870-1685028600-1685032200@www.andersoncountysc.org
SUMMARY:Parks Ad Hoc Committee
DESCRIPTION: The Parks Ad Hoc Committee is scheduled to meet on Thursday\, May 25\, 2023\, 3:30 pm\, at the Historic Courthouse\, 101 South Main Street Anderson\, South Carolina. \n5.25.2023 Agenda
URL:https://www.andersoncountysc.org/event/parks-ad-hoc-committee/
LOCATION:Historic Courthouse\, 101 S. Main Street\, Anderson\, SC\, 29624\, United States
CATEGORIES:Council Committee Meeting
ATTACH;FMTTYPE=image/jpeg:https://www.andersoncountysc.org/wp-content/uploads/2022/01/AC-Seal-Color-e1675270283402.jpg
ORGANIZER;CN="Renee Watts":MAILTO:rdwatts@andersoncountysc.org
END:VEVENT
END:VCALENDAR