BEGIN:VCALENDAR
VERSION:2.0
PRODID:-//Anderson County - ECPv6.15.20//NONSGML v1.0//EN
CALSCALE:GREGORIAN
METHOD:PUBLISH
X-ORIGINAL-URL:https://www.andersoncountysc.org
X-WR-CALDESC:Events for Anderson County
REFRESH-INTERVAL;VALUE=DURATION:PT1H
X-Robots-Tag:noindex
X-PUBLISHED-TTL:PT1H
BEGIN:VTIMEZONE
TZID:UTC
BEGIN:STANDARD
TZOFFSETFROM:+0000
TZOFFSETTO:+0000
TZNAME:UTC
DTSTART:20220101T000000
END:STANDARD
END:VTIMEZONE
BEGIN:VEVENT
DTSTART;TZID=UTC:20230608T100000
DTEND;TZID=UTC:20230608T110000
DTSTAMP:20260421T154329
CREATED:20230607T133946Z
LAST-MODIFIED:20230607T133946Z
UID:10000873-1686218400-1686222000@www.andersoncountysc.org
SUMMARY:Planning and Public Works Meeting
DESCRIPTION:Planning and Public Works Committee will meet on Thursday\, June 8\, 2023\, at 10 am\, Historic Courthouse\, 101 South Main Street\, Anderson\, SC 29624. \nAGENDA
URL:https://www.andersoncountysc.org/event/planning-and-public-works-meeting-2/
LOCATION:SC
CATEGORIES:Council Committee Meeting
ATTACH;FMTTYPE=image/jpeg:https://www.andersoncountysc.org/wp-content/uploads/2022/01/AC-Seal-Color-e1675270283402.jpg
END:VEVENT
BEGIN:VEVENT
DTSTART;TZID=UTC:20230609T090000
DTEND;TZID=UTC:20230609T100000
DTSTAMP:20260421T154329
CREATED:20230607T164953Z
LAST-MODIFIED:20230607T164953Z
UID:10000703-1686301200-1686304800@www.andersoncountysc.org
SUMMARY:Detention Facilities Corporation Meeting
DESCRIPTION:Agenda
URL:https://www.andersoncountysc.org/event/detention-facilities-corporation-meeting-2/
LOCATION:Historic Courthouse\, 101 S. Main Street\, Anderson\, SC\, 29624\, United States
CATEGORIES:Council Committee Meeting
ATTACH;FMTTYPE=image/jpeg:https://www.andersoncountysc.org/wp-content/uploads/2022/01/AC-Seal-Color-e1675270283402.jpg
ORGANIZER;CN="Renee Watts":MAILTO:rdwatts@andersoncountysc.org
END:VEVENT
BEGIN:VEVENT
DTSTART;TZID=UTC:20230613T090000
DTEND;TZID=UTC:20230613T100000
DTSTAMP:20260421T154329
CREATED:20230608T211406Z
LAST-MODIFIED:20230608T211406Z
UID:10000705-1686646800-1686650400@www.andersoncountysc.org
SUMMARY:Public Safety Committee Meeting
DESCRIPTION:The Council’s Public Safety Committee will meet on Tuesday\, June 13\, 2023\, at 9:00 a.m. at the Historic Courthouse\, 101 South Main Street\, Anderson\, SC 29624.\nAGENDA
URL:https://www.andersoncountysc.org/event/public-safety-committee-meeting/
LOCATION:Historic Courthouse\, 101 S. Main Street\, Anderson\, SC\, 29624\, United States
CATEGORIES:Council Committee Meeting
ATTACH;FMTTYPE=image/jpeg:https://www.andersoncountysc.org/wp-content/uploads/2022/01/AC-Seal-Color-e1675270283402.jpg
ORGANIZER;CN="Renee Watts":MAILTO:rdwatts@andersoncountysc.org
END:VEVENT
BEGIN:VEVENT
DTSTART;TZID=UTC:20230614T100000
DTEND;TZID=UTC:20230614T110000
DTSTAMP:20260421T154329
CREATED:20230613T142734Z
LAST-MODIFIED:20230613T142734Z
UID:10000707-1686736800-1686740400@www.andersoncountysc.org
SUMMARY:Finance Committee Meeting
DESCRIPTION:The Council’s Finance Committee will meet on Wednesday\, June 14\, 2023\, at 10:00 A.M.\,  Historic Courthouse\, 101 South Main Street\, Anderson\, SC 29624. \n6.14.2023 Agenda
URL:https://www.andersoncountysc.org/event/finance-committee-meeting-8/
LOCATION:Historic Courthouse\, 101 S. Main Street\, Anderson\, SC\, 29624\, United States
CATEGORIES:Council Committee Meeting
ATTACH;FMTTYPE=image/jpeg:https://www.andersoncountysc.org/wp-content/uploads/2022/01/AC-Seal-Color-e1675270283402.jpg
ORGANIZER;CN="Renee Watts":MAILTO:rdwatts@andersoncountysc.org
END:VEVENT
BEGIN:VEVENT
DTSTART;TZID=UTC:20230615T150000
DTEND;TZID=UTC:20230615T160000
DTSTAMP:20260421T154329
CREATED:20230614T192312Z
LAST-MODIFIED:20230614T192355Z
UID:10000709-1686841200-1686844800@www.andersoncountysc.org
SUMMARY:Sewer Ad-hoc Committee Meeting
DESCRIPTION:Anderson County Council Sewer Ad-hoc Committee will meet on June 15\, 2023\, at 3 o’clock in the Historic Courthouse\, 101 S. Main Street\, Anderson\, SC 29624. \n6.15.2023 Agenda
URL:https://www.andersoncountysc.org/event/sewer-ad-hoc-committee-meeting/
LOCATION:Historic Courthouse\, 101 S. Main Street\, Anderson\, SC\, 29624\, United States
CATEGORIES:Council Committee Meeting
ATTACH;FMTTYPE=image/jpeg:https://www.andersoncountysc.org/wp-content/uploads/2022/01/AC-Seal-Color-e1675270283402.jpg
END:VEVENT
BEGIN:VEVENT
DTSTART;TZID=UTC:20230629T120000
DTEND;TZID=UTC:20230629T130000
DTSTAMP:20260421T154329
CREATED:20230627T191451Z
LAST-MODIFIED:20230627T191451Z
UID:10000713-1688040000-1688043600@www.andersoncountysc.org
SUMMARY:Planning and Public Works Meeting
DESCRIPTION:The Council’s Planning and Public Works Committee will meet Thursday\, June 29\, 2023\, at 12 pm in the Historic Courthouse\, 101 South Main Street\, Anderson\, SC 29624. \n6.29.2023 Agenda
URL:https://www.andersoncountysc.org/event/planning-and-public-works-meeting-3/
LOCATION:Historic Courthouse\, 101 S. Main Street\, Anderson\, SC\, 29624\, United States
CATEGORIES:Council Committee Meeting
ATTACH;FMTTYPE=image/jpeg:https://www.andersoncountysc.org/wp-content/uploads/2022/01/AC-Seal-Color-e1675270283402.jpg
ORGANIZER;CN="Renee Watts":MAILTO:rdwatts@andersoncountysc.org
END:VEVENT
END:VCALENDAR