BEGIN:VCALENDAR
VERSION:2.0
PRODID:-//Anderson County - ECPv6.15.20//NONSGML v1.0//EN
CALSCALE:GREGORIAN
METHOD:PUBLISH
X-WR-CALNAME:Anderson County
X-ORIGINAL-URL:https://www.andersoncountysc.org
X-WR-CALDESC:Events for Anderson County
REFRESH-INTERVAL;VALUE=DURATION:PT1H
X-Robots-Tag:noindex
X-PUBLISHED-TTL:PT1H
BEGIN:VTIMEZONE
TZID:UTC
BEGIN:STANDARD
TZOFFSETFROM:+0000
TZOFFSETTO:+0000
TZNAME:UTC
DTSTART:20230101T000000
END:STANDARD
END:VTIMEZONE
BEGIN:VEVENT
DTSTART;TZID=UTC:20240402T180000
DTEND;TZID=UTC:20240402T193000
DTSTAMP:20260426T001119
CREATED:20240329T175705Z
LAST-MODIFIED:20240329T181137Z
UID:10001181-1712080800-1712086200@www.andersoncountysc.org
SUMMARY:County Council Meeting
DESCRIPTION:The Anderson County Council will meet on April 2\, 2024\, at 6:00 p.m. in the Council Chambers\, Historic Courthouse\, 101 S. Main St.\, Anderson\, SC 29624. \nSpecial Presentations at 6 p.m.\nCouncil Meeting at 6:30 p.m. \nAGENDA
URL:https://www.andersoncountysc.org/event/county-council-meeting-49/
LOCATION:Historic Courthouse\, 101 S. Main Street\, Anderson\, SC\, 29624\, United States
CATEGORIES:County Council Meeting
ATTACH;FMTTYPE=image/jpeg:https://www.andersoncountysc.org/wp-content/uploads/2022/01/AC-Seal-Color-e1675270283402.jpg
ORGANIZER;CN="Renee Watts":MAILTO:rdwatts@andersoncountysc.org
END:VEVENT
BEGIN:VEVENT
DTSTART;TZID=UTC:20240416T180000
DTEND;TZID=UTC:20240416T200000
DTSTAMP:20260426T001119
CREATED:20240329T180447Z
LAST-MODIFIED:20240412T195845Z
UID:10001182-1713290400-1713297600@www.andersoncountysc.org
SUMMARY:County Council Meeting
DESCRIPTION:The Anderson County Council meets on the first and third Tuesday of each month in the Council Chambers\, Historic Courthouse\, 101 S. Main St.\, Anderson\, SC 29624. The next regularly scheduled meeting is April 16\, 2024. MEETING AGENDA \nSpecial Presentations at 6 p.m.\nCouncil Meeting at 6:30 p.m. \nThe meeting agenda will be posted at www.andersoncountysc.org/county-council. \n 
URL:https://www.andersoncountysc.org/event/county-council-meeting-50/
LOCATION:Historic Courthouse\, 101 S. Main Street\, Anderson\, SC\, 29624\, United States
CATEGORIES:County Council Meeting
ATTACH;FMTTYPE=image/jpeg:https://www.andersoncountysc.org/wp-content/uploads/2022/01/AC-Seal-Color-e1675270283402.jpg
ORGANIZER;CN="Renee Watts":MAILTO:rdwatts@andersoncountysc.org
END:VEVENT
END:VCALENDAR