BEGIN:VCALENDAR
VERSION:2.0
PRODID:-//Anderson County - ECPv6.15.20//NONSGML v1.0//EN
CALSCALE:GREGORIAN
METHOD:PUBLISH
X-ORIGINAL-URL:https://www.andersoncountysc.org
X-WR-CALDESC:Events for Anderson County
REFRESH-INTERVAL;VALUE=DURATION:PT1H
X-Robots-Tag:noindex
X-PUBLISHED-TTL:PT1H
BEGIN:VTIMEZONE
TZID:UTC
BEGIN:STANDARD
TZOFFSETFROM:+0000
TZOFFSETTO:+0000
TZNAME:UTC
DTSTART:20230101T000000
END:STANDARD
END:VTIMEZONE
BEGIN:VEVENT
DTSTART;TZID=UTC:20240716T180000
DTEND;TZID=UTC:20240716T193000
DTSTAMP:20260425T191211
CREATED:20240702T125049Z
LAST-MODIFIED:20240712T192011Z
UID:10001277-1721152800-1721158200@www.andersoncountysc.org
SUMMARY:County Council Meeting
DESCRIPTION:The Anderson County Council meets on the first and third Tuesday of each month in the Council Chambers\, Historic Courthouse\, 101 S. Main St.\, Anderson\, SC 29624. The next regularly scheduled meeting is July 16\, 2024. \nSpecial Presentations at 6 p.m.\nCouncil Meeting at 6:30 p.m. \nAGENDA \n 
URL:https://www.andersoncountysc.org/event/county-council-meeting-55/
LOCATION:Historic Courthouse\, 101 S. Main Street\, Anderson\, SC\, 29624\, United States
CATEGORIES:County Council Meeting
ATTACH;FMTTYPE=image/jpeg:https://www.andersoncountysc.org/wp-content/uploads/2022/01/AC-Seal-Color-e1675270283402.jpg
ORGANIZER;CN="Renee Watts":MAILTO:rdwatts@andersoncountysc.org
END:VEVENT
BEGIN:VEVENT
DTSTART;TZID=UTC:20240723T180000
DTEND;TZID=UTC:20240723T190000
DTSTAMP:20260425T191211
CREATED:20240719T174803Z
LAST-MODIFIED:20240719T181423Z
UID:10001286-1721757600-1721761200@www.andersoncountysc.org
SUMMARY:Special Called County Council Meeting
DESCRIPTION:The Anderson County Council will meet at 6 o’clock for a special called meeting on July 23\, 2024\, at the Historic Courthouse\, 101 S. Main Street\, Anderson\, SC. \nAGENDA
URL:https://www.andersoncountysc.org/event/county-council-special-called-meeting-6/
LOCATION:Historic Courthouse\, 101 S. Main Street\, Anderson\, SC\, 29624\, United States
CATEGORIES:County Council Meeting
ATTACH;FMTTYPE=image/jpeg:https://www.andersoncountysc.org/wp-content/uploads/2022/01/AC-Seal-Color-e1675270283402.jpg
ORGANIZER;CN="Renee Watts":MAILTO:rdwatts@andersoncountysc.org
END:VEVENT
END:VCALENDAR