BEGIN:VCALENDAR
VERSION:2.0
PRODID:-//Anderson County - ECPv6.15.20//NONSGML v1.0//EN
CALSCALE:GREGORIAN
METHOD:PUBLISH
X-WR-CALNAME:Anderson County
X-ORIGINAL-URL:https://www.andersoncountysc.org
X-WR-CALDESC:Events for Anderson County
REFRESH-INTERVAL;VALUE=DURATION:PT1H
X-Robots-Tag:noindex
X-PUBLISHED-TTL:PT1H
BEGIN:VTIMEZONE
TZID:UTC
BEGIN:STANDARD
TZOFFSETFROM:+0000
TZOFFSETTO:+0000
TZNAME:UTC
DTSTART:20230101T000000
END:STANDARD
END:VTIMEZONE
BEGIN:VEVENT
DTSTART;TZID=UTC:20240903T180000
DTEND;TZID=UTC:20240903T193000
DTSTAMP:20260425T155234
CREATED:20240702T131332Z
LAST-MODIFIED:20240830T213847Z
UID:10001280-1725386400-1725391800@www.andersoncountysc.org
SUMMARY:County Council Meeting
DESCRIPTION:The Anderson County Council meets on the first and third Tuesday of each month in the Council Chambers\, Historic Courthouse\, 101 S. Main St.\, Anderson\, SC 29624. The next regularly scheduled meeting is September 3\, 2024.  AGENDA \nSpecial Presentations at 6 p.m.\nCouncil Meeting at 6:30 p.m. \nThe meeting agenda will be posted at www.andersoncountysc.org/county-council.
URL:https://www.andersoncountysc.org/event/county-council-meeting-57/
LOCATION:Historic Courthouse\, 101 S. Main Street\, Anderson\, SC\, 29624\, United States
CATEGORIES:County Council Meeting
ATTACH;FMTTYPE=image/jpeg:https://www.andersoncountysc.org/wp-content/uploads/2022/01/AC-Seal-Color-e1675270283402.jpg
ORGANIZER;CN="Renee Watts":MAILTO:rdwatts@andersoncountysc.org
END:VEVENT
BEGIN:VEVENT
DTSTART;TZID=UTC:20240917T180000
DTEND;TZID=UTC:20240917T193000
DTSTAMP:20260425T155234
CREATED:20240702T131645Z
LAST-MODIFIED:20240913T210045Z
UID:10001281-1726596000-1726601400@www.andersoncountysc.org
SUMMARY:County Council Meeting
DESCRIPTION:The Anderson County Council meets on the first and third Tuesday of each month in the Council Chambers\, Historic Courthouse\, 101 S. Main St.\, Anderson\, SC 29624. The next regularly scheduled meeting is September 17\, 2024 at 6:30 p.m. AGENDA \nThe meeting agenda will be posted at www.andersoncountysc.org/county-council.
URL:https://www.andersoncountysc.org/event/county-council-meeting-58/
LOCATION:Historic Courthouse\, 101 S. Main Street\, Anderson\, SC\, 29624\, United States
CATEGORIES:County Council Meeting
ATTACH;FMTTYPE=image/jpeg:https://www.andersoncountysc.org/wp-content/uploads/2022/01/AC-Seal-Color-e1675270283402.jpg
ORGANIZER;CN="Renee Watts":MAILTO:rdwatts@andersoncountysc.org
END:VEVENT
END:VCALENDAR