BEGIN:VCALENDAR
VERSION:2.0
PRODID:-//Anderson County - ECPv6.15.20//NONSGML v1.0//EN
CALSCALE:GREGORIAN
METHOD:PUBLISH
X-WR-CALNAME:Anderson County
X-ORIGINAL-URL:https://www.andersoncountysc.org
X-WR-CALDESC:Events for Anderson County
REFRESH-INTERVAL;VALUE=DURATION:PT1H
X-Robots-Tag:noindex
X-PUBLISHED-TTL:PT1H
BEGIN:VTIMEZONE
TZID:UTC
BEGIN:STANDARD
TZOFFSETFROM:+0000
TZOFFSETTO:+0000
TZNAME:UTC
DTSTART:20230101T000000
END:STANDARD
END:VTIMEZONE
BEGIN:VEVENT
DTSTART;TZID=UTC:20241105T183000
DTEND;TZID=UTC:20241105T183000
DTSTAMP:20260425T122450
CREATED:20241028T212909Z
LAST-MODIFIED:20241101T193924Z
UID:10001313-1730831400-1730831400@www.andersoncountysc.org
SUMMARY:Council Meeting
DESCRIPTION:The Anderson County Council meets on the first and third Tuesday of each month in the Council Chambers\, Historic Courthouse\, 101 S. Main St.\, Anderson\, SC 29624. The next regularly scheduled meeting is November 5\, 2024. \n11.05.2024 Agenda Packet\nSpecial Presentations at 6 p.m. Council Meeting at 6:30 p.m. \nThe meeting agenda can be reviewed at www.andersonountysc.org/county-council.
URL:https://www.andersoncountysc.org/event/council-meeting-2/
LOCATION:Historic Courthouse\, 101 S. Main Street\, Anderson\, SC\, 29624\, United States
CATEGORIES:County Council Meeting
ORGANIZER;CN="Renee Watts":MAILTO:rdwatts@andersoncountysc.org
END:VEVENT
BEGIN:VEVENT
DTSTART;TZID=UTC:20241119T183000
DTEND;TZID=UTC:20241119T183000
DTSTAMP:20260425T122450
CREATED:20241028T213310Z
LAST-MODIFIED:20241119T010529Z
UID:10001314-1732041000-1732041000@www.andersoncountysc.org
SUMMARY:Council Meeting
DESCRIPTION:The Anderson County Council meets on the first and third Tuesday of each month in the Council Chambers\, Historic Courthouse\, 101 S. Main St.\, Anderson\, SC 29624. The next regularly scheduled meeting is November 19\, 2024 at 6:30 p.m. AGENDA \nThe meeting agenda can be reviewed at www.andersonountysc.org/county-council.
URL:https://www.andersoncountysc.org/event/county-council-meeting-60/
LOCATION:Historic Courthouse\, 101 S. Main Street\, Anderson\, SC\, 29624\, United States
CATEGORIES:County Council Meeting
ATTACH;FMTTYPE=image/jpeg:https://www.andersoncountysc.org/wp-content/uploads/2022/01/AC-Seal-Color-e1675270283402.jpg
ORGANIZER;CN="Renee Watts":MAILTO:rdwatts@andersoncountysc.org
END:VEVENT
END:VCALENDAR