BEGIN:VCALENDAR
VERSION:2.0
PRODID:-//Anderson County - ECPv6.15.20//NONSGML v1.0//EN
CALSCALE:GREGORIAN
METHOD:PUBLISH
X-WR-CALNAME:Anderson County
X-ORIGINAL-URL:https://www.andersoncountysc.org
X-WR-CALDESC:Events for Anderson County
REFRESH-INTERVAL;VALUE=DURATION:PT1H
X-Robots-Tag:noindex
X-PUBLISHED-TTL:PT1H
BEGIN:VTIMEZONE
TZID:UTC
BEGIN:STANDARD
TZOFFSETFROM:+0000
TZOFFSETTO:+0000
TZNAME:UTC
DTSTART:20230101T000000
END:STANDARD
END:VTIMEZONE
BEGIN:VEVENT
DTSTART;TZID=UTC:20241203T183000
DTEND;TZID=UTC:20241203T183000
DTSTAMP:20260425T104143
CREATED:20241028T213907Z
LAST-MODIFIED:20241202T163932Z
UID:10001315-1733250600-1733250600@www.andersoncountysc.org
SUMMARY:Council Meeting
DESCRIPTION:The Anderson County Council meets on the first and third Tuesdays of each month. The December 2024 meetings will be held at the Civic Center of Anderson\, 3027 Martin Luther King Jr. Blvd\, Anderson\, SC 29625. \nThe next regularly scheduled meeting is December 3\, 2024 at 6 p.m. \nAMENDED AGENDA \n12.03.2024 Agenda Packet \nThe meeting agenda can be reviewed at www.andersonountysc.org/county-council.
URL:https://www.andersoncountysc.org/event/council-meeting-4/
LOCATION:Civic Center\, 3027 Martin Luther King Jr Blvd\, Anderson\, SC\, 29625\, United States
CATEGORIES:County Council Meeting
ATTACH;FMTTYPE=image/jpeg:https://www.andersoncountysc.org/wp-content/uploads/2022/01/AC-Seal-Color-e1675270283402.jpg
ORGANIZER;CN="Renee Watts":MAILTO:rdwatts@andersoncountysc.org
END:VEVENT
BEGIN:VEVENT
DTSTART;VALUE=DATE:20241217
DTEND;VALUE=DATE:20241218
DTSTAMP:20260425T104143
CREATED:20241119T010305Z
LAST-MODIFIED:20241216T035846Z
UID:10001318-1734393600-1734479999@www.andersoncountysc.org
SUMMARY:Council Meeting
DESCRIPTION:The Anderson County Council meets on the first and third Tuesdays of each month. The December 2024 meetings will be held at the Civic Center of Anderson\, 3027 Martin Luther King Jr. Blvd\, Anderson\, SC 29625. \nThe next regularly scheduled meeting is December 17\, 2024—the time to be announced. \nThe meeting agenda can be reviewed at www.andersonountysc.org/county-council.
URL:https://www.andersoncountysc.org/event/council-meeting-5/
LOCATION:Civic Center\, 3027 Martin Luther King Jr Blvd\, Anderson\, SC\, 29625\, United States
CATEGORIES:County Council Meeting
ATTACH;FMTTYPE=image/jpeg:https://www.andersoncountysc.org/wp-content/uploads/2022/01/AC-Seal-Color-e1675270283402.jpg
ORGANIZER;CN="Renee Watts":MAILTO:rdwatts@andersoncountysc.org
END:VEVENT
END:VCALENDAR