BEGIN:VCALENDAR
VERSION:2.0
PRODID:-//Anderson County - ECPv6.15.20//NONSGML v1.0//EN
CALSCALE:GREGORIAN
METHOD:PUBLISH
X-ORIGINAL-URL:https://www.andersoncountysc.org
X-WR-CALDESC:Events for Anderson County
REFRESH-INTERVAL;VALUE=DURATION:PT1H
X-Robots-Tag:noindex
X-PUBLISHED-TTL:PT1H
BEGIN:VTIMEZONE
TZID:UTC
BEGIN:STANDARD
TZOFFSETFROM:+0000
TZOFFSETTO:+0000
TZNAME:UTC
DTSTART:20250101T000000
END:STANDARD
END:VTIMEZONE
BEGIN:VEVENT
DTSTART;TZID=UTC:20260203T180000
DTEND;TZID=UTC:20260203T200000
DTSTAMP:20260424T125106
CREATED:20251224T011320Z
LAST-MODIFIED:20260130T192757Z
UID:10001522-1770141600-1770148800@www.andersoncountysc.org
SUMMARY:County Council Meeting
DESCRIPTION:The Anderson County Council meet on the first and third Tuesday of each month. Council will meet on Tuesday\, February 3\, 2026\, at the Anderson County Historic Courthouse\, 101 South Main Street\, Anderson\, SC 29624. \n6:00 PM Recognitions & Special Presentations\n6:30 PM Business Meeting \nAGENDA
URL:https://www.andersoncountysc.org/event/county-council-meeting-84/
LOCATION:Historic Courthouse\, 101 S. Main Street\, Anderson\, SC\, 29624\, United States
CATEGORIES:County Council Meeting
ORGANIZER;CN="Renee Watts":MAILTO:rdwatts@andersoncountysc.org
END:VEVENT
BEGIN:VEVENT
DTSTART;TZID=UTC:20260217T183000
DTEND;TZID=UTC:20260217T200000
DTSTAMP:20260424T125106
CREATED:20251224T011404Z
LAST-MODIFIED:20260213T212538Z
UID:10001523-1771353000-1771358400@www.andersoncountysc.org
SUMMARY:County Council Meeting
DESCRIPTION:The Anderson County Council meet on the first and third Tuesday of each month. Council will meet on Tuesday\, February 17\, 2026\, at the Anderson County Historic Courthouse\, 101 South Main Street\, Anderson\, SC 29624. \nSpecial Presentations 6 PM\nBusiness Meeting 6:30 PM \nAGENDA
URL:https://www.andersoncountysc.org/event/county-council-meeting-85/
LOCATION:Historic Courthouse\, 101 S. Main Street\, Anderson\, SC\, 29624\, United States
CATEGORIES:County Council Meeting
ORGANIZER;CN="Renee Watts":MAILTO:rdwatts@andersoncountysc.org
END:VEVENT
END:VCALENDAR