BEGIN:VCALENDAR
VERSION:2.0
PRODID:-//Anderson County - ECPv6.15.20//NONSGML v1.0//EN
CALSCALE:GREGORIAN
METHOD:PUBLISH
X-ORIGINAL-URL:https://www.andersoncountysc.org
X-WR-CALDESC:Events for Anderson County
REFRESH-INTERVAL;VALUE=DURATION:PT1H
X-Robots-Tag:noindex
X-PUBLISHED-TTL:PT1H
BEGIN:VTIMEZONE
TZID:UTC
BEGIN:STANDARD
TZOFFSETFROM:+0000
TZOFFSETTO:+0000
TZNAME:UTC
DTSTART:20240101T000000
END:STANDARD
END:VTIMEZONE
BEGIN:VEVENT
DTSTART;VALUE=DATE:20250217
DTEND;VALUE=DATE:20250218
DTSTAMP:20260425T122449
CREATED:20250204T035745Z
LAST-MODIFIED:20250204T035745Z
UID:10001346-1739750400-1739836799@www.andersoncountysc.org
SUMMARY:Closed | Holiday Observed
DESCRIPTION:Anderson County government offices\, convenience centers\, MRF\, and the Starr Landfill will be closed on President’s Day\, February 17\, 2025.
URL:https://www.andersoncountysc.org/event/closed-holiday-observed/
CATEGORIES:County Offices Closed
ATTACH;FMTTYPE=image/png:https://www.andersoncountysc.org/wp-content/uploads/2025/02/Presidents-Day-2025.png
END:VEVENT
END:VCALENDAR