BEGIN:VCALENDAR
VERSION:2.0
PRODID:-//Anderson County - ECPv6.15.20//NONSGML v1.0//EN
CALSCALE:GREGORIAN
METHOD:PUBLISH
X-ORIGINAL-URL:https://www.andersoncountysc.org
X-WR-CALDESC:Events for Anderson County
REFRESH-INTERVAL;VALUE=DURATION:PT1H
X-Robots-Tag:noindex
X-PUBLISHED-TTL:PT1H
BEGIN:VTIMEZONE
TZID:UTC
BEGIN:STANDARD
TZOFFSETFROM:+0000
TZOFFSETTO:+0000
TZNAME:UTC
DTSTART:20240101T000000
END:STANDARD
END:VTIMEZONE
BEGIN:VEVENT
DTSTART;TZID=UTC:20251209T080000
DTEND;TZID=UTC:20251209T170000
DTSTAMP:20260424T200738
CREATED:20251209T011332Z
LAST-MODIFIED:20251209T011332Z
UID:10001516-1765267200-1765299600@www.andersoncountysc.org
SUMMARY:
DESCRIPTION:Anderson County government offices & PAWS will be closed on January 1\, 2026\, in observance of New Year’s Day.\n\n\n \n\n\nAnderson County Convenience Centers\, MRF & Starr Landfill will be closed on January 1\, 2026\, in observance of New Year’s Day.
URL:https://www.andersoncountysc.org/event/35122/
CATEGORIES:County Offices Closed
END:VEVENT
BEGIN:VEVENT
DTSTART;VALUE=DATE:20251224
DTEND;VALUE=DATE:20251226
DTSTAMP:20260424T200738
CREATED:20251209T010515Z
LAST-MODIFIED:20251209T010954Z
UID:10001515-1766534400-1766707199@www.andersoncountysc.org
SUMMARY:Convenience Centers\, MRF & Starr Landfill: Closed
DESCRIPTION: Anderson County Convenience Centers\, MRF & Starr Landfill will be closed on December 24-25\, 2025\, in observance of Christmas.\n\n\n\n\n.\n\n\n.\n\n\n.\n\n\n#acscgov\n\nHolidays
URL:https://www.andersoncountysc.org/event/government-offices-closed-3/
CATEGORIES:County Offices Closed
ORGANIZER;CN="Samantha Porter":MAILTO:sbporter@andersoncountysc.org
END:VEVENT
BEGIN:VEVENT
DTSTART;VALUE=DATE:20251224
DTEND;VALUE=DATE:20251227
DTSTAMP:20260424T200738
CREATED:20251209T010011Z
LAST-MODIFIED:20251224T012839Z
UID:10001514-1766534400-1766793599@www.andersoncountysc.org
SUMMARY:Government Offices Closed
DESCRIPTION:Anderson County government offices & PAWS will be closed on December 24 – 26\, 2025\, in observance of Christmas.\n\n\n\nAnderson County Convenience Centers\, MRF & Starr Landfill will be closed on December 24-25\, 2025\, in observance of Christmas.\n\n\n\nWishing you and your loved ones a very Merry Christmas and a safe and healthy New Year. Please travel safely this season.
URL:https://www.andersoncountysc.org/event/government-offices-closed-2/
CATEGORIES:County Offices Closed
END:VEVENT
END:VCALENDAR