BEGIN:VCALENDAR
VERSION:2.0
PRODID:-//Anderson County - ECPv6.15.20//NONSGML v1.0//EN
CALSCALE:GREGORIAN
METHOD:PUBLISH
X-WR-CALNAME:Anderson County
X-ORIGINAL-URL:https://www.andersoncountysc.org
X-WR-CALDESC:Events for Anderson County
REFRESH-INTERVAL;VALUE=DURATION:PT1H
X-Robots-Tag:noindex
X-PUBLISHED-TTL:PT1H
BEGIN:VTIMEZONE
TZID:UTC
BEGIN:STANDARD
TZOFFSETFROM:+0000
TZOFFSETTO:+0000
TZNAME:UTC
DTSTART:20220101T000000
END:STANDARD
END:VTIMEZONE
BEGIN:VEVENT
DTSTART;TZID=UTC:20230521T130000
DTEND;TZID=UTC:20230521T170000
DTSTAMP:20260421T061851
CREATED:20210518T134846Z
LAST-MODIFIED:20230327T152949Z
UID:10000567-1684674000-1684688400@www.andersoncountysc.org
SUMMARY:Brax's Cars for a Cause
DESCRIPTION:Brax’s Cars for a Cause is an annual event that was started in 2013\, when a 9 year old decided his love of animals outweighed his desire to get presents. Every year this event has grown bringing new vendors\, car enthusiasts and visitors to our community. \nEvent Flyer: 2023 Brax Cars for a Cause
URL:https://www.andersoncountysc.org/event/braxs-cars-for-a-cause/
LOCATION:Civic Center\, 3027 Martin Luther King Jr Blvd\, Anderson\, SC\, 29625\, United States
CATEGORIES:Community Event,Homepage Calendar,PAWS
ATTACH;FMTTYPE=image/jpeg:https://www.andersoncountysc.org/wp-content/uploads/2021/05/Brax-Logo-202.-only.jpg
END:VEVENT
END:VCALENDAR