BEGIN:VCALENDAR
VERSION:2.0
PRODID:-//Anderson County - ECPv6.15.20//NONSGML v1.0//EN
CALSCALE:GREGORIAN
METHOD:PUBLISH
X-ORIGINAL-URL:https://www.andersoncountysc.org
X-WR-CALDESC:Events for Anderson County
REFRESH-INTERVAL;VALUE=DURATION:PT1H
X-Robots-Tag:noindex
X-PUBLISHED-TTL:PT1H
BEGIN:VTIMEZONE
TZID:UTC
BEGIN:STANDARD
TZOFFSETFROM:+0000
TZOFFSETTO:+0000
TZNAME:UTC
DTSTART:20220101T000000
END:STANDARD
END:VTIMEZONE
BEGIN:VEVENT
DTSTART;TZID=UTC:20230424T180000
DTEND;TZID=UTC:20230424T193000
DTSTAMP:20260419T192613
CREATED:20230413T205753Z
LAST-MODIFIED:20230418T182502Z
UID:10000839-1682359200-1682364600@www.andersoncountysc.org
SUMMARY:Cory White Diversity Awards
DESCRIPTION:The Cory White Diversity Awards will be held at the Civic Center of Anderson on Monday\, April 24th at 6 o’clock in the evening. \n 
URL:https://www.andersoncountysc.org/event/corey-white-diversity-awards/
LOCATION:Civic Center\, 3027 Martin Luther King Jr Blvd\, Anderson\, SC\, 29625\, United States
CATEGORIES:Human Relations Council
END:VEVENT
END:VCALENDAR