BEGIN:VCALENDAR
VERSION:2.0
PRODID:-//Anderson County - ECPv6.15.20//NONSGML v1.0//EN
CALSCALE:GREGORIAN
METHOD:PUBLISH
X-ORIGINAL-URL:https://www.andersoncountysc.org
X-WR-CALDESC:Events for Anderson County
REFRESH-INTERVAL;VALUE=DURATION:PT1H
X-Robots-Tag:noindex
X-PUBLISHED-TTL:PT1H
BEGIN:VTIMEZONE
TZID:UTC
BEGIN:STANDARD
TZOFFSETFROM:+0000
TZOFFSETTO:+0000
TZNAME:UTC
DTSTART:20240101T000000
END:STANDARD
END:VTIMEZONE
BEGIN:VEVENT
DTSTART;TZID=UTC:20251121T085000
DTEND;TZID=UTC:20251121T093000
DTSTAMP:20260424T225815
CREATED:20251114T191255Z
LAST-MODIFIED:20251119T003803Z
UID:10001502-1763715000-1763717400@www.andersoncountysc.org
SUMMARY:Anderson County Delegation Meeting
DESCRIPTION:Anderson County Legislative Delegation Chairman\, Richard Cash announces a Delegation Committee meeting November 21\, 2025\, at 8:50 a.m. at 2404 N. Main Street\, Courtroom #2.  The purpose of this meeting is for the Boards and Commissions Committee to interview candidates for open Board & Commission Seats. Actual interviews will be done in Executive Session and then voted on by the Committee at the general meeting afterwards to recommend to the full Delegation.   \n\n\nWe invite anyone interested in this process to attend including other Delegation Members. \n\n\nFor more information\, please contact: \n\n\nCaroline Piasio\nLegislative Delegation Assistant\nAnderson County Delegation Office\n864.260.4025 Office | 864.201.4003 Cell \n\n\n### \n\n  \n 
URL:https://www.andersoncountysc.org/event/anderson-county-delegation-meeting-2/
LOCATION:Ronald P. Townsend Building\, 2404 N. Main Street\, Anderson\, SC\, 29621\, United States
CATEGORIES:Legislative Delegation
ATTACH;FMTTYPE=image/jpeg:https://www.andersoncountysc.org/wp-content/uploads/2022/03/275120680_326791379480590_1553020834931961463_n-e1763512677483.jpg
ORGANIZER;CN="Caroline Piaso":MAILTO:cpiasio@andersoncountysc.org
END:VEVENT
BEGIN:VEVENT
DTSTART;TZID=UTC:20251124T084500
DTEND;TZID=UTC:20251124T093000
DTSTAMP:20260424T225815
CREATED:20251119T003221Z
LAST-MODIFIED:20251119T003221Z
UID:10001504-1763973900-1763976600@www.andersoncountysc.org
SUMMARY:Anderson County Delegation Review Committee Meeting
DESCRIPTION:Anderson County Legislative Delegation Chairman\, Richard Cash announces a Delegation Review Committee meeting November 24\, 2025 at 8:45 a.m. at 2404 N. Main Street\, Courtroom #2. The purpose of this meeting is to interview candidates for open Board & Commission Seats. Actual interviews will be done in Executive Session and announced at the general meeting afterwards. We invite anyone interested in this process to attend including other Delegation Members. \n\n\nWe invite anyone interested in this process to attend including other Delegation Members. \n\n\nFor more information\, please contact: \n\n\nCaroline Piasio\nLegislative Delegation Assistant\nAnderson County Delegation Office\n864.260.4025 Office | 864.201.4003 Cell \n\n\n### \n\n  \n 
URL:https://www.andersoncountysc.org/event/anderson-county-delegation-review-committee-meeting/
LOCATION:Ronald P. Townsend Building\, 2404 N. Main Street\, Anderson\, SC\, 29621\, United States
CATEGORIES:Legislative Delegation
ATTACH;FMTTYPE=image/jpeg:https://www.andersoncountysc.org/wp-content/uploads/2022/03/275120680_326791379480590_1553020834931961463_n-e1763512677483.jpg
ORGANIZER;CN="Caroline Piaso":MAILTO:cpiasio@andersoncountysc.org
END:VEVENT
END:VCALENDAR