BEGIN:VCALENDAR
VERSION:2.0
PRODID:-//Anderson County - ECPv6.15.20//NONSGML v1.0//EN
CALSCALE:GREGORIAN
METHOD:PUBLISH
X-ORIGINAL-URL:https://www.andersoncountysc.org
X-WR-CALDESC:Events for Anderson County
REFRESH-INTERVAL;VALUE=DURATION:PT1H
X-Robots-Tag:noindex
X-PUBLISHED-TTL:PT1H
BEGIN:VTIMEZONE
TZID:UTC
BEGIN:STANDARD
TZOFFSETFROM:+0000
TZOFFSETTO:+0000
TZNAME:UTC
DTSTART:20250101T000000
END:STANDARD
END:VTIMEZONE
BEGIN:VEVENT
DTSTART;TZID=UTC:20260516T120000
DTEND;TZID=UTC:20260516T160000
DTSTAMP:20260424T155000
CREATED:20260413T161350Z
LAST-MODIFIED:20260413T161525Z
UID:10001582-1778932800-1778947200@www.andersoncountysc.org
SUMMARY:Spring Fling at Anderson County PAWS
DESCRIPTION: Save the Date for Our Spring Fling at Anderson County PAWS! \nWe’re so excited to announce our upcoming Spring Fling\, and you won’t want to miss it! \nJoin us for a fun-filled day at the shelter featuring: Adoptable animals ready to meet you Local vendors & shopping Food\, treats & more A day full of community\, fun\, and supporting local\nWe’re still finalizing all the exciting details\, but trust us—it’s going to be a great time for a great cause \n More information (including vendors and activities) will be posted soon on our Facebook event!\nCome celebrate spring with us and help make a difference for the animals in our care!
URL:https://www.andersoncountysc.org/event/spring-fling-at-anderson-county-paws/
LOCATION:PAWS\, 1320 Hwy. 29 South\, Anderson\, SC\, 29626\, United States
CATEGORIES:Community Event,PAWS
END:VEVENT
END:VCALENDAR