BEGIN:VCALENDAR
VERSION:2.0
PRODID:-//Anderson County - ECPv6.15.20//NONSGML v1.0//EN
CALSCALE:GREGORIAN
METHOD:PUBLISH
X-ORIGINAL-URL:https://www.andersoncountysc.org
X-WR-CALDESC:Events for Anderson County
REFRESH-INTERVAL;VALUE=DURATION:PT1H
X-Robots-Tag:noindex
X-PUBLISHED-TTL:PT1H
BEGIN:VTIMEZONE
TZID:UTC
BEGIN:STANDARD
TZOFFSETFROM:+0000
TZOFFSETTO:+0000
TZNAME:UTC
DTSTART:20200101T000000
END:STANDARD
END:VTIMEZONE
BEGIN:VEVENT
DTSTART;TZID=UTC:20210406T180000
DTEND;TZID=UTC:20210406T180000
DTSTAMP:20260422T012411
CREATED:20210319T201108Z
LAST-MODIFIED:20210319T201349Z
UID:10000538-1617732000-1617732000@www.andersoncountysc.org
SUMMARY:County Council Meeting
DESCRIPTION:Awards and Recognitions at 6 p.m. \nCouncil Meeting at 6:30 p.m.
URL:https://www.andersoncountysc.org/event/anderson-county-council-meeting-3/
LOCATION:Historic Courthouse\, 101 S. Main Street\, Anderson\, SC\, 29624\, United States
END:VEVENT
BEGIN:VEVENT
DTSTART;TZID=UTC:20210413T180000
DTEND;TZID=UTC:20210413T200000
DTSTAMP:20260422T012411
CREATED:20210406T190008Z
LAST-MODIFIED:20210408T200142Z
UID:10000545-1618336800-1618344000@www.andersoncountysc.org
SUMMARY:Planning Commission Meeting
DESCRIPTION:The Planning Commission will meet on Tuesday\, April 13\, 2021 at 6pm at the Civic Center. The agenda and packet can be found below. \nApril 13\, 2021 Packet
URL:https://www.andersoncountysc.org/event/planning-commission-meeting-4/
LOCATION:Civic Center\, 3027 Martin Luther King Jr Blvd\, Anderson\, SC\, 29625\, United States
CATEGORIES:Planning Events
END:VEVENT
BEGIN:VEVENT
DTSTART;TZID=UTC:20210414T180000
DTEND;TZID=UTC:20210414T200000
DTSTAMP:20260422T012411
CREATED:20210406T194308Z
LAST-MODIFIED:20210408T200121Z
UID:10000546-1618423200-1618430400@www.andersoncountysc.org
SUMMARY:Planning Commission Meeting
DESCRIPTION:The Planning Commission will meet Wednesday\, April 14\, 2021 at 6 pm at the Civic Center. The agenda and packet can be found below. \nApril 14\, 2021 Packet
URL:https://www.andersoncountysc.org/event/planning-commission-meeting-5/
LOCATION:Civic Center\, 3027 Martin Luther King Jr Blvd\, Anderson\, SC\, 29625\, United States
CATEGORIES:Planning Events
END:VEVENT
BEGIN:VEVENT
DTSTART;TZID=UTC:20210415T171500
DTEND;TZID=UTC:20210415T181500
DTSTAMP:20260422T012411
CREATED:20210408T195908Z
LAST-MODIFIED:20210408T195917Z
UID:10000548-1618506900-1618510500@www.andersoncountysc.org
SUMMARY:Board of Zoning Appeals Meeting
DESCRIPTION:The Board of Zoning Appeals will meet on Thursday\, April 15\, 2021 at 5:15pm at the Civic Center. The agenda and packet can be found below. \nApril 15\, 2021 Packet
URL:https://www.andersoncountysc.org/event/board-of-zoning-appeals-meeting/
LOCATION:Civic Center\, 3027 Martin Luther King Jr Blvd\, Anderson\, SC\, 29625\, United States
CATEGORIES:Planning Events
END:VEVENT
BEGIN:VEVENT
DTSTART;TZID=UTC:20210416T113000
DTEND;TZID=UTC:20210416T113000
DTSTAMP:20260422T012411
CREATED:20210415T131534Z
LAST-MODIFIED:20210415T172340Z
UID:10000553-1618572600-1618572600@www.andersoncountysc.org
SUMMARY:Planning & Public Works Committee Meeting
DESCRIPTION:The County Council Planning and Public Works Committee will meet on Friday\, April 16\, 2021 at 11:30 a.m. at the Historic Courthouse\, 101 S. Main Street\, Anderson\, SC 29624. \nAgenda
URL:https://www.andersoncountysc.org/event/planning-public-works-committee-meeting/
LOCATION:Historic Courthouse\, 101 S. Main Street\, Anderson\, SC\, 29624\, United States
END:VEVENT
BEGIN:VEVENT
DTSTART;TZID=UTC:20210420T180000
DTEND;TZID=UTC:20210420T180000
DTSTAMP:20260422T012411
CREATED:20210319T201450Z
LAST-MODIFIED:20210319T201450Z
UID:10000539-1618941600-1618941600@www.andersoncountysc.org
SUMMARY:County Council Meeting
DESCRIPTION:Awards and Recognitions at 6 p.m. \nCouncil Meeting at 6:30 p.m.
URL:https://www.andersoncountysc.org/event/county-council-meeting-11/
LOCATION:Historic Courthouse\, 101 S. Main Street\, Anderson\, SC\, 29624\, United States
END:VEVENT
BEGIN:VEVENT
DTSTART;TZID=UTC:20210422T180000
DTEND;TZID=UTC:20210422T200000
DTSTAMP:20260422T012411
CREATED:20210406T194353Z
LAST-MODIFIED:20210408T200228Z
UID:10000547-1619114400-1619121600@www.andersoncountysc.org
SUMMARY:Planning Commission Meeting
DESCRIPTION:The Planning Commission will meet Thursday\, April 22\, 2021 at 6pm at the Civic Center. The agenda and packet can be found below. \nApril 22\, 2021 Packet
URL:https://www.andersoncountysc.org/event/planning-commission-meeting-6/
LOCATION:Civic Center\, 3027 Martin Luther King Jr Blvd\, Anderson\, SC\, 29625\, United States
CATEGORIES:Planning Events
END:VEVENT
BEGIN:VEVENT
DTSTART;TZID=UTC:20210426T160000
DTEND;TZID=UTC:20210426T170000
DTSTAMP:20260422T012411
CREATED:20210419T170213Z
LAST-MODIFIED:20210419T170213Z
UID:10000555-1619452800-1619456400@www.andersoncountysc.org
SUMMARY:ACTC Meeting
DESCRIPTION:The Anderson County Transportation Committee (ACTC) will meet on Monday\, April 26\, 2021 at 4 o’clock via Microsoft Teams. The meeting is open to the public at the Anderson County Public Works Complex located at 1428 Pearman Dairy Road\, Anderson\, SC 29625.
URL:https://www.andersoncountysc.org/event/actc-meeting-3/
LOCATION:1428 County Complex\, 1428 Pearman Dairy Road\, Anderson\, 29625\, United States
CATEGORIES:Committee Meetings
ATTACH;FMTTYPE=image/png:https://www.andersoncountysc.org/wp-content/uploads/2021/04/Screen-Shot-2021-04-19-at-11.27.19-AM.png
ORGANIZER;CN="Brittany Burdette":MAILTO:bnburdette@andersoncountysc.org
END:VEVENT
BEGIN:VEVENT
DTSTART;TZID=UTC:20210427T180000
DTEND;TZID=UTC:20210427T180000
DTSTAMP:20260422T012411
CREATED:20210426T022557Z
LAST-MODIFIED:20210426T182530Z
UID:10000557-1619546400-1619546400@www.andersoncountysc.org
SUMMARY:Human Relations Council
DESCRIPTION:AGENDA \nMeeting Via Zoom: 576 481 7064 \nPasscode: Rights
URL:https://www.andersoncountysc.org/event/human-relations-council-2/
LOCATION:SC
END:VEVENT
BEGIN:VEVENT
DTSTART;TZID=UTC:20210429T143000
DTEND;TZID=UTC:20210429T143000
DTSTAMP:20260422T012411
CREATED:20210428T121929Z
LAST-MODIFIED:20210428T162132Z
UID:10000559-1619706600-1619706600@www.andersoncountysc.org
SUMMARY:Finance Committee Meeting
DESCRIPTION:The Anderson County Council Finance Committee will meet at the Historic Courthouse on Thursday\, April 29\, 2021 at 2:30 p.m. \n4.29.2021 Finance Committee Agenda
URL:https://www.andersoncountysc.org/event/finance-committee-meeting-4/
LOCATION:Historic Courthouse\, 101 S. Main Street\, Anderson\, SC\, 29624\, United States
CATEGORIES:Committee Meetings
ATTACH;FMTTYPE=image/jpeg:https://www.andersoncountysc.org/wp-content/uploads/2021/03/Drone_Historic-Courthouse1Rev.jpg
END:VEVENT
BEGIN:VEVENT
DTSTART;TZID=UTC:20210429T143000
DTEND;TZID=UTC:20210429T143000
DTSTAMP:20260422T012411
CREATED:20210428T160656Z
LAST-MODIFIED:20210428T160656Z
UID:10000561-1619706600-1619706600@www.andersoncountysc.org
SUMMARY:Finance Committee Meeting
DESCRIPTION:The Anderson County Council Finance Committee will meet at the Historic Courthouse on April 29\, 2021 at 2:30 p.m. \nAgenda
URL:https://www.andersoncountysc.org/event/finance-committee-meeting-3/
LOCATION:Historic Courthouse\, 101 S. Main Street\, Anderson\, SC\, 29624\, United States
CATEGORIES:Committee Meetings
END:VEVENT
END:VCALENDAR