BEGIN:VCALENDAR
VERSION:2.0
PRODID:-//Anderson County - ECPv6.15.20//NONSGML v1.0//EN
CALSCALE:GREGORIAN
METHOD:PUBLISH
X-WR-CALNAME:Anderson County
X-ORIGINAL-URL:https://www.andersoncountysc.org
X-WR-CALDESC:Events for Anderson County
REFRESH-INTERVAL;VALUE=DURATION:PT1H
X-Robots-Tag:noindex
X-PUBLISHED-TTL:PT1H
BEGIN:VTIMEZONE
TZID:UTC
BEGIN:STANDARD
TZOFFSETFROM:+0000
TZOFFSETTO:+0000
TZNAME:UTC
DTSTART:20200101T000000
END:STANDARD
END:VTIMEZONE
BEGIN:VEVENT
DTSTART;TZID=UTC:20210504T180000
DTEND;TZID=UTC:20210504T180000
DTSTAMP:20260421T233519
CREATED:20210323T232533Z
LAST-MODIFIED:20210323T232533Z
UID:10000541-1620151200-1620151200@www.andersoncountysc.org
SUMMARY:County Council Meeting
DESCRIPTION:Awards and Recognitions at 6 p.m. \nCouncil Meeting at 6:30 p.m. \nAgendas are posted to the County Council webpage.
URL:https://www.andersoncountysc.org/event/county-council-meeting-12/
LOCATION:Historic Courthouse\, 101 S. Main Street\, Anderson\, SC\, 29624\, United States
END:VEVENT
BEGIN:VEVENT
DTSTART;VALUE=DATE:20210510
DTEND;VALUE=DATE:20210511
DTSTAMP:20260421T233519
CREATED:20210223T170755Z
LAST-MODIFIED:20210317T202020Z
UID:10000531-1620604800-1620691199@www.andersoncountysc.org
SUMMARY:County Offices Closed
DESCRIPTION:
URL:https://www.andersoncountysc.org/event/county-offices-closed-4/
LOCATION:SC
CATEGORIES:County Offices Closed
END:VEVENT
BEGIN:VEVENT
DTSTART;TZID=UTC:20210511T100000
DTEND;TZID=UTC:20210511T100000
DTSTAMP:20260421T233519
CREATED:20210412T180457Z
LAST-MODIFIED:20210412T180559Z
UID:10000549-1620727200-1620727200@www.andersoncountysc.org
SUMMARY:Senior Nutrition Vouchers Distribution
DESCRIPTION:The Anderson County Seniors Program will be help seniors process requests for the Senior Farmers Market Nutrition Program – Voucher Distribution for 2021. \nVolunteers and computers will be stationed to process SFMNP $25 vouchers to redeem with qualified farmers only. \nSeniors must be 60\, live in Anderson County\, meet income guidelines and have a valid photo ID to sign up! \nVouchers are first come first served. \nMay 11-13           10 AM-Noon \nMay 18-20           10 AM-Noon \nLocation: Anderson County Farmer’s Market this year. \n 
URL:https://www.andersoncountysc.org/event/senior-nutrition-vouchers-distribution/2021-05-11/
LOCATION:SC
CATEGORIES:Community Event
END:VEVENT
BEGIN:VEVENT
DTSTART;TZID=UTC:20210513T100000
DTEND;TZID=UTC:20210513T100000
DTSTAMP:20260421T233519
CREATED:20210412T180457Z
LAST-MODIFIED:20210412T180559Z
UID:10000550-1620900000-1620900000@www.andersoncountysc.org
SUMMARY:Senior Nutrition Vouchers Distribution
DESCRIPTION:The Anderson County Seniors Program will be help seniors process requests for the Senior Farmers Market Nutrition Program – Voucher Distribution for 2021. \nVolunteers and computers will be stationed to process SFMNP $25 vouchers to redeem with qualified farmers only. \nSeniors must be 60\, live in Anderson County\, meet income guidelines and have a valid photo ID to sign up! \nVouchers are first come first served. \nMay 11-13           10 AM-Noon \nMay 18-20           10 AM-Noon \nLocation: Anderson County Farmer’s Market this year. \n 
URL:https://www.andersoncountysc.org/event/senior-nutrition-vouchers-distribution/2021-05-13/
LOCATION:SC
CATEGORIES:Community Event
END:VEVENT
BEGIN:VEVENT
DTSTART;TZID=UTC:20210518T100000
DTEND;TZID=UTC:20210518T120000
DTSTAMP:20260421T233519
CREATED:20210412T181056Z
LAST-MODIFIED:20210412T181056Z
UID:10000551-1621332000-1621339200@www.andersoncountysc.org
SUMMARY:Senior Nutrition Vouchers Distribution
DESCRIPTION:The Anderson County Seniors Program will be help seniors process requests for the Senior Farmers Market Nutrition Program – Voucher Distribution for 2021. \nVolunteers and computers will be stationed to process SFMNP $25 vouchers to redeem with qualified farmers only. \nSeniors must be 60\, live in Anderson County\, meet income guidelines and have a valid photo ID to sign up! \nVouchers are first come first served. \n  \nMay 18-20           10 AM-Noon \nLocation: Anderson County Farmer’s Market this year.
URL:https://www.andersoncountysc.org/event/senior-nutrition-vouchers-distribution-2/2021-05-18/
LOCATION:Farmers Market\, 402 N. Murray Avenue\, Anderson\, SC\, 29625\, United States
CATEGORIES:Community Event
END:VEVENT
BEGIN:VEVENT
DTSTART;TZID=UTC:20210518T180000
DTEND;TZID=UTC:20210518T180000
DTSTAMP:20260421T233519
CREATED:20210323T233124Z
LAST-MODIFIED:20210323T233124Z
UID:10000542-1621360800-1621360800@www.andersoncountysc.org
SUMMARY:County Council Meeting
DESCRIPTION:Awards and Recognitions at 6 p.m. \nCouncil Meeting at 6:30 p.m. \nAgendas are posted to the County Council webpage.
URL:https://www.andersoncountysc.org/event/county-council-meeting-13/
LOCATION:Historic Courthouse\, 101 S. Main Street\, Anderson\, SC\, 29624\, United States
END:VEVENT
BEGIN:VEVENT
DTSTART;TZID=UTC:20210520T180000
DTEND;TZID=UTC:20210520T190000
DTSTAMP:20260421T233519
CREATED:20210514T143208Z
LAST-MODIFIED:20210514T143208Z
UID:10000565-1621533600-1621537200@www.andersoncountysc.org
SUMMARY:Planning Commission Meeting
DESCRIPTION:The Planning Commission will meet on Thursday\, May 20\, 2021 at 6pm at the Civic Center. The agenda and packet can be found below. \nMay 20\, 2021 Packet
URL:https://www.andersoncountysc.org/event/planning-commission-meeting-7/
LOCATION:Civic Center\, 3027 Martin Luther King Jr Blvd\, Anderson\, SC\, 29625\, United States
CATEGORIES:Planning Events
END:VEVENT
BEGIN:VEVENT
DTSTART;TZID=UTC:20210520T183000
DTEND;TZID=UTC:20210520T193000
DTSTAMP:20260421T233519
CREATED:20210514T012716Z
LAST-MODIFIED:20210514T013106Z
UID:10000563-1621535400-1621539000@www.andersoncountysc.org
SUMMARY:River Forks Recreation Area Public Meeting
DESCRIPTION:Anderson County will be hosting a public meeting regarding their proposed operation of River Forks Day Use Recreation Area.  Anderson County recently leased River Forks Day Use Area from the U.S. Army Corps of Engineers (USACE).  The USACE will present information regarding the terms and conditions of the recent lease of River Forks to Anderson County followed by a question and answer session.  The meeting will be held on May 20\, 2021 at 6:30 PM at Center Rock Fire Station (# 11) located at 5125 Dobbins Bridge Road\, Anderson\, SC 29626.
URL:https://www.andersoncountysc.org/event/river-forks-recreation-area-public-meeting/
LOCATION:Center Rock Fire Station\, 5125 Dobbins Bridge Road\, Anderson\, South Carolina\, 29626
CATEGORIES:Community Meeting
END:VEVENT
BEGIN:VEVENT
DTSTART;TZID=UTC:20210524T171500
DTEND;TZID=UTC:20210524T181500
DTSTAMP:20260421T233519
CREATED:20210524T175553Z
LAST-MODIFIED:20210524T175553Z
UID:10000571-1621876500-1621880100@www.andersoncountysc.org
SUMMARY:Board of Zoning Appeals Meeting
DESCRIPTION:The Board of Zoning Appeals will meet on Monday\, May 24\, 2021 at 5:15pm at the Civic Center. The agenda and packet can be found below. \nMay 24\, 2021 Packet
URL:https://www.andersoncountysc.org/event/board-of-zoning-appeals-meeting-2/
LOCATION:Civic Center\, 3027 Martin Luther King Jr Blvd\, Anderson\, SC\, 29625\, United States
CATEGORIES:Planning Events
END:VEVENT
BEGIN:VEVENT
DTSTART;TZID=UTC:20210525T180000
DTEND;TZID=UTC:20210525T190000
DTSTAMP:20260421T233519
CREATED:20210524T205454Z
LAST-MODIFIED:20210524T205454Z
UID:10000572-1621965600-1621969200@www.andersoncountysc.org
SUMMARY:Human Relations Council Meeting
DESCRIPTION:HRC Meeting Via Zoom Meeting: 576 481 7064 Passcode: Rights \n5.25.2021 HRC Agenda
URL:https://www.andersoncountysc.org/event/human-relations-council-meeting-2/
LOCATION:SC
CATEGORIES:Community Meeting
END:VEVENT
BEGIN:VEVENT
DTSTART;TZID=UTC:20210528T093000
DTEND;TZID=UTC:20210528T103000
DTSTAMP:20260421T233519
CREATED:20210526T201709Z
LAST-MODIFIED:20210526T201709Z
UID:10000573-1622194200-1622197800@www.andersoncountysc.org
SUMMARY:Finance Committee Meeting
DESCRIPTION:Anderson County Council Finance Committee will meet on Friday\, May 28\, 2021 at 9:30 a.m. in the second floor conference room\, 101 S. Main St.\, Anderson\, SC. \nAgenda
URL:https://www.andersoncountysc.org/event/finance-committee-meeting-5/
LOCATION:Historic Courthouse\, 101 S. Main Street\, Anderson\, SC\, 29624\, United States
END:VEVENT
BEGIN:VEVENT
DTSTART;VALUE=DATE:20210531
DTEND;VALUE=DATE:20210601
DTSTAMP:20260421T233519
CREATED:20210223T170810Z
LAST-MODIFIED:20210317T202020Z
UID:10000533-1622419200-1622505599@www.andersoncountysc.org
SUMMARY:County Offices Closed
DESCRIPTION:
URL:https://www.andersoncountysc.org/event/county-offices-closed-6/
LOCATION:SC
CATEGORIES:County Offices Closed
END:VEVENT
END:VCALENDAR