BEGIN:VCALENDAR
VERSION:2.0
PRODID:-//Anderson County - ECPv6.15.20//NONSGML v1.0//EN
CALSCALE:GREGORIAN
METHOD:PUBLISH
X-WR-CALNAME:Anderson County
X-ORIGINAL-URL:https://www.andersoncountysc.org
X-WR-CALDESC:Events for Anderson County
REFRESH-INTERVAL;VALUE=DURATION:PT1H
X-Robots-Tag:noindex
X-PUBLISHED-TTL:PT1H
BEGIN:VTIMEZONE
TZID:UTC
BEGIN:STANDARD
TZOFFSETFROM:+0000
TZOFFSETTO:+0000
TZNAME:UTC
DTSTART:20200101T000000
END:STANDARD
END:VTIMEZONE
BEGIN:VEVENT
DTSTART;TZID=UTC:20210601T180000
DTEND;TZID=UTC:20210601T180000
DTSTAMP:20260421T220213
CREATED:20210323T233917Z
LAST-MODIFIED:20210323T233917Z
UID:10000543-1622570400-1622570400@www.andersoncountysc.org
SUMMARY:County Council Meeting
DESCRIPTION:Awards and Recognitions at 6 p.m. \nCouncil Meeting at 6:30 p.m. \nAgendas are posted to the County Council webpage.
URL:https://www.andersoncountysc.org/event/county-council-meeting-14/
LOCATION:Historic Courthouse\, 101 S. Main Street\, Anderson\, SC\, 29624\, United States
END:VEVENT
BEGIN:VEVENT
DTSTART;TZID=UTC:20210601T180000
DTEND;TZID=UTC:20210601T193000
DTSTAMP:20260421T220213
CREATED:20210528T190927Z
LAST-MODIFIED:20210528T190927Z
UID:10000574-1622570400-1622575800@www.andersoncountysc.org
SUMMARY:Council Meeting
DESCRIPTION:Awards and Recognitions at 6 p.m.\nCouncil Meeting at 6:30 p.m.\nAgenda
URL:https://www.andersoncountysc.org/event/council-meeting/
LOCATION:Historic Courthouse\, 101 S. Main Street\, Anderson\, SC\, 29624\, United States
CATEGORIES:County Council Meeting
END:VEVENT
BEGIN:VEVENT
DTSTART;TZID=UTC:20210608T180000
DTEND;TZID=UTC:20210608T190000
DTSTAMP:20260421T220213
CREATED:20210603T160315Z
LAST-MODIFIED:20210603T160315Z
UID:10000575-1623175200-1623178800@www.andersoncountysc.org
SUMMARY:Planning Commission Meeting
DESCRIPTION:The Planning Commission will meet on Tuesday\, June 8\, 2021 at 6pm at the Civic Center. The agenda and packet can be found below. \nJune 8\, 2021 Packet
URL:https://www.andersoncountysc.org/event/planning-commission-meeting-8/
LOCATION:Civic Center\, 3027 Martin Luther King Jr Blvd\, Anderson\, SC\, 29625\, United States
CATEGORIES:Planning Events
END:VEVENT
BEGIN:VEVENT
DTSTART;TZID=UTC:20210610T171500
DTEND;TZID=UTC:20210610T181500
DTSTAMP:20260421T220213
CREATED:20210607T171659Z
LAST-MODIFIED:20210607T171659Z
UID:10000576-1623345300-1623348900@www.andersoncountysc.org
SUMMARY:Board of Zoning Appeals Meeting
DESCRIPTION:The Board of Zoning Appeals will meet on Thursday\, June 10\, 2021 at 5:15pm at the Civic Center. The agenda and packet can be found below. \nJune 10\, 2021 Packet
URL:https://www.andersoncountysc.org/event/board-of-zoning-appeals-meeting-3/
LOCATION:Civic Center\, 3027 Martin Luther King Jr Blvd\, Anderson\, SC\, 29625\, United States
END:VEVENT
BEGIN:VEVENT
DTSTART;TZID=UTC:20210611T100000
DTEND;TZID=UTC:20210611T110000
DTSTAMP:20260421T220213
CREATED:20210609T202801Z
LAST-MODIFIED:20210609T202851Z
UID:10000577-1623405600-1623409200@www.andersoncountysc.org
SUMMARY:County Council: Oath of Office
DESCRIPTION:A special meeting of Anderson County Council to administer the oath of office for Councilman-Elect Glenn Davis\, County Council District Two. The meeting will take place Friday\, June 11\, 2021 at 10:00 a.m. in Council Chambers\, Historic Courthouse\, 101 S Main St\, Anderson\, SC 29624. \nAgenda
URL:https://www.andersoncountysc.org/event/16664/
LOCATION:Historic Courthouse\, 101 S. Main Street\, Anderson\, SC\, 29624\, United States
CATEGORIES:County Council Meeting
ATTACH;FMTTYPE=image/jpeg:https://www.andersoncountysc.org/wp-content/uploads/2021/03/Drone_Historic-Courthouse1Rev.jpg
END:VEVENT
BEGIN:VEVENT
DTSTART;TZID=UTC:20210614T133000
DTEND;TZID=UTC:20210614T143000
DTSTAMP:20260421T220213
CREATED:20210611T200905Z
LAST-MODIFIED:20210611T201055Z
UID:10000578-1623677400-1623681000@www.andersoncountysc.org
SUMMARY:Purchasing Ad-Hoc Committee Meeting
DESCRIPTION:Anderson County Council Ad-Hoc Purchasing Committee Meeting is scheduled to meet on Monday\, June 14\, 2021 at 1:30 p.m.\, which will take place in the second floor Administrator’s Conference Room\, Historic Courthouse\, 101 S. Main St.\, Anderson\, SC 29624. \nAGENDA \n 
URL:https://www.andersoncountysc.org/event/purchasing-ad-hoc-committee-meeting/
LOCATION:Historic Courthouse\, 101 S. Main Street\, Anderson\, SC\, 29624\, United States
CATEGORIES:County Council Meeting
ATTACH;FMTTYPE=image/jpeg:https://www.andersoncountysc.org/wp-content/uploads/2021/03/Drone_Historic-Courthouse1Rev.jpg
END:VEVENT
BEGIN:VEVENT
DTSTART;TZID=UTC:20210614T183000
DTEND;TZID=UTC:20210614T200000
DTSTAMP:20260421T220213
CREATED:20210611T201551Z
LAST-MODIFIED:20210611T201551Z
UID:10000579-1623695400-1623700800@www.andersoncountysc.org
SUMMARY:County Council Meeting
DESCRIPTION:The Anderson County Council Regular Meeting is scheduled for Monday\, June 14\, 2021 at 6:30 p.m.\, which will take place in Council Chambers\, Administrator’s Conference Room\, Historic Courthouse\, 101 S. Main St.\, Anderson\, SC 29624. \nAGENDA
URL:https://www.andersoncountysc.org/event/county-council-meeting-20/
LOCATION:Historic Courthouse\, 101 S. Main Street\, Anderson\, SC\, 29624\, United States
CATEGORIES:County Council Meeting
ATTACH;FMTTYPE=image/jpeg:https://www.andersoncountysc.org/wp-content/uploads/2021/03/Drone_Historic-Courthouse1Rev.jpg
END:VEVENT
BEGIN:VEVENT
DTSTART;TZID=UTC:20210615T180000
DTEND;TZID=UTC:20210615T190000
DTSTAMP:20260421T220213
CREATED:20210520T143647Z
LAST-MODIFIED:20210609T134737Z
UID:10000569-1623780000-1623783600@www.andersoncountysc.org
SUMMARY:Legislative Delegation Meeting
DESCRIPTION:Representative Westley P. “West” Cox\, Chairman of the Anderson County Legislative Delegation\, has called a Delegation Meeting to be held on Tuesday\, June 15\, 2021\, 6:00 P.M. at the Ronald Townsend Government Building\, 2404 N. Main St.\, Anderson\, SC. \nAGENDA \nAnyone interested in applying for appointment to any of the above-mentioned boards or commissions\, please contact the Anderson County Legislative Delegation Office at 864-260-4025 immediately for an application or go online to www.andersoncountysc.org\, select Departments\, then select Legislative Delegation and the application is under Quick Links.  These applications must be completed and returned to the Delegation Office (Post Office Box 8002\, Anderson\, SC  29622) no later than Friday\, May 28\, 2021. The Anderson County Legislative Delegation extends a cordial invitation to the general public and welcomes their attendance.
URL:https://www.andersoncountysc.org/event/16297/
LOCATION:Ronald P. Townsend Building\, 2404 N. Main Street\, Anderson\, SC\, 29621\, United States
CATEGORIES:Legislative Delegation
ATTACH;FMTTYPE=image/png:https://www.andersoncountysc.org/wp-content/uploads/2021/03/Townsend-Building-2-2.png
ORGANIZER;CN="Caroline Piaso":MAILTO:cpiasio@andersoncountysc.org
END:VEVENT
BEGIN:VEVENT
DTSTART;TZID=UTC:20210622T180000
DTEND;TZID=UTC:20210622T190000
DTSTAMP:20260421T220213
CREATED:20210621T193834Z
LAST-MODIFIED:20210621T193834Z
UID:10000580-1624384800-1624388400@www.andersoncountysc.org
SUMMARY:Human Relations Council Meeting
DESCRIPTION:The Human Relations Council will meet on Tuesday\, June 22 at 6 p.m. via Zoom. \nZoom Meeting: 576 481 7064 \nPasscode: Rights \n6. 22.21 HRC Meeting Agenda
URL:https://www.andersoncountysc.org/event/human-relations-council-meeting-3/
LOCATION:SC
END:VEVENT
END:VCALENDAR