BEGIN:VCALENDAR
VERSION:2.0
PRODID:-//Anderson County - ECPv6.15.20//NONSGML v1.0//EN
CALSCALE:GREGORIAN
METHOD:PUBLISH
X-ORIGINAL-URL:https://www.andersoncountysc.org
X-WR-CALDESC:Events for Anderson County
REFRESH-INTERVAL;VALUE=DURATION:PT1H
X-Robots-Tag:noindex
X-PUBLISHED-TTL:PT1H
BEGIN:VTIMEZONE
TZID:UTC
BEGIN:STANDARD
TZOFFSETFROM:+0000
TZOFFSETTO:+0000
TZNAME:UTC
DTSTART:20200101T000000
END:STANDARD
END:VTIMEZONE
BEGIN:VEVENT
DTSTART;TZID=UTC:20210802T160000
DTEND;TZID=UTC:20210802T170000
DTSTAMP:20260421T184925
CREATED:20210712T140806Z
LAST-MODIFIED:20210712T140806Z
UID:10000585-1627920000-1627923600@www.andersoncountysc.org
SUMMARY:ACTC Meeting
DESCRIPTION:The Anderson County Transportation Committee will meet on Monday\, August 2\, 2021 at 4 o’clock via Microsoft Teams. The meeting is open to the public at the Public Works Office located at 1428 Pearman Dairy Road\, Anderson\, SC 29625.
URL:https://www.andersoncountysc.org/event/actc-meeting-4/
LOCATION:SC
END:VEVENT
BEGIN:VEVENT
DTSTART;TZID=UTC:20210803T180000
DTEND;TZID=UTC:20210803T193000
DTSTAMP:20260421T184925
CREATED:20210730T184331Z
LAST-MODIFIED:20210730T184718Z
UID:10000499-1628013600-1628019000@www.andersoncountysc.org
SUMMARY:County Council Meeting
DESCRIPTION:The Anderson County Council will meet on Tuesday\, August 3\, 2021 at 6:00 p.m. \nThe meeting will take place in Council Chambers at the Historic Courthouse\, 101 S. Main Street\, Anderson\, SC 29624. \n8.3.2021 Council Agenda Packet
URL:https://www.andersoncountysc.org/event/county-council-meeting-15/
LOCATION:Historic Courthouse\, 101 S. Main Street\, Anderson\, SC\, 29624\, United States
CATEGORIES:County Council Meeting
ATTACH;FMTTYPE=image/jpeg:https://www.andersoncountysc.org/wp-content/uploads/2021/03/Drone_Historic-Courthouse1Rev.jpg
END:VEVENT
BEGIN:VEVENT
DTSTART;TZID=UTC:20210810T180000
DTEND;TZID=UTC:20210810T190000
DTSTAMP:20260421T184925
CREATED:20210730T200737Z
LAST-MODIFIED:20210730T200737Z
UID:10000500-1628618400-1628622000@www.andersoncountysc.org
SUMMARY:Planning Commission Meeting
DESCRIPTION:The Planning Commission will meet on Tuesday\, August 10\, 2021 at at 6 pm at the Historic Courthouse. The agenda and packet can be found below. \nAugust 10\, 2021 Packet
URL:https://www.andersoncountysc.org/event/planning-commission-meeting-10/
LOCATION:Historic Courthouse\, 101 S. Main Street\, Anderson\, SC\, 29624\, United States
END:VEVENT
BEGIN:VEVENT
DTSTART;TZID=UTC:20210817T180000
DTEND;TZID=UTC:20210817T193000
DTSTAMP:20260421T184925
CREATED:20210813T205836Z
LAST-MODIFIED:20210813T205919Z
UID:10000503-1629223200-1629228600@www.andersoncountysc.org
SUMMARY:County Council Meeting
DESCRIPTION:The Anderson County Council will meet on Tuesday\, August 17\, 2021 at 6:00 p.m. \nThe meeting will take place in Council Chambers at the Historic Courthouse\, 101 S. Main Street\, Anderson\, SC 29624. \n8.17.2021 Council Agenda Packet
URL:https://www.andersoncountysc.org/event/county-council/
LOCATION:Historic Courthouse\, 101 S. Main Street\, Anderson\, SC\, 29624\, United States
CATEGORIES:County Council Meeting
ATTACH;FMTTYPE=image/jpeg:https://www.andersoncountysc.org/wp-content/uploads/2021/03/Drone_Historic-Courthouse1Rev.jpg
END:VEVENT
BEGIN:VEVENT
DTSTART;TZID=UTC:20210824T120000
DTEND;TZID=UTC:20210824T130000
DTSTAMP:20260421T184925
CREATED:20210821T003528Z
LAST-MODIFIED:20210821T011804Z
UID:10000504-1629806400-1629810000@www.andersoncountysc.org
SUMMARY:Planning & Public Works Committee Meeting
DESCRIPTION:Planning & Public Works Committee Meeting scheduled for Tuesday\, August 24\, 2021 at 12:00 noon. The meeting will be held at the Historic Courthouse\, 101 S. Main Street\, Anderson. \n8.24.2021 Planning Public Works Agenda
URL:https://www.andersoncountysc.org/event/planning-public-works-committee-meeting-2/
LOCATION:Historic Courthouse\, 101 S. Main Street\, Anderson\, SC\, 29624\, United States
CATEGORIES:County Council Meeting
ATTACH;FMTTYPE=image/jpeg:https://www.andersoncountysc.org/wp-content/uploads/2021/03/Drone_Historic-Courthouse1Rev.jpg
END:VEVENT
BEGIN:VEVENT
DTSTART;TZID=UTC:20210824T180000
DTEND;TZID=UTC:20210824T183000
DTSTAMP:20260421T184925
CREATED:20210823T202935Z
LAST-MODIFIED:20210823T202935Z
UID:10000505-1629828000-1629829800@www.andersoncountysc.org
SUMMARY:HRC Meeting
DESCRIPTION:The Human Relations Council will meet on Tuesday\, August 24\, 2021 at 6 o’clock in the evening. \nZoom Meeting: 576 481 7064 \nPasscode: Rights \n8.24.21 HRC Meeting Agenda
URL:https://www.andersoncountysc.org/event/hrc-meeting/
LOCATION:SC
CATEGORIES:Community Meeting
END:VEVENT
BEGIN:VEVENT
DTSTART;TZID=UTC:20210830T083000
DTEND;TZID=UTC:20210830T093000
DTSTAMP:20260421T184925
CREATED:20210827T205658Z
LAST-MODIFIED:20210827T205658Z
UID:10000506-1630312200-1630315800@www.andersoncountysc.org
SUMMARY:Public Safety Committee Meeting
DESCRIPTION:The Anderson County Council Public Safety Committee Meeting will meet on Monday\, August 30\, 2021 at 8:30 a.m. The meeting will take place in Council Chambers at the Historic Courthouse\, 101 S. Main St.\, Anderson\, SC 29624. \nAGENDA
URL:https://www.andersoncountysc.org/event/public-safety-committee-meeting-4/
LOCATION:Historic Courthouse\, 101 S. Main Street\, Anderson\, SC\, 29624\, United States
CATEGORIES:County Council Meeting
ATTACH;FMTTYPE=image/jpeg:https://www.andersoncountysc.org/wp-content/uploads/2021/03/Drone_Historic-Courthouse1Rev.jpg
END:VEVENT
END:VCALENDAR