BEGIN:VCALENDAR
VERSION:2.0
PRODID:-//Anderson County - ECPv6.15.20//NONSGML v1.0//EN
CALSCALE:GREGORIAN
METHOD:PUBLISH
X-ORIGINAL-URL:https://www.andersoncountysc.org
X-WR-CALDESC:Events for Anderson County
REFRESH-INTERVAL;VALUE=DURATION:PT1H
X-Robots-Tag:noindex
X-PUBLISHED-TTL:PT1H
BEGIN:VTIMEZONE
TZID:UTC
BEGIN:STANDARD
TZOFFSETFROM:+0000
TZOFFSETTO:+0000
TZNAME:UTC
DTSTART:20200101T000000
END:STANDARD
END:VTIMEZONE
BEGIN:VEVENT
DTSTART;TZID=UTC:20211005T080000
DTEND;TZID=UTC:20211005T090000
DTSTAMP:20260421T152716
CREATED:20211001T214735Z
LAST-MODIFIED:20211001T215603Z
UID:10000509-1633420800-1633424400@www.andersoncountysc.org
SUMMARY:Personnel Committee Meeting
DESCRIPTION:The Anderson County Council Personnel Committee will meet on Tuesday\, October 5\, 2021 at 8:00 a.m. \nThe meeting will take place  at the Historic Courthouse\, 101 S. Main Street\, Anderson\, SC 29624. \nAgenda: 10.5.2021 Personnel Committee Meeting
URL:https://www.andersoncountysc.org/event/personnel-committee-meeting-2/
LOCATION:Historic Courthouse\, 101 S. Main Street\, Anderson\, SC\, 29624\, United States
CATEGORIES:Council Committee Meeting
ATTACH;FMTTYPE=image/jpeg:https://www.andersoncountysc.org/wp-content/uploads/2021/03/Drone_Historic-Courthouse1Rev.jpg
END:VEVENT
BEGIN:VEVENT
DTSTART;TZID=UTC:20211005T180000
DTEND;TZID=UTC:20211005T193000
DTSTAMP:20260421T152716
CREATED:20211001T213303Z
LAST-MODIFIED:20211004T133756Z
UID:10000508-1633456800-1633462200@www.andersoncountysc.org
SUMMARY:County Council Meeting
DESCRIPTION:The Anderson County Council will meet on Tuesday\, October 5\, 2021 in the Council Chambers\, Historic Courthouse\, 101 S. Main St.\, Anderson\, SC 29624. \nAwards and Recognitions at 6 p.m.\nCouncil Meeting at 6:30 p.m. \n10.5.2021 Council Meeting
URL:https://www.andersoncountysc.org/event/county-council-meeting-19/
LOCATION:Historic Courthouse\, 101 S. Main Street\, Anderson\, SC\, 29624\, United States
CATEGORIES:County Council Meeting
ATTACH;FMTTYPE=image/jpeg:https://www.andersoncountysc.org/wp-content/uploads/2021/03/Drone_Historic-Courthouse1Rev.jpg
END:VEVENT
BEGIN:VEVENT
DTSTART;TZID=UTC:20211010T170000
DTEND;TZID=UTC:20211010T180000
DTSTAMP:20260421T152716
CREATED:20211006T155013Z
LAST-MODIFIED:20211006T155155Z
UID:10000512-1633885200-1633888800@www.andersoncountysc.org
SUMMARY:World Mental Health Day
DESCRIPTION:World Mental Health Day will meet via Zoom on Sunday\, October 10\, 2021 at 5 p.m. \nZoom Meeting ID: 5764817064 \nPasscode: Breathe
URL:https://www.andersoncountysc.org/event/world-mental-health-day/
LOCATION:SC
CATEGORIES:Community Event
ATTACH;FMTTYPE=image/png:https://www.andersoncountysc.org/wp-content/uploads/2021/06/HRC-Logo_Website-1440x600-2-e1664202440957.png
END:VEVENT
BEGIN:VEVENT
DTSTART;TZID=UTC:20211011T180000
DTEND;TZID=UTC:20211011T190000
DTSTAMP:20260421T152716
CREATED:20211011T133304Z
LAST-MODIFIED:20211011T133554Z
UID:10000514-1633975200-1633978800@www.andersoncountysc.org
SUMMARY:Accommodations Tax Advisory Committee
DESCRIPTION:Accommodations Tax Advisory Committee will meet on Monday\, October 11\, 2021 at 6 p.m. at the Civic Center of Anderson. \nAgenda \n\nCall to order\nElect Committee Chairperson\nReview 2021-22 Accommodations Tax Grant Requests\nAdjourn
URL:https://www.andersoncountysc.org/event/18203/
LOCATION:ASEC | Anderson Sports & Entertainment Center\, 3027 Martin Luther King Jr. Boulevard\, Anderson\, SC\, 29625\, United States
CATEGORIES:Committee Meetings
ATTACH;FMTTYPE=image/jpeg:https://www.andersoncountysc.org/wp-content/uploads/2021/02/mission-statement.jpg
END:VEVENT
BEGIN:VEVENT
DTSTART;TZID=UTC:20211012T180000
DTEND;TZID=UTC:20211012T193000
DTSTAMP:20260421T152716
CREATED:20211004T171417Z
LAST-MODIFIED:20211004T171539Z
UID:10000510-1634061600-1634067000@www.andersoncountysc.org
SUMMARY:Planning Commission Meeting
DESCRIPTION:The Planning Commission will meet on Tuesday\, October 12\, 2021 at at 6 pm at the Historic Courthouse. The agenda and packet can be found below. \nOctober 12\, 2021 Packet
URL:https://www.andersoncountysc.org/event/18087/
LOCATION:Historic Courthouse\, 101 S. Main Street\, Anderson\, SC\, 29624\, United States
CATEGORIES:Planning Events
ORGANIZER;CN="Brittany McAbee":MAILTO:bdmcabee@andersoncountysc.org
END:VEVENT
BEGIN:VEVENT
DTSTART;TZID=UTC:20211014T171500
DTEND;TZID=UTC:20211014T174500
DTSTAMP:20260421T152716
CREATED:20210930T205046Z
LAST-MODIFIED:20210930T205056Z
UID:10000507-1634231700-1634233500@www.andersoncountysc.org
SUMMARY:Board of Zoning Appeals Meeting
DESCRIPTION:The Board of Zoning Appeals will meet on Thursday\, October 14\, 2021 at 5:15pm at the Historic Courthouse. The agenda and packet can be found below. \nOctober 14\, 2021 Packet
URL:https://www.andersoncountysc.org/event/board-of-zoning-appeals-meeting-5/
LOCATION:Historic Courthouse\, 101 S. Main Street\, Anderson\, SC\, 29624\, United States
CATEGORIES:Planning Events
ORGANIZER;CN="Brittany McAbee":MAILTO:bdmcabee@andersoncountysc.org
END:VEVENT
BEGIN:VEVENT
DTSTART;VALUE=DATE:20211015
DTEND;VALUE=DATE:20211016
DTSTAMP:20260421T152716
CREATED:20211006T160437Z
LAST-MODIFIED:20211006T160620Z
UID:10000513-1634256000-1634342399@www.andersoncountysc.org
SUMMARY:Historic Heritage Month
DESCRIPTION:Human Relations Council celebrates Historic Heritage Month during September 15 – October 15\, 2021. \n 
URL:https://www.andersoncountysc.org/event/historic-heritage-month/
LOCATION:SC
CATEGORIES:Community Event
ATTACH;FMTTYPE=image/png:https://www.andersoncountysc.org/wp-content/uploads/2021/10/HRC_Hispanic-Heritage_2021.png
END:VEVENT
BEGIN:VEVENT
DTSTART;TZID=UTC:20211018T140000
DTEND;TZID=UTC:20211018T143000
DTSTAMP:20260421T152716
CREATED:20211019T130457Z
LAST-MODIFIED:20211019T130457Z
UID:10000516-1634565600-1634567400@www.andersoncountysc.org
SUMMARY:Belton Landing Ribbon Cutting
DESCRIPTION:THE CITY OF BELTON TO HOST RIBBON-CUTTING EVENT TO CELEBRATE IMPROVEMENTS AT BELTON LANDING \n The City of Belton will hold a ribbon-cutting event at Belton Landing on the Saluda River on Monday\, October 18th at 2:00 PM to celebrate the completion of major redevelopment efforts at the facility.  The event will take place at 2520 SC Hwy 247\, Belton SC\, 29627.   \nThe redevelopment efforts at Belton Landing are the result of an ongoing partnership between the City of Belton\, Anderson County\, the Duke Energy Foundation\, and the Anderson County Legislative Delegation.  The project received a $100\,000 grant from the Duke Energy Foundation’s Water Resources Fund and a $35\,000 grant from the SCPRT Parks and Recreation Development (PARD) program.  Improvements at the facility include improved parking and access as well as the installation of an ADA-accessible kayak launch. \nBelton Landing represents the third major improvement project along the Anderson County portion of the Saluda River Blue Trail in recent years. Conceived by a consortium of public entities\, private sector interests\, advocates for the physically-challenged\, environmental groups\, and other stakeholders\, the blue trail enhances water recreational access for six South Carolina counties along the Saluda River. Along with its sister sites in Powdersville and Pelzer\, Belton Landing promotes and preserves our local natural resources through the creation of river access points and resource awareness opportunities. \nBelton Landing serves as the southern anchor of a 20-mile segment of the Blue Trail that begins at Dolly Cooper Park in Powdersville. The Belton Access is located about 3 miles south of Duke Energy’s new 750-megawatt combined-cycle natural gas plant at the W.S. Lee Station.  Over one million people live within 50 miles of the Belton Access. The site’s convenient location makes it an attractive destination for kayakers\, anglers\, wildlife watchers\, and those seeking more passive recreational interests. \nBelton Landing is owned and operated by the City of Belton. \n  \nQUOTES \n“The City of Belton is proud to host this facility and we look forward to meeting visitors from all across the nation.  I am grateful to the Belton City Council and former Mayor Wendell Page for their efforts to move this project forward—we wouldn’t be here today without their support.” – Mayor Eleanor Dorn\, City of Belton \n  \n“The City of Belton has been working very hard to attract cultural and nature-based tourism to the community\, and the improvements at Belton Landing are significant step forward in that effort. I am very proud that Anderson County was able to partner with the city on this project\, and I am confident that the Saluda River Blue Trail will continue to grow into a beloved and nationally-recognized regional amenity.”—Anderson County Councilman Ray Graham \n“Our partnership with the Duke Energy Foundation continues to bring many benefits to our region.  Duke Energy has been a wonderful steward of hydroelectric power and recreational resources on the Saluda River\, and we very much appreciate their high level of positive participation in our community.” — Anderson County Councilmember Cindy Wilson \n“The Saluda River Blue Trail directly serves hundreds of my constituents and benefits several cities\, towns\, and unincorporated communities in our region.  On behalf of the Anderson County Legislative Delegation\, I congratulate the City of Belton on its efforts to provide sustainable\, nature-based tourism and recreation opportunities.” –Senator Mike Gambrell\, South Carolina Senate District Four \n“It is hard to overstate the importance of the Belton Landing project to our community.  The facility will not only serve to improve river access and provide economic stimulus to the Belton area\, but will also raise awareness to the fundamental importance of preserving our pristine natural resources.”—Representative Jay West\, South Carolina House District Seven \n###
URL:https://www.andersoncountysc.org/event/belton-landing-ribbon-cutting/
LOCATION:SC
CATEGORIES:Community Event
END:VEVENT
BEGIN:VEVENT
DTSTART;TZID=UTC:20211019T183000
DTEND;TZID=UTC:20211019T193000
DTSTAMP:20260421T152716
CREATED:20211015T213302Z
LAST-MODIFIED:20211018T194832Z
UID:10000515-1634668200-1634671800@www.andersoncountysc.org
SUMMARY:County Council Meeting
DESCRIPTION:The Anderson County Council will meet on Tuesday\, October 19\, 2021 at 6:30 p.m. in the Council Chambers\, Historic Courthouse\, 101 S. Main St.\, Anderson\, SC 29624. \n10.19.2021 Amended Council Agenda
URL:https://www.andersoncountysc.org/event/county-council-meeting-21/
LOCATION:Historic Courthouse\, 101 S. Main Street\, Anderson\, SC\, 29624\, United States
CATEGORIES:County Council Meeting
END:VEVENT
BEGIN:VEVENT
DTSTART;TZID=UTC:20211020T110000
DTEND;TZID=UTC:20211020T120000
DTSTAMP:20260421T152716
CREATED:20211019T131306Z
LAST-MODIFIED:20211019T131306Z
UID:10000606-1634727600-1634731200@www.andersoncountysc.org
SUMMARY:PAWS Dog Park
DESCRIPTION:Anderson County PAWS invites you to the grand opening ceremony of the PAWS Dog Park on October 20th at 11 a.m.  The one of a kind PAWS Park will provide a safe and fun place for the animals and people of our community to gather.  In the future\, we look forward to hosting a wide array of activities such as yoga\, dog training\, and movie nights at PAWS Park.  Come out and see how you can enjoy this beautiful new space! \nJoin us Saturday\, October 23rd for our Fall Festival and Trick or Treating.  The Festival runs from 3-5 p.m. and includes  vendors\, games\, movies\, and animals for adoption.  Trick or Treating will take place from 5-8 p.m.  Come out and join in the fun!
URL:https://www.andersoncountysc.org/event/paws-dog-park/
LOCATION:PAWS\, 1320 Hwy. 29 South\, Anderson\, SC\, 29626\, United States
CATEGORIES:Community Event
END:VEVENT
BEGIN:VEVENT
DTSTART;TZID=UTC:20211029T081500
DTEND;TZID=UTC:20211029T093000
DTSTAMP:20260421T152716
CREATED:20211028T202747Z
LAST-MODIFIED:20211028T203227Z
UID:10000608-1635495300-1635499800@www.andersoncountysc.org
SUMMARY:Finance Committee Meeting
DESCRIPTION:The Anderson County Council Finance Committee will meet on Friday\, October 29\, 2021 at 8:15 a.m.  The meeting will be held at the Historic Courthouse\, 101 S. Main Street\, Anderson\, SC 29624. \n10.29.21 Finance Committee Agenda
URL:https://www.andersoncountysc.org/event/finance-committee-meeting-7/
LOCATION:Historic Courthouse\, 101 S. Main Street\, Anderson\, SC\, 29624\, United States
CATEGORIES:Council Committee Meeting
ATTACH;FMTTYPE=image/jpeg:https://www.andersoncountysc.org/wp-content/uploads/2021/03/Drone_Historic-Courthouse1Rev.jpg
ORGANIZER;CN="Renee Watts":MAILTO:rdwatts@andersoncountysc.org
END:VEVENT
END:VCALENDAR