BEGIN:VCALENDAR
VERSION:2.0
PRODID:-//Anderson County - ECPv6.15.20//NONSGML v1.0//EN
CALSCALE:GREGORIAN
METHOD:PUBLISH
X-WR-CALNAME:Anderson County
X-ORIGINAL-URL:https://www.andersoncountysc.org
X-WR-CALDESC:Events for Anderson County
REFRESH-INTERVAL;VALUE=DURATION:PT1H
X-Robots-Tag:noindex
X-PUBLISHED-TTL:PT1H
BEGIN:VTIMEZONE
TZID:UTC
BEGIN:STANDARD
TZOFFSETFROM:+0000
TZOFFSETTO:+0000
TZNAME:UTC
DTSTART:20200101T000000
END:STANDARD
END:VTIMEZONE
BEGIN:VEVENT
DTSTART;TZID=UTC:20211101T160000
DTEND;TZID=UTC:20211101T170000
DTSTAMP:20260421T132606
CREATED:20211004T200649Z
LAST-MODIFIED:20211004T200649Z
UID:10000511-1635782400-1635786000@www.andersoncountysc.org
SUMMARY:ACTC Meeting
DESCRIPTION:The Anderson County Transportation Committee (ACTC) will meet on Monday\, November 1\, 2021 at 4 o’clock via Microsoft Teams. The meeting is open to the public at the Anderson County Public Works Complex located at 1428 Pearman Dairy Road\, Anderson\, SC 29625. \nACTC NOTICE November 01\, 2021
URL:https://www.andersoncountysc.org/event/actc-meeting-6/
LOCATION:1428 County Complex\, 1428 Pearman Dairy Road\, Anderson\, 29625\, United States
CATEGORIES:Committee Meetings
ATTACH;FMTTYPE=image/png:https://www.andersoncountysc.org/wp-content/uploads/2021/04/Screen-Shot-2021-04-19-at-11.27.19-AM.png
ORGANIZER;CN="Brittany Burdette":MAILTO:bnburdette@andersoncountysc.org
END:VEVENT
BEGIN:VEVENT
DTSTART;TZID=UTC:20211102T180000
DTEND;TZID=UTC:20211102T180000
DTSTAMP:20260421T132606
CREATED:20211029T202358Z
LAST-MODIFIED:20211029T203044Z
UID:10000610-1635876000-1635876000@www.andersoncountysc.org
SUMMARY:County Council Meeting
DESCRIPTION:The Anderson County Council will meet on Tuesday\, November 2\, 2021 in the Council Chambers\, Historic Courthouse\, 101 S. Main St.\, Anderson\, SC 29624. \nAwards and Recognitions at 6 p.m.\nCouncil Meeting at 6:30 p.m. \n11.2.2021 Council Agenda Packet
URL:https://www.andersoncountysc.org/event/county-council-meeting-22/
LOCATION:Historic Courthouse\, 101 S. Main Street\, Anderson\, SC\, 29624\, United States
CATEGORIES:County Council Meeting
ATTACH;FMTTYPE=image/jpeg:https://www.andersoncountysc.org/wp-content/uploads/2021/03/Drone_Historic-Courthouse1Rev.jpg
ORGANIZER;CN="Renee Watts":MAILTO:rdwatts@andersoncountysc.org
END:VEVENT
BEGIN:VEVENT
DTSTART;TZID=UTC:20211107T150000
DTEND;TZID=UTC:20211107T170000
DTSTAMP:20260421T132606
CREATED:20211107T154024Z
LAST-MODIFIED:20211107T154024Z
UID:10000616-1636297200-1636304400@www.andersoncountysc.org
SUMMARY:Veterans Parade
DESCRIPTION:The Anderson County Veterans Parade is November 7\, 2021 at 3 o’clock – Main Street – Downtown Anderson.
URL:https://www.andersoncountysc.org/event/veterans-parade/
LOCATION:SC
CATEGORIES:Community Event
ATTACH;FMTTYPE=image/jpeg:https://www.andersoncountysc.org/wp-content/uploads/2021/11/veterans-flag.jpg
END:VEVENT
BEGIN:VEVENT
DTSTART;TZID=UTC:20211109T180000
DTEND;TZID=UTC:20211109T193000
DTSTAMP:20260421T132606
CREATED:20211102T180316Z
LAST-MODIFIED:20211102T180316Z
UID:10000611-1636480800-1636486200@www.andersoncountysc.org
SUMMARY:Planning Commission Meeting
DESCRIPTION:The Planning Commission will meet on Tuesday\, November 9\, 2021 at at 6 pm at the Historic Courthouse. The agenda and packet can be found below. \nNovember 9\, 2021 Packet
URL:https://www.andersoncountysc.org/event/planning-commission-meeting-12/
LOCATION:Historic Courthouse\, 101 S. Main Street\, Anderson\, SC\, 29624\, United States
CATEGORIES:Planning Events
ORGANIZER;CN="Brittany McAbee":MAILTO:bdmcabee@andersoncountysc.org
END:VEVENT
BEGIN:VEVENT
DTSTART;VALUE=DATE:20211111
DTEND;VALUE=DATE:20211112
DTSTAMP:20260421T132606
CREATED:20210223T170755Z
LAST-MODIFIED:20210317T202020Z
UID:10000532-1636588800-1636675199@www.andersoncountysc.org
SUMMARY:County Offices Closed
DESCRIPTION:
URL:https://www.andersoncountysc.org/event/county-offices-closed-5/
LOCATION:SC
CATEGORIES:County Offices Closed
END:VEVENT
BEGIN:VEVENT
DTSTART;TZID=UTC:20211114T150000
DTEND;TZID=UTC:20211114T170000
DTSTAMP:20260421T132606
CREATED:20211103T145644Z
LAST-MODIFIED:20211103T145917Z
UID:10000615-1636902000-1636909200@www.andersoncountysc.org
SUMMARY:Senior Citizens Program 40th Birthday
DESCRIPTION:Come & Celebrate the Anderson County Senior Citizens Program’s 40th birthday! \n 
URL:https://www.andersoncountysc.org/event/senior-citizens-program-40th-birthday/
LOCATION:McCants Community Campus\, 101 S. Fant Street\, Anderson\, SC\, 29624\, United States
CATEGORIES:Community Event
ATTACH;FMTTYPE=image/png:https://www.andersoncountysc.org/wp-content/uploads/2021/11/Senior-Citizens-Program_40th-1.png
END:VEVENT
BEGIN:VEVENT
DTSTART;TZID=UTC:20211116T180000
DTEND;TZID=UTC:20211116T193000
DTSTAMP:20260421T132606
CREATED:20211102T192451Z
LAST-MODIFIED:20211115T193316Z
UID:10000612-1637085600-1637091000@www.andersoncountysc.org
SUMMARY:County Council Meeting
DESCRIPTION:The Anderson County Council will meet on Tuesday\, November 16\, 2021 in the Council Chambers\, Historic Courthouse\, 101 S. Main St.\, Anderson\, SC 29624. \nAwards and Recognitions at 6 p.m. (TBA\, please check agenda)\nCouncil Meeting at 6:30 p.m. \nClick here for AGENDA. AMENDED AGENDA
URL:https://www.andersoncountysc.org/event/county-council-meeting-23/
LOCATION:Historic Courthouse\, 101 S. Main Street\, Anderson\, SC\, 29624\, United States
CATEGORIES:County Council Meeting
ATTACH;FMTTYPE=image/jpeg:https://www.andersoncountysc.org/wp-content/uploads/2021/03/Drone_Historic-Courthouse1Rev.jpg
ORGANIZER;CN="Renee Watts":MAILTO:rdwatts@andersoncountysc.org
END:VEVENT
BEGIN:VEVENT
DTSTART;TZID=UTC:20211118T171500
DTEND;TZID=UTC:20211118T181500
DTSTAMP:20260421T132606
CREATED:20211110T200737Z
LAST-MODIFIED:20211110T200737Z
UID:10000517-1637255700-1637259300@www.andersoncountysc.org
SUMMARY:Board of Zoning Appeals Meeting
DESCRIPTION:The Board of Zoning Appeals will meet on Thursday\, November 18\, 2021 at 5:15 pm at the Historic Courthouse. The agenda and packet can be found below. \nNovember 18\, 2021 Packet
URL:https://www.andersoncountysc.org/event/board-of-zoning-appeals-meeting-6/
LOCATION:Historic Courthouse\, 101 S. Main Street\, Anderson\, SC\, 29624\, United States
CATEGORIES:Planning Events
ORGANIZER;CN="Brittany McAbee":MAILTO:bdmcabee@andersoncountysc.org
END:VEVENT
BEGIN:VEVENT
DTSTART;TZID=UTC:20211119T090000
DTEND;TZID=UTC:20211119T180000
DTSTAMP:20260421T132606
CREATED:20211108T161101Z
LAST-MODIFIED:20211108T161327Z
UID:10000617-1637312400-1637344800@www.andersoncountysc.org
SUMMARY:Council District 2 | Food Drive Challenge
DESCRIPTION:Come out and donate to your favorite team and help us tackle hunger in District 2 with our first ever food drive!\n\nOn November 19th\, we’ll be at Homeland Park Volunteer Fire Department from 9am to 6pm collecting food items.\n\n\n\nWe’re asking for non-perishable items such as but not limited to peanut butter\, rice\, canned tuna\, canned vegetables\, apple sauce\, rice\, crackers\, nuts\, pasta\, soups and stews.\n\n\n\nItems will be donated to Anderson Interfaith Ministries and the winning team will be announced before the Clemson/Carolina game on 107-3 JAMZ and Hot 98.1.
URL:https://www.andersoncountysc.org/event/18572/
LOCATION:SC
CATEGORIES:Community Event
END:VEVENT
BEGIN:VEVENT
DTSTART;VALUE=DATE:20211125
DTEND;VALUE=DATE:20211126
DTSTAMP:20260421T132606
CREATED:20210223T170755Z
LAST-MODIFIED:20210317T202020Z
UID:10000529-1637798400-1637798400@www.andersoncountysc.org
SUMMARY:County Offices Closed
DESCRIPTION:
URL:https://www.andersoncountysc.org/event/county-offices-closed-2/
LOCATION:SC
CATEGORIES:County Offices Closed
END:VEVENT
BEGIN:VEVENT
DTSTART;VALUE=DATE:20211125
DTEND;VALUE=DATE:20211127
DTSTAMP:20260421T132606
CREATED:20211103T143206Z
LAST-MODIFIED:20211103T143206Z
UID:10000614-1637798400-1637971199@www.andersoncountysc.org
SUMMARY:County Offices Closed
DESCRIPTION:Anderson County government offices are closed in observance of Thanksgiving.  \nAll convenience centers\, the MRF\, and the Starr C&D Landfill will be closed Thursday for Thanksgiving and operate normal hours on Friday.
URL:https://www.andersoncountysc.org/event/county-offices-closed-18/
LOCATION:SC
END:VEVENT
END:VCALENDAR