BEGIN:VCALENDAR
VERSION:2.0
PRODID:-//Anderson County - ECPv6.15.20//NONSGML v1.0//EN
CALSCALE:GREGORIAN
METHOD:PUBLISH
X-ORIGINAL-URL:https://www.andersoncountysc.org
X-WR-CALDESC:Events for Anderson County
REFRESH-INTERVAL;VALUE=DURATION:PT1H
X-Robots-Tag:noindex
X-PUBLISHED-TTL:PT1H
BEGIN:VTIMEZONE
TZID:UTC
BEGIN:STANDARD
TZOFFSETFROM:+0000
TZOFFSETTO:+0000
TZNAME:UTC
DTSTART:20200101T000000
END:STANDARD
END:VTIMEZONE
BEGIN:VEVENT
DTSTART;TZID=UTC:20211201T080000
DTEND;TZID=UTC:20211201T120000
DTSTAMP:20260421T114608
CREATED:20211103T142645Z
LAST-MODIFIED:20211103T142645Z
UID:10000613-1638345600-1638360000@www.andersoncountysc.org
SUMMARY:Community Blood Drive
DESCRIPTION:Anderson County will host a community blood drive at its government building located at 1428 Pearman Dairy Road\, Anderson\, SC. \nMake plans to donate on December 1st from 7 a.m. – noon. \n Scan the QR code if you would like to make appointment.
URL:https://www.andersoncountysc.org/event/community-blood-drive/
LOCATION:1428 County Complex\, 1428 Pearman Dairy Road\, Anderson\, 29625\, United States
CATEGORIES:Community Event
ATTACH;FMTTYPE=image/jpeg:https://www.andersoncountysc.org/wp-content/uploads/2021/11/AC-Government-Blood-Drive_12-1-2021-scaled.jpg
END:VEVENT
BEGIN:VEVENT
DTSTART;TZID=UTC:20211202T180000
DTEND;TZID=UTC:20211202T190000
DTSTAMP:20260421T114608
CREATED:20210923T175336Z
LAST-MODIFIED:20211119T220619Z
UID:10000604-1638468000-1638471600@www.andersoncountysc.org
SUMMARY:POSTPONED-Legislative Delegation Meeting
DESCRIPTION:Representative Westley P. “West” Cox\, Chairman of the Anderson County Legislative Delegation\, has announced a Delegation Meeting to be held December 2\, 2021\, 6:00 P.M. at the Ronald Townsend Government Building\, 2404 N. Main St.\, Anderson\, SC. \nIF YOU PREVIOUSLY APPLIED IN MAY OR JUNE\, 2021 FOR ANY SEATS LISTED BELOW\, YOU NEED NOT RE-APPLY AS YOUR APPLICATION IS STILL ON FILE AND WILL BE CONSIDERED \n\nConsider Appointments to the Following Anderson County Boards and Commissions:\n\n  \n\nRegistration and Election Commission (Two Seats – School Districts 1 & 5)\nTri-County Technical College Board (One Seat)\nDisabilities and Special Needs Board (Two Seats)\nChildren’s Foster Care Review Board (Two Seats)\nAnderson-Oconee-Pickens Mental Health Center Board (Two Seats)\nSocial Services Board (Two Seats)\nPendleton District Historical\, Recreational and Tourism Commission (One Seat)\nSandy Springs Water District Board (One Seat)\nStarr-Iva Water District Board (One Seat)\n\n  \n\nPARD (Parks & Recreation) Requests\n\n  \n\nWater Recreation Fund Requests\n\n  \n\nTwo Anderson County Polling Place Relocations\n\nAnyone interested in applying for appointment to any of the above-mentioned boards or commissions\, please contact the Anderson County Legislative Delegation Office at 864-260-4025 immediately for an application or go online to www.andersoncountysc.org\, select Departments\, then select Legislative Delegation and scroll down to the application under Quick Links.  These applications must be completed and returned to the Delegation Office (Post Office Box 8002\, Anderson\, SC  29622) no later than Monday\, October 11\, 2021. Please contact Caroline Piasio (864.260.4025) with any questions.
URL:https://www.andersoncountysc.org/event/legislative-delegation-meeting-3/
LOCATION:Ronald P. Townsend Building\, 2404 N. Main Street\, Anderson\, SC\, 29621\, United States
CATEGORIES:Legislative Delegation
ORGANIZER;CN="Caroline Piaso":MAILTO:cpiasio@andersoncountysc.org
END:VEVENT
BEGIN:VEVENT
DTSTART;TZID=UTC:20211207T180000
DTEND;TZID=UTC:20211207T193000
DTSTAMP:20260421T114608
CREATED:20211204T015550Z
LAST-MODIFIED:20211204T015550Z
UID:10000518-1638900000-1638905400@www.andersoncountysc.org
SUMMARY:County Council Meeting
DESCRIPTION:The Anderson County Council will meet on Tuesday\, December 7\, 2021 in the Council Chambers\, Historic Courthouse\, 101 S. Main St.\, Anderson\, SC 29624. \nAwards and Recognitions at 6 p.m.\nCouncil Meeting at 6:30 p.m. \nClick here for 12.7.2021 Council Agenda
URL:https://www.andersoncountysc.org/event/county-council-meeting-24/
LOCATION:Historic Courthouse\, 101 S. Main Street\, Anderson\, SC\, 29624\, United States
CATEGORIES:County Council Meeting
ATTACH;FMTTYPE=image/jpeg:https://www.andersoncountysc.org/wp-content/uploads/2021/03/Drone_Historic-Courthouse1Rev.jpg
ORGANIZER;CN="Renee Watts":MAILTO:rdwatts@andersoncountysc.org
END:VEVENT
BEGIN:VEVENT
DTSTART;TZID=UTC:20211209T100000
DTEND;TZID=UTC:20211209T110000
DTSTAMP:20260421T114608
CREATED:20211209T152011Z
LAST-MODIFIED:20211209T152011Z
UID:10000523-1639044000-1639047600@www.andersoncountysc.org
SUMMARY:Purchasing Review Panel Meeting
DESCRIPTION:Purchasing Review Panel will meet on Friday\, December 10\, 2021 at 10:00 a.m. for consideration of protest of Bid #22-019. \nMeeting Location: Historic Courthouse—Council Chambers 101 S. Main St.\, Anderson\, S.C. 29624  \nAGENDA
URL:https://www.andersoncountysc.org/event/purchasing-review-panel-meeting/
LOCATION:Historic Courthouse\, 101 S. Main Street\, Anderson\, SC\, 29624\, United States
CATEGORIES:Committee Meetings
ORGANIZER;CN="Renee Watts":MAILTO:rdwatts@andersoncountysc.org
END:VEVENT
BEGIN:VEVENT
DTSTART;TZID=UTC:20211209T171500
DTEND;TZID=UTC:20211209T180000
DTSTAMP:20260421T114608
CREATED:20211207T180504Z
LAST-MODIFIED:20211207T180504Z
UID:10000522-1639070100-1639072800@www.andersoncountysc.org
SUMMARY:Board of Zoning Appeals Meeting
DESCRIPTION:The Board of Zoning Appeals will meet on Thursday\, December 9\, 2021 at 5:15 pm at the Historic Courthouse. The agenda and packet can be found below. \nDecember 9\, 2021 Packet
URL:https://www.andersoncountysc.org/event/board-of-zoning-appeals-meeting-7/
LOCATION:Historic Courthouse\, 101 S. Main Street\, Anderson\, SC\, 29624\, United States
CATEGORIES:Planning Events
ORGANIZER;CN="Brittany McAbee":MAILTO:bdmcabee@andersoncountysc.org
END:VEVENT
BEGIN:VEVENT
DTSTART;TZID=UTC:20211209T180000
DTEND;TZID=UTC:20211209T190000
DTSTAMP:20260421T114608
CREATED:20211206T153056Z
LAST-MODIFIED:20211206T153056Z
UID:10000519-1639072800-1639076400@www.andersoncountysc.org
SUMMARY:Council Special Called Meeting
DESCRIPTION:Discussion on School District One Impact Fee\n12.9.2021 Special Called Meeting Agenda
URL:https://www.andersoncountysc.org/event/council-special-called-meeting/
LOCATION:Historic Courthouse\, 101 S. Main Street\, Anderson\, SC\, 29624\, United States
CATEGORIES:County Council Meeting
ATTACH;FMTTYPE=image/jpeg:https://www.andersoncountysc.org/wp-content/uploads/2021/03/Drone_Historic-Courthouse1Rev.jpg
ORGANIZER;CN="Renee Watts":MAILTO:rdwatts@andersoncountysc.org
END:VEVENT
BEGIN:VEVENT
DTSTART;TZID=UTC:20211214T180000
DTEND;TZID=UTC:20211214T200000
DTSTAMP:20260421T114608
CREATED:20211207T180226Z
LAST-MODIFIED:20211207T180226Z
UID:10000521-1639504800-1639512000@www.andersoncountysc.org
SUMMARY:Planning Commission Meeting
DESCRIPTION:The Planning Commission will meet on Tuesday\, December 14\, 2021 at at 6 pm at the Historic Courthouse. The agenda and packet can be found below. \nDecember 14\, 2021 Packet
URL:https://www.andersoncountysc.org/event/planning-commission-meeting-13/
LOCATION:Historic Courthouse\, 101 S. Main Street\, Anderson\, SC\, 29624\, United States
CATEGORIES:Planning Events
ORGANIZER;CN="Brittany McAbee":MAILTO:bdmcabee@andersoncountysc.org
END:VEVENT
BEGIN:VEVENT
DTSTART;TZID=UTC:20211221T110000
DTEND;TZID=UTC:20211221T120000
DTSTAMP:20260421T114608
CREATED:20211207T150527Z
LAST-MODIFIED:20211220T183919Z
UID:10000520-1640084400-1640088000@www.andersoncountysc.org
SUMMARY:County Council Meeting
DESCRIPTION:The Anderson County Council will meet on Tuesday\, December 21\, 2021 at 11 o’clock in the Council Chambers\, Historic Courthouse\, 101 S. Main St.\, Anderson\, SC 29624. \n12.21.2021 Amended Agenda
URL:https://www.andersoncountysc.org/event/county-council-meeting-25/
LOCATION:Historic Courthouse\, 101 S. Main Street\, Anderson\, SC\, 29624\, United States
CATEGORIES:County Council Meeting
ATTACH;FMTTYPE=image/jpeg:https://www.andersoncountysc.org/wp-content/uploads/2021/03/Drone_Historic-Courthouse1Rev.jpg
ORGANIZER;CN="Renee Watts":MAILTO:rdwatts@andersoncountysc.org
END:VEVENT
BEGIN:VEVENT
DTSTART;VALUE=DATE:20211224
DTEND;VALUE=DATE:20211226
DTSTAMP:20260421T114608
CREATED:20210223T170810Z
LAST-MODIFIED:20210317T202020Z
UID:10000536-1640304000-1640476799@www.andersoncountysc.org
SUMMARY:County Offices Closed
DESCRIPTION:
URL:https://www.andersoncountysc.org/event/county-offices-closed-9/
LOCATION:SC
CATEGORIES:County Offices Closed
END:VEVENT
BEGIN:VEVENT
DTSTART;VALUE=DATE:20211227
DTEND;VALUE=DATE:20211228
DTSTAMP:20260421T114608
CREATED:20210223T170755Z
LAST-MODIFIED:20210803T184452Z
UID:10000530-1640563200-1640649599@www.andersoncountysc.org
SUMMARY:County Offices Closed
DESCRIPTION:
URL:https://www.andersoncountysc.org/event/county-offices-closed-3/
LOCATION:SC
CATEGORIES:County Offices Closed
END:VEVENT
END:VCALENDAR