BEGIN:VCALENDAR
VERSION:2.0
PRODID:-//Anderson County - ECPv6.15.20//NONSGML v1.0//EN
CALSCALE:GREGORIAN
METHOD:PUBLISH
X-WR-CALNAME:Anderson County
X-ORIGINAL-URL:https://www.andersoncountysc.org
X-WR-CALDESC:Events for Anderson County
REFRESH-INTERVAL;VALUE=DURATION:PT1H
X-Robots-Tag:noindex
X-PUBLISHED-TTL:PT1H
BEGIN:VTIMEZONE
TZID:UTC
BEGIN:STANDARD
TZOFFSETFROM:+0000
TZOFFSETTO:+0000
TZNAME:UTC
DTSTART:20210101T000000
END:STANDARD
END:VTIMEZONE
BEGIN:VEVENT
DTSTART;VALUE=DATE:20220103
DTEND;VALUE=DATE:20220104
DTSTAMP:20260421T095658
CREATED:20211221T202636Z
LAST-MODIFIED:20211221T203547Z
UID:10000621-1641168000-1641254399@www.andersoncountysc.org
SUMMARY:County Offices Closed
DESCRIPTION:Anderson County offices are closed on January 3\, 2022\, in observance of New Year’s Day. \nConvenience Centers\, Starr C&D Landfill\, & MRF will also be closed on January 3rd.
URL:https://www.andersoncountysc.org/event/county-offices-closed-20/
LOCATION:SC
CATEGORIES:County Offices Closed
END:VEVENT
BEGIN:VEVENT
DTSTART;TZID=UTC:20220104T180000
DTEND;TZID=UTC:20220104T193000
DTSTAMP:20260421T095658
CREATED:20211221T200656Z
LAST-MODIFIED:20211231T215213Z
UID:10000525-1641319200-1641324600@www.andersoncountysc.org
SUMMARY:County Council Meeting
DESCRIPTION:The Anderson County Council will meet on Tuesday\, January 4\, 2022 at the Civic Center of Anderson\, 3027 Martin Luther King\, Jr. Boulevard\, Anderson\, South Carolina.\n\nAwards and Recognitions at 6 p.m.\nCouncil Meeting at 6:30 p.m.\n\n1. 4.22 Agenda Packet
URL:https://www.andersoncountysc.org/event/county-council-meeting-26/
LOCATION:Civic Center\, 3027 Martin Luther King Jr Blvd\, Anderson\, SC\, 29625\, United States
CATEGORIES:County Council Meeting
ATTACH;FMTTYPE=image/jpeg:https://www.andersoncountysc.org/wp-content/uploads/2021/02/experience-home-slider.jpg
ORGANIZER;CN="Renee Watts":MAILTO:rdwatts@andersoncountysc.org
END:VEVENT
BEGIN:VEVENT
DTSTART;TZID=UTC:20220111T180000
DTEND;TZID=UTC:20220111T190000
DTSTAMP:20260421T095658
CREATED:20220107T202821Z
LAST-MODIFIED:20220107T203027Z
UID:10000631-1641924000-1641927600@www.andersoncountysc.org
SUMMARY:Planning Commission Meeting
DESCRIPTION:The Planning Commission will meet on Tuesday\, January 11\, 2022 at at 6 pm at the Historic Courthouse. The agenda and packet can be found below. \nJanuary 11\, 2022 Packet
URL:https://www.andersoncountysc.org/event/planning-commission-meeting-14/
LOCATION:Historic Courthouse\, 101 S. Main Street\, Anderson\, SC\, 29624\, United States
CATEGORIES:Planning Events
ORGANIZER;CN="Brittany McAbee":MAILTO:bdmcabee@andersoncountysc.org
END:VEVENT
BEGIN:VEVENT
DTSTART;TZID=UTC:20220113T171500
DTEND;TZID=UTC:20220113T181500
DTSTAMP:20260421T095658
CREATED:20220107T203000Z
LAST-MODIFIED:20220107T203000Z
UID:10000633-1642094100-1642097700@www.andersoncountysc.org
SUMMARY:Board of Zoning Appeals Meeting
DESCRIPTION:The Board of Zoning Appeals will meet on Thursday\, January 13\, 2022 at at 5:15 pm at the Historic Courthouse. The agenda and packet can be found below. \nJanuary 13\, 2022 Packet
URL:https://www.andersoncountysc.org/event/board-of-zoning-appeals-meeting-8/
LOCATION:Historic Courthouse\, 101 S. Main Street\, Anderson\, SC\, 29624\, United States
CATEGORIES:Planning Events
ORGANIZER;CN="Brittany McAbee":MAILTO:bdmcabee@andersoncountysc.org
END:VEVENT
BEGIN:VEVENT
DTSTART;TZID=UTC:20220113T180000
DTEND;TZID=UTC:20220113T180000
DTSTAMP:20260421T095658
CREATED:20211221T193621Z
LAST-MODIFIED:20211231T213403Z
UID:10000524-1642096800-1642096800@www.andersoncountysc.org
SUMMARY:Legislative Delegation Meeting
DESCRIPTION:Representative Westley P. “West” Cox\, Chairman of the Anderson County Legislative Delegation\, has announced that the postponed December\, 2021 Delegation Meeting will be held January 13\, 2022; 6:00 P.M. at the Ronald Townsend Government Building\, Courtroom 5 on second floor; 2404 N. Main St.\, Anderson\, SC.  The Agenda is on our website: andersoncountysc.org. \n  \nFor more information\, please call: \n\n864.260.4025\n864.201.4003
URL:https://www.andersoncountysc.org/event/legislative-delegation-meeting-4/
LOCATION:Ronald P. Townsend Building\, 2404 N. Main Street\, Anderson\, SC\, 29621\, United States
CATEGORIES:Legislative Delegation
ATTACH;FMTTYPE=image/png:https://www.andersoncountysc.org/wp-content/uploads/2021/03/Townsend-Building-2-2.png
ORGANIZER;CN="Caroline Piaso":MAILTO:cpiasio@andersoncountysc.org
END:VEVENT
BEGIN:VEVENT
DTSTART;VALUE=DATE:20220117
DTEND;VALUE=DATE:20220118
DTSTAMP:20260421T095658
CREATED:20211221T201352Z
LAST-MODIFIED:20211221T203720Z
UID:10000618-1642377600-1642463999@www.andersoncountysc.org
SUMMARY:County Offices Closed
DESCRIPTION:Anderson County offices are closed on Monday\, January 17\, 2022\, in observance of Martin Luther King\, Jr. Day. \nConvenience Centers\, Starr C&D Landfill\, & MRF will also be closed on Monday\, January 17th.
URL:https://www.andersoncountysc.org/event/county-offices-closed-19/
LOCATION:SC
CATEGORIES:County Offices Closed
END:VEVENT
BEGIN:VEVENT
DTSTART;TZID=UTC:20220118T180000
DTEND;TZID=UTC:20220118T190000
DTSTAMP:20260421T095658
CREATED:20211221T200807Z
LAST-MODIFIED:20220117T220635Z
UID:10000526-1642528800-1642532400@www.andersoncountysc.org
SUMMARY:County Council Meeting
DESCRIPTION:UPDATE: The Council WILL meet as scheduled.\n\nThe Anderson County Council will meet on Tuesday\, January 18\, 2022 in the Civic Center\, 3027 Martin Luther King Jr. Blvd.\, Anderson\, SC 29625.\n\nAwards and Recognitions at 6 p.m.\nCouncil Meeting at 6:30 p.m.\n\n1.18.2022 Agenda Package
URL:https://www.andersoncountysc.org/event/county-council-meeting-27/
LOCATION:Civic Center\, 3027 Martin Luther King Jr Blvd\, Anderson\, SC\, 29625\, United States
CATEGORIES:County Council Meeting
ATTACH;FMTTYPE=image/jpeg:https://www.andersoncountysc.org/wp-content/uploads/2022/01/AC-Seal-Color-e1675270283402.jpg
ORGANIZER;CN="Renee Watts":MAILTO:rdwatts@andersoncountysc.org
END:VEVENT
BEGIN:VEVENT
DTSTART;TZID=UTC:20220128T110000
DTEND;TZID=UTC:20220128T113000
DTSTAMP:20260421T095658
CREATED:20220127T160328Z
LAST-MODIFIED:20220127T160328Z
UID:10000641-1643367600-1643369400@www.andersoncountysc.org
SUMMARY:Upcountry Fiber & Anderson County Announcement
DESCRIPTION:UPCOUNTRY FIBER TO ANNOUNCE AGREEMENT TO BRING 2800 MILES OF HIGH-SPEED FIBER INTERNET TO UNSERVED AND UNDERSERVED ANDERSON COUNTY ADDRESSES \nWHO:       Upcountry Fiber (a partnership between Blue Ridge Electric and West Carolina Rural Telephone Cooperatives) and Anderson County \nWHAT:    Upcountry Fiber has been selected by Anderson County to bring high-speed fiber internet to key areas of the county that currently have little or no access to broadband. A study conducted by Palmetto Engineering identified need within the county for tens of thousands of unserved and underserved households which will benefit from bringing this critical utility to the areas of Anderson County. The combined projects will stretch more than 2\,800 miles of fiber and the funding needed to complete is projected at $175 million at current material and labor costs. \nAlthough the need has been apparent\, the pandemic exposed critical needs that were exceptional in nature including e-learning\, virtual medical care\, and access to services via an internet connection that left some of Anderson County’s citizens without access to essential services through existing service providers. \nWHEN:     Friday\, January 28th at 11:00 a.m. \nWHERE:  The Civic Center of Anderson \n3027 Martin Luther King Jr. Blvd. \nAnderson\, SC 29625
URL:https://www.andersoncountysc.org/event/upcountry-fiber-anderson-county-announcement/
LOCATION:Civic Center\, 3027 Martin Luther King Jr Blvd\, Anderson\, SC\, 29625\, United States
CATEGORIES:Community Meeting
ATTACH;FMTTYPE=image/jpeg:https://www.andersoncountysc.org/wp-content/uploads/2021/02/mission-statement.jpg
END:VEVENT
BEGIN:VEVENT
DTSTART;TZID=UTC:20220131T083000
DTEND;TZID=UTC:20220131T093000
DTSTAMP:20260421T095658
CREATED:20220128T173053Z
LAST-MODIFIED:20220128T173053Z
UID:10000646-1643617800-1643621400@www.andersoncountysc.org
SUMMARY:Public Safety Committee Meeting
DESCRIPTION:The Council’s Public Safety Committee will meet on Monday\, January 31\, 2022 at 8:30 a. m. Meeting location is at the Historic Courthouse\, 101 S. Main Street\, Anderson\, SC. \nAGENDA
URL:https://www.andersoncountysc.org/event/public-safety-committee-meeting-5/
LOCATION:Historic Courthouse\, 101 S. Main Street\, Anderson\, SC\, 29624\, United States
CATEGORIES:Council Committee Meeting
ATTACH;FMTTYPE=image/jpeg:https://www.andersoncountysc.org/wp-content/uploads/2022/01/AC-Seal-Color-e1675270283402.jpg
ORGANIZER;CN="Renee Watts":MAILTO:rdwatts@andersoncountysc.org
END:VEVENT
BEGIN:VEVENT
DTSTART;TZID=UTC:20220131T160000
DTEND;TZID=UTC:20220131T170000
DTSTAMP:20260421T095658
CREATED:20220126T185623Z
LAST-MODIFIED:20220126T185623Z
UID:10000639-1643644800-1643648400@www.andersoncountysc.org
SUMMARY:ACTC Meeting
DESCRIPTION:The ACTC Meeting will meet on Monday\, January 31\, 2022\, at 4 PM. \nAGENDA \n 
URL:https://www.andersoncountysc.org/event/actc-meeting-7/
LOCATION:1428 County Complex\, 1428 Pearman Dairy Road\, Anderson\, 29625\, United States
CATEGORIES:Committee Meetings
ATTACH;FMTTYPE=image/png:https://www.andersoncountysc.org/wp-content/uploads/2021/04/Screen-Shot-2021-04-19-at-11.27.19-AM.png
ORGANIZER;CN="Brittany Burdette":MAILTO:bnburdette@andersoncountysc.org
END:VEVENT
END:VCALENDAR