BEGIN:VCALENDAR
VERSION:2.0
PRODID:-//Anderson County - ECPv6.15.20//NONSGML v1.0//EN
CALSCALE:GREGORIAN
METHOD:PUBLISH
X-WR-CALNAME:Anderson County
X-ORIGINAL-URL:https://www.andersoncountysc.org
X-WR-CALDESC:Events for Anderson County
REFRESH-INTERVAL;VALUE=DURATION:PT1H
X-Robots-Tag:noindex
X-PUBLISHED-TTL:PT1H
BEGIN:VTIMEZONE
TZID:UTC
BEGIN:STANDARD
TZOFFSETFROM:+0000
TZOFFSETTO:+0000
TZNAME:UTC
DTSTART:20210101T000000
END:STANDARD
END:VTIMEZONE
BEGIN:VEVENT
DTSTART;TZID=UTC:20220201T180000
DTEND;TZID=UTC:20220201T193000
DTSTAMP:20260421T081545
CREATED:20220113T191808Z
LAST-MODIFIED:20220128T214905Z
UID:10000635-1643738400-1643743800@www.andersoncountysc.org
SUMMARY:County Council Meeting
DESCRIPTION:The Anderson County Council will meet on Tuesday\, February 1\, 2022 in the Civic Center\, 3027 Martin Luther King Jr. Blvd.\, Anderson\, SC 29625.\n\nAwards and Recognitions at 6 p.m.\nCouncil Meeting at 6:30 p.m.\n\nAGENDA
URL:https://www.andersoncountysc.org/event/19125/
LOCATION:ASEC | Anderson Sports & Entertainment Center\, 3027 Martin Luther King Jr. Boulevard\, Anderson\, SC\, 29625\, United States
CATEGORIES:County Council Meeting
ATTACH;FMTTYPE=image/jpeg:https://www.andersoncountysc.org/wp-content/uploads/2022/01/AC-Seal-Color-e1675270283402.jpg
ORGANIZER;CN="Renee Watts":MAILTO:rdwatts@andersoncountysc.org
END:VEVENT
BEGIN:VEVENT
DTSTART;TZID=UTC:20220204T130000
DTEND;TZID=UTC:20220204T140000
DTSTAMP:20260421T081545
CREATED:20220203T213635Z
LAST-MODIFIED:20220204T170223Z
UID:10000648-1643979600-1643983200@www.andersoncountysc.org
SUMMARY:CANCELLED-Planning & Public Works Committee Meeting
DESCRIPTION:THIS MEETING HAS BEEN CANCELLED—–2/4/2022 12 p.m. \n  \nThe County Council’s Planning and Public Works Committee Meeting will meet on Friday\, February 4\, 2022 at 1 PM.  Meeting location is at the Historic Courthouse\, 101 S. Main Street\, Anderson\, SC. \nAGENDA
URL:https://www.andersoncountysc.org/event/19447/
LOCATION:Historic Courthouse\, 101 S. Main Street\, Anderson\, SC\, 29624\, United States
CATEGORIES:Council Committee Meeting
ATTACH;FMTTYPE=image/jpeg:https://www.andersoncountysc.org/wp-content/uploads/2022/01/AC-Seal-Color-e1675270283402.jpg
ORGANIZER;CN="Renee Watts":MAILTO:rdwatts@andersoncountysc.org
END:VEVENT
BEGIN:VEVENT
DTSTART;TZID=UTC:20220208T180000
DTEND;TZID=UTC:20220208T190000
DTSTAMP:20260421T081545
CREATED:20220201T133358Z
LAST-MODIFIED:20220201T133639Z
UID:10000647-1644343200-1644346800@www.andersoncountysc.org
SUMMARY:Planning Commission Meeting
DESCRIPTION:The Planning Commission will meet on Tuesday\, February 8\, 2022 at at 6 pm at the Civic Center. The agenda and packet can be found below. \nFebruary 8\, 2022 Packet
URL:https://www.andersoncountysc.org/event/planning-commission-meeting-15/
LOCATION:Civic Center\, 3027 Martin Luther King Jr Blvd\, Anderson\, SC\, 29625\, United States
CATEGORIES:Planning Events
ORGANIZER;CN="Brittany McAbee":MAILTO:bdmcabee@andersoncountysc.org
END:VEVENT
BEGIN:VEVENT
DTSTART;TZID=UTC:20220209T094500
DTEND;TZID=UTC:20220209T101500
DTSTAMP:20260421T081545
CREATED:20220207T192351Z
LAST-MODIFIED:20220207T195727Z
UID:10000649-1644399900-1644401700@www.andersoncountysc.org
SUMMARY:Anderson-Oconee Counties Legislative Delegation Meeting
DESCRIPTION:Representative Westley P. “West” Cox\, Chairman of the Anderson County Legislative Delegation\, has announced a joint Delegation meeting with Oconee County Delegation to be held on Wednesday\, February 9\, 2022 at 9:45 A.M. in Columbia\, SC\, 1100 Gervais St.\, Blatt Building Room 511 for the sole purpose of recommending the reappointment of Steven C. Kirven as Master in Equity for Anderson and Oconee Counties. \nIf you have any questions\, please contact Caroline at Anderson Legislative Delegation office at 864.260.4025 or Carol at Oconee Legislative Delegation office at 864.638.4237.
URL:https://www.andersoncountysc.org/event/anderson-oconee-counties-legislative-delegation-meeting/
LOCATION:Blatt Building\, 1105 Pendleton St.\, Rm 108\, Columbia\, SC 29201\, 1100 Gervais Street\, Rm 511\, Columbia\, SC\, 29201\, United States
CATEGORIES:Legislative Delegation
ORGANIZER;CN="Caroline Piaso":MAILTO:cpiasio@andersoncountysc.org
END:VEVENT
BEGIN:VEVENT
DTSTART;TZID=UTC:20220210T130000
DTEND;TZID=UTC:20220210T140000
DTSTAMP:20260421T081545
CREATED:20220209T172754Z
LAST-MODIFIED:20220209T172754Z
UID:10000650-1644498000-1644501600@www.andersoncountysc.org
SUMMARY:Litter Adhoc Committee
DESCRIPTION:AGENDA \nANDERSON COUNTY LITTER ADHOC COMMITTEE \nThursday\, February 10\, 2022\, 1:00 p.m. \n101 South Main Street\, Anderson SC \nSecond Floor\, Conference Room \nChairman John B. Wright\, Jr.\, Presiding \n   \n\nCall to Order                                                      Chairman John B. Wright\, Jr.\nPrayer and Pledge of Allegiance                Honorable Glenn Davis\nIntroductions                                                    Greg Smith\nDiscussion of Causes of Litter                    Greg Smith\nAdopt-A Spots                                                   Samantha Porter\nPalmetto Pride                                                 Samantha Porter\nSCDOT                                                                 Greg Smith\nLitter Crews                                                      David Baker\nEnvironmental Enforcement                     Greg Smith\nDiscussion of Litter Cleanup Ideas          Chairman John B. Wright\, Jr.\nCitizens Comments\nAdjourn
URL:https://www.andersoncountysc.org/event/litter-adhoc-committee/
LOCATION:Historic Courthouse\, 101 S. Main Street\, Anderson\, SC\, 29624\, United States
CATEGORIES:Council Committee Meeting
ATTACH;FMTTYPE=image/jpeg:https://www.andersoncountysc.org/wp-content/uploads/2022/01/AC-Seal-Color-e1675270283402.jpg
ORGANIZER;CN="Renee Watts":MAILTO:rdwatts@andersoncountysc.org
END:VEVENT
BEGIN:VEVENT
DTSTART;TZID=UTC:20220215T180000
DTEND;TZID=UTC:20220215T193000
DTSTAMP:20260421T081545
CREATED:20220113T193143Z
LAST-MODIFIED:20220211T220755Z
UID:10000637-1644948000-1644953400@www.andersoncountysc.org
SUMMARY:County Council Meeting
DESCRIPTION:The Anderson County Council will meet on Tuesday\, February 15\, 2022 in the Civic Center\, 3027 Martin Luther King Jr. Blvd.\, Anderson\, SC 29625.\n\nAwards and Recognitions at 6 p.m.\nCouncil Meeting at 6:30 p.m.\nAgenda 
URL:https://www.andersoncountysc.org/event/county-council-meeting-28/
LOCATION:ASEC | Anderson Sports & Entertainment Center\, 3027 Martin Luther King Jr. Boulevard\, Anderson\, SC\, 29625\, United States
CATEGORIES:County Council Meeting
ATTACH;FMTTYPE=image/jpeg:https://www.andersoncountysc.org/wp-content/uploads/2022/01/AC-Seal-Color-e1675270283402.jpg
ORGANIZER;CN="Renee Watts":MAILTO:rdwatts@andersoncountysc.org
END:VEVENT
BEGIN:VEVENT
DTSTART;VALUE=DATE:20220221
DTEND;VALUE=DATE:20220222
DTSTAMP:20260421T081545
CREATED:20211221T202136Z
LAST-MODIFIED:20211221T203750Z
UID:10000619-1645401600-1645487999@www.andersoncountysc.org
SUMMARY:County Office Closed
DESCRIPTION:Anderson County offices are closed on February 21\, 2022\, in observance of Presidents Day. \nConvenience Centers\, Starr C&D Landfill\, & MRF will also be closed on February 21st.
URL:https://www.andersoncountysc.org/event/county-office-closed/
LOCATION:SC
CATEGORIES:County Offices Closed
END:VEVENT
BEGIN:VEVENT
DTSTART;TZID=UTC:20220221T120000
DTEND;TZID=UTC:20220221T123000
DTSTAMP:20260421T081545
CREATED:20220218T212608Z
LAST-MODIFIED:20220218T220834Z
UID:10000666-1645444800-1645446600@www.andersoncountysc.org
SUMMARY:Special Called Council Meeting
DESCRIPTION:Anderson County Council will have a Special Called Meeting on Monday\, February 21\, 2022\, at 12:00 p.m. at the Historic Courthouse. \nAGENDA
URL:https://www.andersoncountysc.org/event/special-called-council-meeting/
LOCATION:Historic Courthouse\, 101 S. Main Street\, Anderson\, SC\, 29624\, United States
CATEGORIES:County Council Meeting
ATTACH;FMTTYPE=image/jpeg:https://www.andersoncountysc.org/wp-content/uploads/2022/01/AC-Seal-Color-e1675270283402.jpg
ORGANIZER;CN="Renee Watts":MAILTO:rdwatts@andersoncountysc.org
END:VEVENT
BEGIN:VEVENT
DTSTART;TZID=UTC:20220222T180000
DTEND;TZID=UTC:20220222T190000
DTSTAMP:20260421T081545
CREATED:20220222T163752Z
LAST-MODIFIED:20220222T164957Z
UID:10000670-1645552800-1645556400@www.andersoncountysc.org
SUMMARY:Human Relations Council Meeting
DESCRIPTION: AGENDA  \nRegular Meeting | February 22\, 2022 | 6:00 pm  \nZOOM Meeting 576 481 7064 Passcode RIGHTS  \nCindy Robertson\, Chair  \nPresiding  \n1. Call to Order and Moment of Silence  \n2. Approval of Minutes  \n3. Treasurer’s Report  \nOld Business  \n1. Discuss training and what we took from the session  \nNew Business  \n1. Corey White  \n2. Library Bulletin Board  \n3. Monthly Calendar  \n4. Budget  \nAdjournment  \nMission 
URL:https://www.andersoncountysc.org/event/human-relations-council-meeting-4/
LOCATION:SC
CATEGORIES:Community Meeting
ATTACH;FMTTYPE=image/png:https://www.andersoncountysc.org/wp-content/uploads/2021/06/HRC-Logo_Website-1440x600-2-e1664202440957.png
END:VEVENT
BEGIN:VEVENT
DTSTART;TZID=UTC:20220222T183000
DTEND;TZID=UTC:20220222T190000
DTSTAMP:20260421T081545
CREATED:20220218T221158Z
LAST-MODIFIED:20220218T221158Z
UID:10000668-1645554600-1645556400@www.andersoncountysc.org
SUMMARY:Special Called Council Meeting
DESCRIPTION:Anderson County Council will have a Special Called Meeting on Tuesday\, February 22\, 2022\, at 6:30 p.m. at the Historic Courthouse\, 101 S. Main Street\, Anderson\, South Carolina. \nAGENDA
URL:https://www.andersoncountysc.org/event/special-called-council-meeting-2/
LOCATION:Historic Courthouse\, 101 S. Main Street\, Anderson\, SC\, 29624\, United States
CATEGORIES:County Council Meeting
ATTACH;FMTTYPE=image/jpeg:https://www.andersoncountysc.org/wp-content/uploads/2022/01/AC-Seal-Color-e1675270283402.jpg
ORGANIZER;CN="Renee Watts":MAILTO:rdwatts@andersoncountysc.org
END:VEVENT
BEGIN:VEVENT
DTSTART;TZID=UTC:20220228T120000
DTEND;TZID=UTC:20220228T130000
DTSTAMP:20260421T081545
CREATED:20220226T005243Z
LAST-MODIFIED:20220226T005243Z
UID:10000552-1646049600-1646053200@www.andersoncountysc.org
SUMMARY:Solid Waste Committee Meeting
DESCRIPTION:The  Council’s Solid Waste Committee will meet on Monday\, February 28\, 2022\, 12:00 p.m. at the Historic Courthouse\, 101 South Main Street\, Anderson SC.\nView Agenda Here
URL:https://www.andersoncountysc.org/event/solid-waste-committee-meeting/
LOCATION:Historic Courthouse\, 101 S. Main Street\, Anderson\, SC\, 29624\, United States
CATEGORIES:Council Committee Meeting
ATTACH;FMTTYPE=image/jpeg:https://www.andersoncountysc.org/wp-content/uploads/2022/01/AC-Seal-Color-e1675270283402.jpg
ORGANIZER;CN="Renee Watts":MAILTO:rdwatts@andersoncountysc.org
END:VEVENT
BEGIN:VEVENT
DTSTART;TZID=UTC:20220228T170000
DTEND;TZID=UTC:20220228T190000
DTSTAMP:20260421T081545
CREATED:20220222T164539Z
LAST-MODIFIED:20220222T165253Z
UID:10000672-1646067600-1646074800@www.andersoncountysc.org
SUMMARY:Piedmont Riverfront Park Drop-in
DESCRIPTION:Anderson County\, S.C. (February 22\, 2022) – Anderson County will hold a public information and comment session concerning the development of Piedmont Riverfront Park. This “drop-in” style session will be held on Monday\, February 28 from 5 to 7 PM at the Piedmont Community Center\, 1 Main Street in Piedmont. \nA conceptual site plan\, draft environmental assessment\, and information regarding an LWCF grant application for the project will be available for public review and comment. For more info contact Steve Newton\, Anderson County Administrator’s Office\, at (864) 260-1010 or email. \n### \nVIEW: Piedmont Riverfront Park Packet
URL:https://www.andersoncountysc.org/event/piedmont-riverfront-park-drop-in/
LOCATION:Piedmont Community Center\, 1 Main Street\, Piedmont\, South Carolina
END:VEVENT
END:VCALENDAR