BEGIN:VCALENDAR
VERSION:2.0
PRODID:-//Anderson County - ECPv6.15.20//NONSGML v1.0//EN
CALSCALE:GREGORIAN
METHOD:PUBLISH
X-WR-CALNAME:Anderson County
X-ORIGINAL-URL:https://www.andersoncountysc.org
X-WR-CALDESC:Events for Anderson County
REFRESH-INTERVAL;VALUE=DURATION:PT1H
X-Robots-Tag:noindex
X-PUBLISHED-TTL:PT1H
BEGIN:VTIMEZONE
TZID:UTC
BEGIN:STANDARD
TZOFFSETFROM:+0000
TZOFFSETTO:+0000
TZNAME:UTC
DTSTART:20210101T000000
END:STANDARD
END:VTIMEZONE
BEGIN:VEVENT
DTSTART;TZID=UTC:20220301T111500
DTEND;TZID=UTC:20220301T120000
DTSTAMP:20260421T061833
CREATED:20220301T154034Z
LAST-MODIFIED:20220301T154034Z
UID:10000556-1646133300-1646136000@www.andersoncountysc.org
SUMMARY:Finance Committee
DESCRIPTION:The Finance Committee will meet on Tuesday\, March 1\, 2022 11:15 a.m. at the Historic Courthouse\, 101 South Main Street\, Anderson SC. \nView Agenda
URL:https://www.andersoncountysc.org/event/finance-committee-2/
LOCATION:Historic Courthouse\, 101 S. Main Street\, Anderson\, SC\, 29624\, United States
CATEGORIES:Council Committee Meeting
ATTACH;FMTTYPE=image/jpeg:https://www.andersoncountysc.org/wp-content/uploads/2022/01/AC-Seal-Color-e1675270283402.jpg
ORGANIZER;CN="Renee Watts":MAILTO:rdwatts@andersoncountysc.org
END:VEVENT
BEGIN:VEVENT
DTSTART;TZID=UTC:20220301T180000
DTEND;TZID=UTC:20220301T193000
DTSTAMP:20260421T061833
CREATED:20220216T214701Z
LAST-MODIFIED:20220226T002101Z
UID:10000652-1646157600-1646163000@www.andersoncountysc.org
SUMMARY:County Council Meeting
DESCRIPTION:The Anderson County Council will meet on Tuesday\, March 1\, 2022 in the Council Chambers\, Historic Courthouse\, 101 S. Main St.\, Anderson\, SC 29624.\n\nAwards and Recognitions at 6 p.m.\nCouncil Meeting at 6:30 p.m.\n\nView Agenda Here.
URL:https://www.andersoncountysc.org/event/county-council-meeting-29/
LOCATION:Historic Courthouse\, 101 S. Main Street\, Anderson\, SC\, 29624\, United States
CATEGORIES:County Council Meeting
ATTACH;FMTTYPE=image/jpeg:https://www.andersoncountysc.org/wp-content/uploads/2022/01/AC-Seal-Color-e1675270283402.jpg
ORGANIZER;CN="Renee Watts":MAILTO:rdwatts@andersoncountysc.org
END:VEVENT
BEGIN:VEVENT
DTSTART;TZID=UTC:20220302T084500
DTEND;TZID=UTC:20220302T090000
DTSTAMP:20260421T061833
CREATED:20220301T153057Z
LAST-MODIFIED:20220301T153057Z
UID:10000554-1646210700-1646211600@www.andersoncountysc.org
SUMMARY:Anderson-Oconee Legislative Delegation Joint Meeting
DESCRIPTION:Representative Westley P. “West” Cox\, Chairman of the Anderson County Legislative Delegation\, has announced a joint Delegation meeting with Oconee County Delegation to be held on Wednesday\, March 2\, 2022 at 8:45 a.m. in Columbia\, SC\, 1100 Gervais St.\, Blatt Building Room 511 for the sole purpose of recommending the reappointment of Steven C. Kirven as Master in Equity for Anderson and Oconee Counties. \nIf you have any questions\, please contact Caroline at Anderson Legislative Delegation office at 864.260.4025 or Carol at Oconee Legislative Delegation office at 864.638.4237.
URL:https://www.andersoncountysc.org/event/anderson-oconee-legislative-delegation-joint-meeting/
LOCATION:Blatt Building\, 1105 Pendleton St.\, Rm 108\, Columbia\, SC 29201\, 1100 Gervais Street\, Rm 511\, Columbia\, SC\, 29201\, United States
CATEGORIES:Legislative Delegation
ATTACH;FMTTYPE=image/jpeg:https://www.andersoncountysc.org/wp-content/uploads/2022/03/275120680_326791379480590_1553020834931961463_n-e1763512677483.jpg
ORGANIZER;CN="Caroline Piaso":MAILTO:cpiasio@andersoncountysc.org
END:VEVENT
BEGIN:VEVENT
DTSTART;VALUE=DATE:20220304
DTEND;VALUE=DATE:20220307
DTSTAMP:20260421T061833
CREATED:20220216T162011Z
LAST-MODIFIED:20220216T165021Z
UID:10000651-1646352000-1646611199@www.andersoncountysc.org
SUMMARY:Bassmaster Classic
DESCRIPTION:March 30\, 2021 \nB.A.S.S. Announces 2022 Bassmaster Classic Will Be Held At Lake Hartwell \nBIRMINGHAM\, Ala. — The world’s most prestigious professional bass tournament will be returning next year to the site of some of the best moments in the sport’s famed history. \nB.A.S.S. officials\, along with Visit Anderson and VisitGreenvilleSC\, announced today that the 2022 Academy Sports + Outdoors Bassmaster Classic presented by Huk will be held for the fourth time at scenic Lake Hartwell\, March 4-6\, with takeoffs from Green Pond Landing & Event Center. Daily weigh-ins will be held at the Bon Secours Wellness Arena and the annual Bassmaster Classic Outdoors Expo will take place at the Greenville Convention Center\, both of which are in nearby Greenville. \nB.A.S.S. CEO Bruce Akin said the organization is excited to once again visit a venue that has become the gold standard for professional bass fishing events. \n“Everything about Lake Hartwell and the city of Greenville make them the perfect setting for the Super Bowl of Professional Bass Fishing\,” Akin said. “The Bassmaster Classic is not only a chance for the best anglers in the world to showcase their abilities\, it’s an annual celebration of the sport itself. \n“Lake Hartwell provides the perfect site for amazing competition\, and the city of Greenville provides the hotels\, restaurants and other facilities you need for an event the size of the Classic.” \nHartwell is a 56\,000-acre man-made reservoir situated between Georgia and South Carolina and encompassing portions of the Savannah\, Tugaloo and Seneca rivers. It features a vast array of habitat and a good population of both largemouth and spotted bass that are likely to be in the prespawn phase when the Classic competitors arrive. \nThe fishery has hosted three previous Classics that each provided action-packed finishes. \nIn 2008\, Texas pro Alton Jones Sr. went into the final day with little more than a pound lead\, but managed to hold off the rest of the field and claim his only Classic trophy. In 2015\, when temperatures dipped as low as a frigid 9 degrees\, hometown favorite Casey Ashley of South Carolina came from behind on the final day to win his only title. Then in 2018\, young Alabama pro Jordan Lee jumped from sixth place on the final day to win his second-straight Classic. \nThe fans turned out in droves for all three visits\, creating an electric atmosphere for the weigh-ins and packing the Expo all three days. \n“The Upstate of South Carolina is thrilled to welcome the Bassmaster Classic back to Lake Hartwell for the fourth time since initially hosting back in 2008\,” said David Montgomery\, Vice President of Sales for VisitGreenvilleSC. “Not only has the Classic set attendance records each year it has returned\, but it has proven to be one of our largest economic impact events for the Greenville region.” \nIn 2018\, a then-record crowd of 143\,323 fans attended all of the Classic-related events. That Classic won a Sports Destination Management Innovation in Sports Tourism award for its ability to have two destinations working together for such a large economic impact. \n“We are very excited for the opportunity to host the Bassmaster Classic once again on Lake Hartwell\,” said Neil Paul\, Executive Director of Visit Anderson. “The leadership of Anderson County has made a significant commitment to Green Pond Landing and the marketing efforts of Lake Hartwell\, and we expect another record-breaking event with our teammates from Greenville. \n“Hosting our fourth Bassmaster Classic on Lake Hartwell is significant to our community because no other fishery will have hosted more Bassmaster Classic events. Having hosted this great event in the past\, we can speak first hand to the significant economic impact it will have on the upstate of South Carolina and the impact of residual tourism that will be felt in Anderson County for years to come.” \nSince the 2018 Classic\, Hartwell has hosted several other high-level B.A.S.S. events\, including a 2019 Bassmaster Elite Series tournament that was won by South Carolina pro Brandon Cobb. Just last year\, another South Carolina pro\, Patrick Walters\, won the Basspro.com Bassmaster Eastern Open on Lake Hartwell. \nMost recently\, Hartwell hosted a Bassmaster College Series tournament that was won by Carson-Newman University anglers Ben Cully and Hayden Gaddis with a two-day total of 35 pounds\, 10 ounces. In two days\, a giant field of 261 teams caught just over 4\,536 pounds of bass. \nThe 2022 Classic will feature 55 qualifiers who will earn their berths through the Elite Series\, the Opens\, the TNT Fireworks B.A.S.S. Nation circuit\, the Carhartt Bassmaster College Series presented by Bass Pro Shops and the Bassmaster Team Championship plus the defending Bassmaster Classic champion and winner of the final Elite Series event of the 2021 season. They will compete in the no-entry fee event for their share of a whopping $1 million purse\, with the champion earning $300\,000. \n“Since its inception\, the Classic has been a tournament that changes lives\,” said B.A.S.S. Chairman Chase Anderson. “The payday is great\, sure. But the opportunity to refer to yourself as ‘Bassmaster Classic champion’ for the rest of your life — there’s no greater clout in our sport.” \nThe Bassmaster Classic is being hosted locally by Visit Anderson and VisitGreenvilleSC. \nAbout VisitGreenvilleSC\nVisitGreenvilleSC is a non-profit\, economic development organization that is responsible for promoting the greater Greenville area as an attractive destination for leisure travelers\, meetings\, conventions\, tradeshows\, and sporting events. As the official sales and marketing organization of the City and County of Greenville\, the goal of VisitGreenvilleSC is to increase visitor-generated revenue\, thereby strengthening Greenville’s economy. VisitGreenvilleSC is raising awareness of the destination through the brand “yeahTHATgreenville.” For more information go to VisitGreenvilleSC.com. \nAbout Visit Anderson\nVisit Anderson is the official destination marketing organization for Anderson\, South Carolina. The mission of Visit Anderson is to grow the economy of Anderson County by fostering sustainable tourism economic development and effectively marketing Anderson County and Lake Hartwell to increase visitation and improve the quality of life for the residents of Anderson County. For more information go to VisitAnderson.com. \nAbout B.A.S.S.\nB.A.S.S.\, which encompasses the Bassmaster tournament leagues\, events and media platforms\, is the worldwide authority on bass fishing and keeper of the culture of the sport\, providing cutting edge content on bass fishing whenever\, wherever and however bass fishing fans want to use it. Headquartered in Birmingham\, Ala.\, the 515\,000-member organization’s fully integrated media platforms include the industry’s leading magazines (Bassmaster and B.A.S.S. Times)\, website (Bassmaster.com)\, TV show\, radio show\, social media programs and events. For more than 50 years\, B.A.S.S. has been dedicated to access\, conservation and youth fishing. \nThe Bassmaster Tournament Trail includes the most prestigious events at each level of competition\, including the Bassmaster Elite Series\, Basspro.com Bassmaster Opens Series\, TNT Fireworks B.A.S.S. Nation Series\, Carhartt Bassmaster College Series presented by Bass Pro Shops\, Mossy Oak Fishing Bassmaster High School Series presented by Academy Sports + Outdoors\, Bassmaster Team Championship\, Bassmaster B.A.S.S. Nation Kayak Series powered by TourneyX and the ultimate celebration of competitive fishing\, the Academy Sports + Outdoors Bassmaster Classic presented by Huk. \n-30-
URL:https://www.andersoncountysc.org/event/bassmaster-classic/
LOCATION:Green Pond Landing & Event Center\, 470 Green Pond Road\, Anderson\, SC\, 29626\, United States
CATEGORIES:Community Event
ATTACH;FMTTYPE=image/jpeg:https://www.andersoncountysc.org/wp-content/uploads/2022/02/BASS.jpg
END:VEVENT
BEGIN:VEVENT
DTSTART;TZID=UTC:20220305T100000
DTEND;TZID=UTC:20220305T120000
DTSTAMP:20260421T061833
CREATED:20220217T163714Z
LAST-MODIFIED:20220217T163853Z
UID:10000654-1646474400-1646481600@www.andersoncountysc.org
SUMMARY:District 2 Community Cleanup Day
DESCRIPTION:Please join us at Anderson Memorial Stadium\, 1928 White St. Ext.\, Anderson. \nLitter pickup supplies will be provided!  \nRSVP by contacting: Samantha Porter at 260-1001  \nsbporter@andersoncountysc.org  \n 
URL:https://www.andersoncountysc.org/event/district-2-community-cleanup-day/
LOCATION:SC
CATEGORIES:Community Event
ATTACH;FMTTYPE=image/jpeg:https://www.andersoncountysc.org/wp-content/uploads/2022/02/District-2-Cleanup-Brochure-_March-5.jpg
END:VEVENT
BEGIN:VEVENT
DTSTART;TZID=UTC:20220308T180000
DTEND;TZID=UTC:20220308T190000
DTSTAMP:20260421T061833
CREATED:20220301T192830Z
LAST-MODIFIED:20220301T192830Z
UID:10000558-1646762400-1646766000@www.andersoncountysc.org
SUMMARY:Planning Commission Meeting
DESCRIPTION:The Planning Commission will meet Tuesday\, March 8\, 2022 at 6 pm at the Historic Courthouse. The agenda and packet can be found below. \nMarch 8\, 2022 Packet
URL:https://www.andersoncountysc.org/event/planning-commission-meeting-16/
LOCATION:Historic Courthouse\, 101 S. Main Street\, Anderson\, SC\, 29624\, United States
CATEGORIES:Planning Events
ORGANIZER;CN="Brittany McAbee":MAILTO:bdmcabee@andersoncountysc.org
END:VEVENT
BEGIN:VEVENT
DTSTART;TZID=UTC:20220310T171500
DTEND;TZID=UTC:20220310T174500
DTSTAMP:20260421T061833
CREATED:20220303T171320Z
LAST-MODIFIED:20220303T171320Z
UID:10000562-1646932500-1646934300@www.andersoncountysc.org
SUMMARY:Board of Zoning Appeals
DESCRIPTION:The Board of Zoning Appeals will meet on Thursday\, March 10\, 2022 at 5:15 pm at the Historic Courthouse. The agenda and packet can be found below. \nMarch 10\, 2022 Packet
URL:https://www.andersoncountysc.org/event/board-of-zoning-appeals/
LOCATION:Historic Courthouse\, 101 S. Main Street\, Anderson\, SC\, 29624\, United States
CATEGORIES:Planning Events
ORGANIZER;CN="Brittany McAbee":MAILTO:bdmcabee@andersoncountysc.org
END:VEVENT
BEGIN:VEVENT
DTSTART;TZID=UTC:20220312T090000
DTEND;TZID=UTC:20220312T120000
DTSTAMP:20260421T061833
CREATED:20220302T193551Z
LAST-MODIFIED:20220302T195442Z
UID:10000560-1647075600-1647086400@www.andersoncountysc.org
SUMMARY:Council District 3 Shred Day
DESCRIPTION:Community Shred Day NEXT Saturday at Iva First Baptist! Bring your old documents and dispose of them safely and securely! The shredding event is for residential customers only. \nADDRESS: 9536 Hwy 81 South\, Iva\, SC 29655 \n 
URL:https://www.andersoncountysc.org/event/council-district-3-shred-day/
LOCATION:SC
ATTACH;FMTTYPE=image/jpeg:https://www.andersoncountysc.org/wp-content/uploads/2022/03/Iva-Shred.jpg
END:VEVENT
BEGIN:VEVENT
DTSTART;TZID=UTC:20220315T183000
DTEND;TZID=UTC:20220315T193000
DTSTAMP:20260421T061833
CREATED:20220216T214844Z
LAST-MODIFIED:20220311T230239Z
UID:10000653-1647369000-1647372600@www.andersoncountysc.org
SUMMARY:County Council Meeting
DESCRIPTION:The Anderson County Council will meet on Tuesday\, March 15\, 2022 at 6:30 p.m. in the Council Chambers\, Historic Courthouse\, 101 S. Main St.\, Anderson\, SC 29624.\nView Agenda.
URL:https://www.andersoncountysc.org/event/county-council-meeting-30/
LOCATION:Historic Courthouse\, 101 S. Main Street\, Anderson\, SC\, 29624\, United States
CATEGORIES:County Council Meeting
ATTACH;FMTTYPE=image/jpeg:https://www.andersoncountysc.org/wp-content/uploads/2022/01/AC-Seal-Color-e1675270283402.jpg
ORGANIZER;CN="Renee Watts":MAILTO:rdwatts@andersoncountysc.org
END:VEVENT
BEGIN:VEVENT
DTSTART;TZID=UTC:20220318T120000
DTEND;TZID=UTC:20220318T130000
DTSTAMP:20260421T061833
CREATED:20220317T164105Z
LAST-MODIFIED:20220317T164200Z
UID:10000564-1647604800-1647608400@www.andersoncountysc.org
SUMMARY:Planning and Public Works Committee Meeting
DESCRIPTION:The Council’s Planning and Public Works Committee will meet on Friday\, March 18\, 2022\, at 12:00 pm at the Historic Courthouse\, 101 South Main Street\, Anderson\, SC. \n3.18.2022 Planning & Public Works Agenda
URL:https://www.andersoncountysc.org/event/planning-and-public-works-committee-meeting-3/
LOCATION:Historic Courthouse\, 101 S. Main Street\, Anderson\, SC\, 29624\, United States
CATEGORIES:Council Committee Meeting
ATTACH;FMTTYPE=image/jpeg:https://www.andersoncountysc.org/wp-content/uploads/2022/01/AC-Seal-Color-e1675270283402.jpg
ORGANIZER;CN="Renee Watts":MAILTO:rdwatts@andersoncountysc.org
END:VEVENT
BEGIN:VEVENT
DTSTART;TZID=UTC:20220329T180000
DTEND;TZID=UTC:20220329T190000
DTSTAMP:20260421T061833
CREATED:20220328T200730Z
LAST-MODIFIED:20220328T200730Z
UID:10000678-1648576800-1648580400@www.andersoncountysc.org
SUMMARY:Human Relations Council Meeting
DESCRIPTION:The Human Relations Council will meet on Tuesday\, March 29 at 6 PM at the Historic Courthouse. \n AGENDA \n  \n  \n  \n 
URL:https://www.andersoncountysc.org/event/human-relations-council-meeting-5/
LOCATION:Historic Courthouse\, 101 S. Main Street\, Anderson\, SC\, 29624\, United States
CATEGORIES:Committee Meetings
ATTACH;FMTTYPE=image/png:https://www.andersoncountysc.org/wp-content/uploads/2021/06/HRC-Logo_Website-1440x600-2-e1664202440957.png
END:VEVENT
END:VCALENDAR