BEGIN:VCALENDAR
VERSION:2.0
PRODID:-//Anderson County - ECPv6.15.20//NONSGML v1.0//EN
CALSCALE:GREGORIAN
METHOD:PUBLISH
X-WR-CALNAME:Anderson County
X-ORIGINAL-URL:https://www.andersoncountysc.org
X-WR-CALDESC:Events for Anderson County
REFRESH-INTERVAL;VALUE=DURATION:PT1H
X-Robots-Tag:noindex
X-PUBLISHED-TTL:PT1H
BEGIN:VTIMEZONE
TZID:UTC
BEGIN:STANDARD
TZOFFSETFROM:+0000
TZOFFSETTO:+0000
TZNAME:UTC
DTSTART:20210101T000000
END:STANDARD
END:VTIMEZONE
BEGIN:VEVENT
DTSTART;TZID=UTC:20220904T130000
DTEND;TZID=UTC:20220904T220000
DTSTAMP:20260420T194018
CREATED:20220722T161932Z
LAST-MODIFIED:20220722T161932Z
UID:10000599-1662296400-1662328800@www.andersoncountysc.org
SUMMARY:Celebrate Anderson
DESCRIPTION:CELEBRATE ANDERSON WELCOMES COUNTRY MUSIC STAR CRAIG MORGAN TO THE ANDERSON SPORTS & ENTERTAINMENT CENTER \nANDERSON\, SC – Anderson County is proud to welcome residents and visitors to the 24th annual Celebrate Anderson festival on Sunday\, September 4\, 2022. Celebrate Anderson’s tradition is to open with the Special Forces Parachute Team and TL Hanna Jazz Band to kick off the evening. \nCountry Artist\, Grand Ole Opry Inductee (2008)\, and United States Army Veteran Craig Morgan will take to the stage as a part of his “God\, Family\, Country” tour. A patriotic fireworks finale honoring the armed services and local first responders will close the evening. \n“Anderson County is appreciative of Michelin\, Arthrex\, as well as other sponsors and partners for joining the county in giving back to the local community by funding and hosting this free family event\,” said Anderson County Administrator Rusty Burns. \nCelebrate Anderson opens with the Celebrate-Fun-Zone on the front lawn of the Civic Center from 1 p.m. – 5 p.m. for kids of all ages to enjoy rides along with a festival food area for food purchases. “There is no need to look further than Anderson County for something to do this Labor Day Weekend\,” said Council Chairman Tommy Dunn. \nCelebrate Anderson is a free Labor Day event will take place at the Anderson Sports and Entertainment Center\, 3027 Martin Luther King Jr. Boulevard in Anderson. Gates open at the William A. Floyd Amphitheater at 5 p.m. Concessions are available. Guests may bring blankets and chairs for the concert. \n### \n1 p.m. – 5 p.m.      Celebrate-Fun-Zone | Front lawn of the Civic Center\n5 p.m.                      Gates Open | William A. Floyd Amphitheater\n5:30 p.m.                Celebrate Anderson
URL:https://www.andersoncountysc.org/event/celebrate-anderson-2/
LOCATION:ASEC | Anderson Sports & Entertainment Center\, 3027 Martin Luther King Jr. Boulevard\, Anderson\, SC\, 29625\, United States
CATEGORIES:Community Event
ATTACH;FMTTYPE=image/jpeg:https://www.andersoncountysc.org/wp-content/uploads/2022/07/Craig_Morgan-NO-Sponsors_Twitter.jpg
END:VEVENT
BEGIN:VEVENT
DTSTART;VALUE=DATE:20220905
DTEND;VALUE=DATE:20220906
DTSTAMP:20260420T194018
CREATED:20211221T204617Z
LAST-MODIFIED:20211221T204617Z
UID:10000624-1662336000-1662422399@www.andersoncountysc.org
SUMMARY:County Offices Closed
DESCRIPTION:Anderson County offices are closed on September 5\, 2022\, in observance of Labor Day. \nConvenience Centers\, Starr C&D Landfill\, & MRF will also be closed on September 5th.
URL:https://www.andersoncountysc.org/event/county-offices-closed-23/
LOCATION:SC
CATEGORIES:County Offices Closed
END:VEVENT
BEGIN:VEVENT
DTSTART;TZID=UTC:20220906T180000
DTEND;TZID=UTC:20220906T193000
DTSTAMP:20260420T194018
CREATED:20220630T164812Z
LAST-MODIFIED:20220902T220512Z
UID:10000727-1662487200-1662492600@www.andersoncountysc.org
SUMMARY:County Council Meeting
DESCRIPTION:The Anderson County Council will meet on Tuesday\, September 6\, 2022 in the Council Chambers\, Historic Courthouse\, 101 S. Main St.\, Anderson\, SC 29624.\n\nAwards and Recognitions at 6 p.m.\nCouncil Meeting at 6:30 p.m.\n\nAGENDA
URL:https://www.andersoncountysc.org/event/county-council-meeting-6/
LOCATION:Historic Courthouse\, 101 S. Main Street\, Anderson\, SC\, 29624\, United States
CATEGORIES:County Council Meeting
ATTACH;FMTTYPE=image/jpeg:https://www.andersoncountysc.org/wp-content/uploads/2022/01/AC-Seal-Color-e1675270283402.jpg
END:VEVENT
BEGIN:VEVENT
DTSTART;TZID=UTC:20220907T100000
DTEND;TZID=UTC:20220907T150000
DTSTAMP:20260420T194018
CREATED:20220906T145918Z
LAST-MODIFIED:20220906T165405Z
UID:10000734-1662544800-1662562800@www.andersoncountysc.org
SUMMARY:County Council Special Called Meeting
DESCRIPTION:The Anderson County Council will hold a Special Called Meeting on Wednesday\, September 7\, 2022\, at 10:00 a.m. The meeting will be held at the Historic Courthouse\, 101 S. Main Street\, Anderson\, South Carolina. \n9.7.2022 Special Called Agenda
URL:https://www.andersoncountysc.org/event/council-special-called-meeting-2/
LOCATION:Historic Courthouse\, 101 S. Main Street\, Anderson\, SC\, 29624\, United States
CATEGORIES:County Council Meeting
ATTACH;FMTTYPE=image/jpeg:https://www.andersoncountysc.org/wp-content/uploads/2022/01/AC-Seal-Color-e1675270283402.jpg
ORGANIZER;CN="Renee Watts":MAILTO:rdwatts@andersoncountysc.org
END:VEVENT
BEGIN:VEVENT
DTSTART;TZID=UTC:20220908T171500
DTEND;TZID=UTC:20220908T181500
DTSTAMP:20260420T194018
CREATED:20220906T130747Z
LAST-MODIFIED:20220906T130747Z
UID:10000733-1662657300-1662660900@www.andersoncountysc.org
SUMMARY:Board of Zoning Appeals Meeting
DESCRIPTION:The Board of Zoning Appeals will meet on Thursday\, September 8\, 2022 at 5:15 pm at the Historic Courthouse. The agenda and packet can be found below. \nSeptember 8\, 2022 Packet
URL:https://www.andersoncountysc.org/event/board-of-zoning-appeals-meeting-13/
LOCATION:SC
CATEGORIES:Planning Events
ORGANIZER;CN="Brittany McAbee":MAILTO:bdmcabee@andersoncountysc.org
END:VEVENT
BEGIN:VEVENT
DTSTART;TZID=UTC:20220913T180000
DTEND;TZID=UTC:20220913T200000
DTSTAMP:20260420T194018
CREATED:20220906T130326Z
LAST-MODIFIED:20220906T130326Z
UID:10000732-1663092000-1663099200@www.andersoncountysc.org
SUMMARY:Planning Commission Meeting
DESCRIPTION:The Planning Commission will meet Tuesday\, September 13\, 2022 at 6 pm at the Historic Courthouse. The agenda and packet can be found below. \nSeptember 13\, 2022 Packet
URL:https://www.andersoncountysc.org/event/planning-commission-meeting-19/
LOCATION:Historic Courthouse\, 101 S. Main Street\, Anderson\, SC\, 29624\, United States
CATEGORIES:Planning Events
ORGANIZER;CN="Brittany McAbee":MAILTO:bdmcabee@andersoncountysc.org
END:VEVENT
BEGIN:VEVENT
DTSTART;TZID=UTC:20220914T140000
DTEND;TZID=UTC:20220914T150000
DTSTAMP:20260420T194018
CREATED:20220912T144721Z
LAST-MODIFIED:20220912T144721Z
UID:10000735-1663164000-1663167600@www.andersoncountysc.org
SUMMARY:County Council Special Called Meeting
DESCRIPTION:The Anderson County Council will hold a Special Called Meeting on Wednesday\, September 14\, 2022\, at 2:00 p.m. The meeting will be held at the Historic Courthouse\, 101 S. Main Street\, Anderson\, South Carolina. \n9.14.2022 2 PM Agenda | Special Called Meeting
URL:https://www.andersoncountysc.org/event/county-council-special-called-meeting/
LOCATION:Historic Courthouse\, 101 S. Main Street\, Anderson\, SC\, 29624\, United States
CATEGORIES:County Council Meeting
ATTACH;FMTTYPE=image/jpeg:https://www.andersoncountysc.org/wp-content/uploads/2022/01/AC-Seal-Color-e1675270283402.jpg
ORGANIZER;CN="Renee Watts":MAILTO:rdwatts@andersoncountysc.org
END:VEVENT
BEGIN:VEVENT
DTSTART;TZID=UTC:20220914T180000
DTEND;TZID=UTC:20220914T190000
DTSTAMP:20260420T194018
CREATED:20220912T145622Z
LAST-MODIFIED:20220912T145622Z
UID:10000736-1663178400-1663182000@www.andersoncountysc.org
SUMMARY:County Council Special Called Meeting
DESCRIPTION:The Anderson County Council will hold a Special Called Meeting on Wednesday\, September 14\, 2022\, at 6:00 p.m. The meeting will be held at the Historic Courthouse\, 101 S. Main Street\, Anderson\, South Carolina. \n9.14.2022 6 PM Agenda | Special Called Meeting
URL:https://www.andersoncountysc.org/event/county-council-special-called-meeting-2/
LOCATION:Historic Courthouse\, 101 S. Main Street\, Anderson\, SC\, 29624\, United States
CATEGORIES:County Council Meeting
ATTACH;FMTTYPE=image/jpeg:https://www.andersoncountysc.org/wp-content/uploads/2022/01/AC-Seal-Color-e1675270283402.jpg
ORGANIZER;CN="Renee Watts":MAILTO:rdwatts@andersoncountysc.org
END:VEVENT
BEGIN:VEVENT
DTSTART;TZID=UTC:20220916T093000
DTEND;TZID=UTC:20220916T223000
DTSTAMP:20260420T194018
CREATED:20220915T131502Z
LAST-MODIFIED:20220915T131548Z
UID:10000738-1663320600-1663367400@www.andersoncountysc.org
SUMMARY:Special Called Meeting: Directors of the Detention Facilities Corporation
DESCRIPTION:A Special Called Meeting of the Directors of the Anderson County Detention Facilities Corporation is scheduled for September 16\, 2022 at 9:30 A.M. \n 9.16.2022 Agenda ACDFC \nMeeting Location: Historic Courthouse\, 101 South Main Street\, Anderson\, SC 29624\n                                  Administrator’s Conference Room-2nd Floor
URL:https://www.andersoncountysc.org/event/special-called-meeting-of-the-directors-of-the-detention-facilities-corporation/
LOCATION:Historic Courthouse\, 101 S. Main Street\, Anderson\, SC\, 29624\, United States
CATEGORIES:Committee Meetings
ORGANIZER;CN="Renee Watts":MAILTO:rdwatts@andersoncountysc.org
END:VEVENT
BEGIN:VEVENT
DTSTART;TZID=UTC:20220920T183000
DTEND;TZID=UTC:20220920T193000
DTSTAMP:20260420T194018
CREATED:20220630T164931Z
LAST-MODIFIED:20220916T184935Z
UID:10000728-1663698600-1663702200@www.andersoncountysc.org
SUMMARY:County Council Meeting
DESCRIPTION:The Anderson County Council will meet on Tuesday\, September 20\, 2022 in the Council Chambers\, Historic Courthouse\, 101 S. Main St.\, Anderson\, SC 29624.\n\nAwards and Recognitions at 6 p.m.\nCouncil Meeting at 6:30 p.m. \n\n9.20.2022 Agenda Packet
URL:https://www.andersoncountysc.org/event/county-council-meeting-7/
LOCATION:Historic Courthouse\, 101 S. Main Street\, Anderson\, SC\, 29624\, United States
CATEGORIES:County Council Meeting
ATTACH;FMTTYPE=image/jpeg:https://www.andersoncountysc.org/wp-content/uploads/2022/01/AC-Seal-Color-e1675270283402.jpg
ORGANIZER;CN="Renee Watts":MAILTO:rdwatts@andersoncountysc.org
END:VEVENT
BEGIN:VEVENT
DTSTART;TZID=UTC:20220923T113000
DTEND;TZID=UTC:20220923T123000
DTSTAMP:20260420T194018
CREATED:20220921T175027Z
LAST-MODIFIED:20220921T175357Z
UID:10000740-1663932600-1663936200@www.andersoncountysc.org
SUMMARY:Litter Adhoc Committee Meeting
DESCRIPTION:The Anderson County Litter Adhoc Committee will meet Friday\, September 23\, 2022\, 11:30 a.m. at the Historic Courthouse\, 101 South Main Street\, Anderson SC. \n9.23.2022 Litter Agenda
URL:https://www.andersoncountysc.org/event/litter-adhoc-committee-meeting/
LOCATION:Historic Courthouse\, 101 S. Main Street\, Anderson\, SC\, 29624\, United States
CATEGORIES:Council Committee Meeting
ATTACH;FMTTYPE=image/jpeg:https://www.andersoncountysc.org/wp-content/uploads/2022/01/AC-Seal-Color-e1675270283402.jpg
ORGANIZER;CN="Renee Watts":MAILTO:rdwatts@andersoncountysc.org
END:VEVENT
BEGIN:VEVENT
DTSTART;TZID=UTC:20220923T131500
DTEND;TZID=UTC:20220923T140000
DTSTAMP:20260420T194018
CREATED:20220921T175310Z
LAST-MODIFIED:20220921T175422Z
UID:10000742-1663938900-1663941600@www.andersoncountysc.org
SUMMARY:Finance Committee Meeting
DESCRIPTION:The Anderson County Finance Committee will meet Friday\, September 23\, 2022\, 1:15 p.m. at the Historic Courthouse\, 101 South Main Street\, Anderson SC. \n9.23.2022 Finance Agenda
URL:https://www.andersoncountysc.org/event/finance-committee-meeting/
LOCATION:Historic Courthouse\, 101 S. Main Street\, Anderson\, SC\, 29624\, United States
CATEGORIES:Council Committee Meeting
ATTACH;FMTTYPE=image/jpeg:https://www.andersoncountysc.org/wp-content/uploads/2022/01/AC-Seal-Color-e1675270283402.jpg
ORGANIZER;CN="Renee Watts":MAILTO:rdwatts@andersoncountysc.org
END:VEVENT
BEGIN:VEVENT
DTSTART;TZID=UTC:20220927T180000
DTEND;TZID=UTC:20220927T190000
DTSTAMP:20260420T194018
CREATED:20220926T140149Z
LAST-MODIFIED:20220926T142737Z
UID:10000756-1664301600-1664305200@www.andersoncountysc.org
SUMMARY:HRC Meeting
DESCRIPTION:The Human Relations Council will meet on Tuesday\, September 27\, 2022 @ 6 PM at the Historic Courthouse\, 101 S. Main Street\, Anderson.\nNote: Zoom meeting upon request. \n9.27.22 HRC Agenda
URL:https://www.andersoncountysc.org/event/hrc-meeting-4/
LOCATION:Historic Courthouse\, 101 S. Main Street\, Anderson\, SC\, 29624\, United States
CATEGORIES:Committee Meetings
ATTACH;FMTTYPE=image/png:https://www.andersoncountysc.org/wp-content/uploads/2021/06/HRC-Logo_Website-1440x600-2-e1664202440957.png
END:VEVENT
END:VCALENDAR