BEGIN:VCALENDAR
VERSION:2.0
PRODID:-//Anderson County - ECPv6.15.20//NONSGML v1.0//EN
CALSCALE:GREGORIAN
METHOD:PUBLISH
X-ORIGINAL-URL:https://www.andersoncountysc.org
X-WR-CALDESC:Events for Anderson County
REFRESH-INTERVAL;VALUE=DURATION:PT1H
X-Robots-Tag:noindex
X-PUBLISHED-TTL:PT1H
BEGIN:VTIMEZONE
TZID:UTC
BEGIN:STANDARD
TZOFFSETFROM:+0000
TZOFFSETTO:+0000
TZNAME:UTC
DTSTART:20210101T000000
END:STANDARD
END:VTIMEZONE
BEGIN:VEVENT
DTSTART;TZID=UTC:20221004T183000
DTEND;TZID=UTC:20221004T193000
DTSTAMP:20260420T175613
CREATED:20220921T180258Z
LAST-MODIFIED:20220930T190849Z
UID:10000744-1664908200-1664911800@www.andersoncountysc.org
SUMMARY:County Council Meeting
DESCRIPTION:The Anderson County Council will meet on Tuesday\, October 4\, 2022 in the Council Chambers\, Historic Courthouse\, 101 S. Main St.\, Anderson\, SC 29624.\n\nAwards and Recognitions at 6 p.m.\nCouncil Meeting at 6:30 p.m. \n\n10.4.2022 Agenda Packet
URL:https://www.andersoncountysc.org/event/county-council-meeting-9/
LOCATION:Historic Courthouse\, 101 S. Main Street\, Anderson\, SC\, 29624\, United States
CATEGORIES:County Council Meeting
ATTACH;FMTTYPE=image/jpeg:https://www.andersoncountysc.org/wp-content/uploads/2022/01/AC-Seal-Color-e1675270283402.jpg
ORGANIZER;CN="Renee Watts":MAILTO:rdwatts@andersoncountysc.org
END:VEVENT
BEGIN:VEVENT
DTSTART;TZID=UTC:20221011T180000
DTEND;TZID=UTC:20221011T190000
DTSTAMP:20260420T175613
CREATED:20221003T225603Z
LAST-MODIFIED:20221003T225603Z
UID:10000758-1665511200-1665514800@www.andersoncountysc.org
SUMMARY:Planning Commission Meeting
DESCRIPTION:The Planning Commission will meet Tuesday\, October 11\, 2022 at 6 pm at the Historic Courthouse. The agenda and packet can be found below. \nOctober 11\, 2022 Packet
URL:https://www.andersoncountysc.org/event/planning-commission-meeting-20/
LOCATION:Historic Courthouse\, 101 S. Main Street\, Anderson\, SC\, 29624\, United States
CATEGORIES:Planning Events
ORGANIZER;CN="Brittany McAbee":MAILTO:bdmcabee@andersoncountysc.org
END:VEVENT
BEGIN:VEVENT
DTSTART;TZID=UTC:20221013T130000
DTEND;TZID=UTC:20221013T140000
DTSTAMP:20260420T175613
CREATED:20221010T143118Z
LAST-MODIFIED:20221010T145042Z
UID:10000760-1665666000-1665669600@www.andersoncountysc.org
SUMMARY:Convention & Visitors Bureau Board Meeting
DESCRIPTION:ANDERSON COUNTY CONVENTION & VISITORS BUREAU\nBoard of Directors Regular Meeting Thursday October 13\, 2022 | 1:00 PM \nAGENDA \nI. Call to Order\nII. Approval of Agenda\nIII. Approval of February 2022 Meeting Minutes\nIV. Treasurer’s Report\nV. Old Business\na. Accounting/Financial Matters\nVI. New Business\na. CVB Update\nb. Upcoming Community Events\nc. Other New Business\n\nVII. Member Comments/Announcements \nVIII. Adjournment
URL:https://www.andersoncountysc.org/event/convention-visitors-bureau-board-meeting/
LOCATION:Visit Anderson\, 110 Federal Street\, Anderson\, SC\, 29621\, United States
CATEGORIES:Community Meeting
ATTACH;FMTTYPE=image/jpeg:https://www.andersoncountysc.org/wp-content/uploads/2022/10/Visit-Anderson.jpg
END:VEVENT
BEGIN:VEVENT
DTSTART;TZID=UTC:20221013T171500
DTEND;TZID=UTC:20221013T181500
DTSTAMP:20260420T175613
CREATED:20221006T131110Z
LAST-MODIFIED:20221006T131110Z
UID:10000759-1665681300-1665684900@www.andersoncountysc.org
SUMMARY:Board of Zoning Appeals Meeting
DESCRIPTION:The Board of Zoning Appeals will meet on Thursday\, October 13\, 2022 at 5:15 pm at the Historic Courthouse. The agenda and packet can be found below. \nOctober 13\, 2022 Packet
URL:https://www.andersoncountysc.org/event/board-of-zoning-appeals-meeting-14/
LOCATION:Historic Courthouse\, 101 S. Main Street\, Anderson\, SC\, 29624\, United States
CATEGORIES:Planning Events
ORGANIZER;CN="Brittany McAbee":MAILTO:bdmcabee@andersoncountysc.org
END:VEVENT
BEGIN:VEVENT
DTSTART;TZID=UTC:20221013T180000
DTEND;TZID=UTC:20221013T190000
DTSTAMP:20260420T175613
CREATED:20220914T153948Z
LAST-MODIFIED:20220914T160230Z
UID:10000737-1665684000-1665687600@www.andersoncountysc.org
SUMMARY:Parks & Rec Master Plan Meeting for Council District 3 & 7
DESCRIPTION:A public input meeting will be held on October 13\, 2022 from 6pm-7pm at the Belton City Hall\, 306 Anderson St\, Belton\, SC. \nHelp us determine the future of parks and recreation.\nHow can we improve? Which facilities do you want?\nWhich types of programs should we be providing? \nBelton Parks: Abney Park | Cheddar Community Park and Walking Track | Mt Bethel Community Park \nTake the survey: www.surveymonkey.com/r/District3-7
URL:https://www.andersoncountysc.org/event/parks-rec-master-plan-meeting-for-council-district-3-7/
LOCATION:SC
CATEGORIES:Community Meeting
ATTACH;FMTTYPE=image/png:https://www.andersoncountysc.org/wp-content/uploads/2022/09/Belton-Parks-Survey_title.png
ORGANIZER;CN="Renee Watts":MAILTO:rdwatts@andersoncountysc.org
END:VEVENT
BEGIN:VEVENT
DTSTART;TZID=UTC:20221017T160000
DTEND;TZID=UTC:20221017T170000
DTSTAMP:20260420T175613
CREATED:20220803T132125Z
LAST-MODIFIED:20220803T132125Z
UID:10000605-1666022400-1666026000@www.andersoncountysc.org
SUMMARY:ACTC Meeting
DESCRIPTION:Anderson County Transportation Committee will meet on Monday\, October 17\, 2022 at 4 p.m. via Microsoft Teams.  The meeting is open to the public at 1428 Pearman Dairy Road\, Anderson. An agenda will be posted prior to the meeting. \n10.17.22 Notice
URL:https://www.andersoncountysc.org/event/actc-meeting-2/
LOCATION:1428 County Complex\, 1428 Pearman Dairy Road\, Anderson\, 29625\, United States
CATEGORIES:Committee Meetings
ATTACH;FMTTYPE=image/png:https://www.andersoncountysc.org/wp-content/uploads/2021/04/Screen-Shot-2021-04-19-at-11.27.19-AM.png
ORGANIZER;CN="Brittany Burdette":MAILTO:bnburdette@andersoncountysc.org
END:VEVENT
BEGIN:VEVENT
DTSTART;TZID=UTC:20221018T180000
DTEND;TZID=UTC:20221018T193000
DTSTAMP:20260420T175613
CREATED:20220921T180441Z
LAST-MODIFIED:20221017T191751Z
UID:10000746-1666116000-1666121400@www.andersoncountysc.org
SUMMARY:County Council Meeting
DESCRIPTION:The Anderson County Council will meet on Tuesday\, October 18\, 2022\, in the Council Chambers\, Historic Courthouse\, 101 S. Main St.\, Anderson\, SC 29624.\n\nCouncil Meeting at 6:30 p.m.\n\nAMENDED AGENDA\nAGENDA
URL:https://www.andersoncountysc.org/event/county-council-meeting-10/
LOCATION:Historic Courthouse\, 101 S. Main Street\, Anderson\, SC\, 29624\, United States
CATEGORIES:County Council Meeting
ATTACH;FMTTYPE=image/jpeg:https://www.andersoncountysc.org/wp-content/uploads/2022/01/AC-Seal-Color-e1675270283402.jpg
ORGANIZER;CN="Renee Watts":MAILTO:rdwatts@andersoncountysc.org
END:VEVENT
BEGIN:VEVENT
DTSTART;TZID=UTC:20221022T110000
DTEND;TZID=UTC:20221022T180000
DTSTAMP:20260420T175613
CREATED:20221019T140931Z
LAST-MODIFIED:20221019T150144Z
UID:10000766-1666436400-1666461600@www.andersoncountysc.org
SUMMARY:Homeland Park Fall Festival
DESCRIPTION:1st Annual Homeland Park FALL FESTIVAL –\nFree Admission!\nSaturday\, October 2nd\n11 a.m. to 6 p.m. \nHomeland Park Volunteer Fire Department (Old Fire Dept.)\n3299 S. Main St. \nBring your own chair and hangout.\nNo Alcoholic Beverages Allowed! \nFood Vendors\nD.J. “Cool Dave”\nBounce Houses\nGames\nInflatable Slide\nSC Upstate Heroes\nCostume Contests\nCharity stalls\nArts & Crafts Vendors\nCar Show\nTrunk or Treat\nRaffles \nSponsored by:\nHomeland Park CommunityWatch (501c3)\nContact: Walter Lanier\n864-933-3787\nwlanier@homelandpark.org
URL:https://www.andersoncountysc.org/event/homeland-park-fall-festival/
LOCATION:Homeland Park Volunteer Fire Department\, 3299 South Main Street\, Anderson\, SC\, 29624\, United States
CATEGORIES:Community Event
ATTACH;FMTTYPE=image/jpeg:https://www.andersoncountysc.org/wp-content/uploads/2022/10/Homeland-Park-Fall-Festival-2022-1-e1666191699630.jpg
END:VEVENT
BEGIN:VEVENT
DTSTART;TZID=UTC:20221025T160000
DTEND;TZID=UTC:20221025T170000
DTSTAMP:20260420T175613
CREATED:20221014T193604Z
LAST-MODIFIED:20221014T193741Z
UID:10000762-1666713600-1666717200@www.andersoncountysc.org
SUMMARY:Legislative Delegation Meeting
DESCRIPTION:Representative Westley P. “West” Cox\, Chairman of the Anderson County Legislative Delegation\, has announced a Delegation Meeting to be held October 25\, 2022\, 4:00 P.M. at the Ronald Townsend Government Building\, 2404 N. Main St.\, Anderson\, SC. \n\nBUDGETS\na.  Anderson County Board of Education\nb.  Renaissance Academy\nPARD (Parks & Recreation) Requests\nWATER RECREATION RESOURCE FUND / GAME & FISH FUND Requests\n\nPlease contact Caroline Piasio (864.260.4025) with any questions.
URL:https://www.andersoncountysc.org/event/legislative-delegation-meeting-6/
LOCATION:Ronald P. Townsend Building\, 2404 N. Main Street\, Anderson\, SC\, 29621\, United States
CATEGORIES:Legislative Delegation
ATTACH;FMTTYPE=image/jpeg:https://www.andersoncountysc.org/wp-content/uploads/2022/03/275120680_326791379480590_1553020834931961463_n-e1763512677483.jpg
ORGANIZER;CN="Caroline Piaso":MAILTO:cpiasio@andersoncountysc.org
END:VEVENT
BEGIN:VEVENT
DTSTART;TZID=UTC:20221025T180000
DTEND;TZID=UTC:20221025T180000
DTSTAMP:20260420T175613
CREATED:20221024T175708Z
LAST-MODIFIED:20221031T130429Z
UID:10000774-1666720800-1666720800@www.andersoncountysc.org
SUMMARY:Human Relations Council
DESCRIPTION:AGENDA\nREGULAR MEETING | October 25\, 2022 | 6:00 PM\n2nd Floor Conference Room Old Court House\nCindy Robertson\, Chair\nPresiding \n  \n1. APPROVAL OF MINUTES  \n2. TREASURER’S REPORT – Janie Turmon\, Treasurer  \n3. BUSINESS  \na. Old Business  \n\nI. Calendar of Events \n\nNative American with Nancy Basket – finalize event information and needs  \nb. New Business  \n\nI.Welcoming our guest – Mr. Rusty Burns \n\n7. ADJOURNMENT Cindy Robertson\, Chair  \n  \nMission Statement: The Anderson County Human Relations Council seeks to improve human relations by building bridges and removing barriers among all races and ethnic groups represented throughout Anderson County.  \n  \nPost Office Box 8002\, Anderson\, S.C. 29622-8002 | (864) 556-9468\nwww.andersoncountysc.org/humanrelations 
URL:https://www.andersoncountysc.org/event/human-relations-council-3/
LOCATION:SC
ATTACH;FMTTYPE=image/png:https://www.andersoncountysc.org/wp-content/uploads/2021/06/HRC-Logo_Website-1440x600-2-e1664202440957.png
END:VEVENT
BEGIN:VEVENT
DTSTART;TZID=UTC:20221027T170000
DTEND;TZID=UTC:20221027T180000
DTSTAMP:20260420T175613
CREATED:20221027T142101Z
LAST-MODIFIED:20221027T142925Z
UID:10000776-1666890000-1666893600@www.andersoncountysc.org
SUMMARY:Park & Recreation Master Plan Meeting | District 3 & 7
DESCRIPTION:A public input meeting will be held on October 27\, 2022 from 5pm-6pm at the Honea Path Town Hall\, 204 S. Main Street\, Honea Path\, SC.\n\nHelp us determine the future of parks and recreation.\nHow can we improve? Which facilities do you want?\nWhich types of programs should we be providing?\n\nCheddar Community Park + Track | Flat Rock Community Park I Friendship Community Park\nMountain View Park | Mt Bethel Community Park | Parker Bowie Athletic Complex\nStarr Athletic Complex | Starr Walking Track | Thomas Crate Watt Memorial Park\nTimmerman Jr. Boat Ramp\n\nTake the Survey:\nwww.surveymonkey.com/r/District3-7
URL:https://www.andersoncountysc.org/event/park-recreation-master-plan-meeting-district-3-7/
LOCATION:SC
CATEGORIES:Community Meeting
ATTACH;FMTTYPE=image/jpeg:https://www.andersoncountysc.org/wp-content/uploads/2022/10/D3_7-Park-Master.jpg
END:VEVENT
BEGIN:VEVENT
DTSTART;TZID=UTC:20221029T160000
DTEND;TZID=UTC:20221029T190000
DTSTAMP:20260420T175613
CREATED:20221012T145031Z
LAST-MODIFIED:20221012T145031Z
UID:10000761-1667059200-1667070000@www.andersoncountysc.org
SUMMARY:Fall Festival & Trick-or-Treat the Halls of PAWS
DESCRIPTION:Anderson County PAWS will host their annual Fall Festival & Trick-or-Treat event on Saturday\, October 29th!\n\n\n \n\n\nFall Festival begins at 4 p.m.\n\n\nTrick-or-Treat is at 5 p.m.
URL:https://www.andersoncountysc.org/event/fall-festival-trick-or-treat-the-halls-of-paws/
LOCATION:PAWS\, 1320 Hwy. 29 South\, Anderson\, SC\, 29626\, United States
CATEGORIES:Community Event
ATTACH;FMTTYPE=image/jpeg:https://www.andersoncountysc.org/wp-content/uploads/2022/10/Halls-of-PAWS-Fall-Fest.jpg
END:VEVENT
END:VCALENDAR