BEGIN:VCALENDAR
VERSION:2.0
PRODID:-//Anderson County - ECPv6.15.20//NONSGML v1.0//EN
CALSCALE:GREGORIAN
METHOD:PUBLISH
X-WR-CALNAME:Anderson County
X-ORIGINAL-URL:https://www.andersoncountysc.org
X-WR-CALDESC:Events for Anderson County
REFRESH-INTERVAL;VALUE=DURATION:PT1H
X-Robots-Tag:noindex
X-PUBLISHED-TTL:PT1H
BEGIN:VTIMEZONE
TZID:UTC
BEGIN:STANDARD
TZOFFSETFROM:+0000
TZOFFSETTO:+0000
TZNAME:UTC
DTSTART:20210101T000000
END:STANDARD
END:VTIMEZONE
BEGIN:VEVENT
DTSTART;TZID=UTC:20221201T160000
DTEND;TZID=UTC:20221201T180000
DTSTAMP:20260420T142703
CREATED:20221021T144604Z
LAST-MODIFIED:20221021T145745Z
UID:10000770-1669910400-1669917600@www.andersoncountysc.org
SUMMARY:Council District 1 Parks & Recreation Master Plan Meeting
DESCRIPTION:Anderson County will host two meetings to discuss the needs or improvements for parks & recreation in Council District 1\, including Equinox Park\, Brown Road Boat Ramp\, ASEC\, and Chris Taylor Park. \n12/1/2022 – Magnetic South Brewery – 4pm-6pm\n12/8/2022 – Anderson Area YMCA – 11am-1pm \nHelp us determine the future of parks and recreation. How can we improve? Which facilities do you want? Which types of programs should we be providing? \nPLEASE PARTICIPATE IN OUR ONLINE SURVEY www.surveymonkey.com/r/AndersonDistrict1MP \n  \n 
URL:https://www.andersoncountysc.org/event/council-district-1-parks-recreation-master-plan-meeting/
LOCATION:SC
CATEGORIES:Community Meeting
ATTACH;FMTTYPE=image/jpeg:https://www.andersoncountysc.org/wp-content/uploads/2022/10/Park-Rec-Master-Plan-Thumb-1.jpg
ORGANIZER;CN="Renee Watts":MAILTO:rdwatts@andersoncountysc.org
END:VEVENT
BEGIN:VEVENT
DTSTART;TZID=UTC:20221202T090000
DTEND;TZID=UTC:20221202T100000
DTSTAMP:20260420T142703
CREATED:20221130T213430Z
LAST-MODIFIED:20221201T140554Z
UID:10000783-1669971600-1669975200@www.andersoncountysc.org
SUMMARY:Planning & Public Works Committee Meeting
DESCRIPTION:The Council’s Planning and Public Works Committee will meet on Friday\, December 2\, 2022\, at 9:00am at the Historic Courthouse\, 101 South Main Street\, Anderson\, SC. \nAMENDED AGENDA
URL:https://www.andersoncountysc.org/event/planning-public-works-committee-meeting-5/
LOCATION:Historic Courthouse\, 101 S. Main Street\, Anderson\, SC\, 29624\, United States
CATEGORIES:Council Committee Meeting
ATTACH;FMTTYPE=image/jpeg:https://www.andersoncountysc.org/wp-content/uploads/2022/01/AC-Seal-Color-e1675270283402.jpg
ORGANIZER;CN="Renee Watts":MAILTO:rdwatts@andersoncountysc.org
END:VEVENT
BEGIN:VEVENT
DTSTART;TZID=UTC:20221202T180000
DTEND;TZID=UTC:20221202T210000
DTSTAMP:20260420T142703
CREATED:20221130T222250Z
LAST-MODIFIED:20221130T222250Z
UID:10000784-1670004000-1670014800@www.andersoncountysc.org
SUMMARY:Anderson County Christmas Tree Lighting
DESCRIPTION:December 2nd at 6 o’clock is our community’s annual Christmas Tree Lighting! Hanna Jazz Band starts the evening with holiday music. AnMed will be back with lots of fun and activities for kids! NEW this year is The Combo Kings\, and always a favorite is the Pelzer’s light people.
URL:https://www.andersoncountysc.org/event/anderson-county-christmas-tree-lighting/
LOCATION:Anderson County Courthouse\, 100 S. Main Street\, Anderson\, SC\, 29624\, United States
CATEGORIES:Community Event
ATTACH;FMTTYPE=image/jpeg:https://www.andersoncountysc.org/wp-content/uploads/2022/11/316283966_523243079835418_230333162057908886_n.jpg
END:VEVENT
BEGIN:VEVENT
DTSTART;TZID=UTC:20221206T183000
DTEND;TZID=UTC:20221206T193000
DTSTAMP:20260420T142703
CREATED:20220921T181006Z
LAST-MODIFIED:20221202T210504Z
UID:10000752-1670351400-1670355000@www.andersoncountysc.org
SUMMARY:County Council Meeting
DESCRIPTION:The Anderson County Council will meet on Tuesday\, December 6\, 2022 in the Council Chambers\, Historic Courthouse\, 101 S. Main St.\, Anderson\, SC 29624.\n\nAwards and Recognitions at 6 p.m.\nCouncil Meeting at 6:30 p.m.\n\nAgenda
URL:https://www.andersoncountysc.org/event/county-council-meeting-37/
LOCATION:Historic Courthouse\, 101 S. Main Street\, Anderson\, SC\, 29624\, United States
CATEGORIES:County Council Meeting
ATTACH;FMTTYPE=image/jpeg:https://www.andersoncountysc.org/wp-content/uploads/2022/01/AC-Seal-Color-e1675270283402.jpg
ORGANIZER;CN="Renee Watts":MAILTO:rdwatts@andersoncountysc.org
END:VEVENT
BEGIN:VEVENT
DTSTART;TZID=UTC:20221208T110000
DTEND;TZID=UTC:20221208T130000
DTSTAMP:20260420T142703
CREATED:20221021T145103Z
LAST-MODIFIED:20221021T145858Z
UID:10000772-1670497200-1670504400@www.andersoncountysc.org
SUMMARY:Council District 1 Parks & Recreation Master Plan Meeting
DESCRIPTION:Anderson County will host the second of two meetings to discuss the needs or improvements for parks & recreation in Council District 1\, including Equinox Park\, Brown Road Boat Ramp\, ASEC\, and Chris Taylor Park. \n12/8/2022 – Anderson Area YMCA – 11am-1pm \nHelp us determine the future of parks and recreation. How can we improve? Which facilities do you want? Which types of programs should we be providing? \nPLEASE PARTICIPATE IN OUR ONLINE SURVEY\nwww.surveymonkey.com/r/AndersonDistrict1MP
URL:https://www.andersoncountysc.org/event/council-district-1-parks-recreation-master-plan-meeting-2/
LOCATION:SC
CATEGORIES:Community Meeting
ATTACH;FMTTYPE=image/jpeg:https://www.andersoncountysc.org/wp-content/uploads/2022/10/Park-Rec-Master-Plan-Thumb-1.jpg
ORGANIZER;CN="Renee Watts":MAILTO:rdwatts@andersoncountysc.org
END:VEVENT
BEGIN:VEVENT
DTSTART;TZID=UTC:20221208T171500
DTEND;TZID=UTC:20221208T181500
DTSTAMP:20260420T142703
CREATED:20221201T190947Z
LAST-MODIFIED:20221208T204616Z
UID:10000632-1670519700-1670523300@www.andersoncountysc.org
SUMMARY:Board of Zoning Appeals Meeting (Canceled)
DESCRIPTION:The Board of Zoning Appeals will meet on Thursday\, December 8\, 2022 at 5:15 pm at the Historic Courthouse. The agenda and packet can be found below. \nDecember 8\, 2022 Packet
URL:https://www.andersoncountysc.org/event/board-of-zoning-appeals-meeting-15/
LOCATION:Historic Courthouse\, 101 S. Main Street\, Anderson\, SC\, 29624\, United States
CATEGORIES:Planning Events
ORGANIZER;CN="Brittany McAbee":MAILTO:bdmcabee@andersoncountysc.org
END:VEVENT
BEGIN:VEVENT
DTSTART;TZID=UTC:20221213T060000
DTEND;TZID=UTC:20221213T200000
DTSTAMP:20260420T142703
CREATED:20221208T204543Z
LAST-MODIFIED:20221208T204543Z
UID:10000634-1670911200-1670961600@www.andersoncountysc.org
SUMMARY:Planning Commission Meeting
DESCRIPTION:The Planning Commission will meet Tuesday\, November 8\, 2022 at 6 pm at the Historic Courthouse. The agenda and packet can be found below. \nDecember 13\, 2022 Packet
URL:https://www.andersoncountysc.org/event/planning-commission-meeting-22/
LOCATION:Historic Courthouse\, 101 S. Main Street\, Anderson\, SC\, 29624\, United States
CATEGORIES:Planning Events
ORGANIZER;CN="Brittany McAbee":MAILTO:bdmcabee@andersoncountysc.org
END:VEVENT
BEGIN:VEVENT
DTSTART;TZID=UTC:20221213T160000
DTEND;TZID=UTC:20221213T170000
DTSTAMP:20260420T142703
CREATED:20221110T154926Z
LAST-MODIFIED:20221110T164043Z
UID:10000780-1670947200-1670950800@www.andersoncountysc.org
SUMMARY:Legislative Delegation Meeting
DESCRIPTION:Representative Anne Thayer\, Chairman of the Anderson County Legislative Delegation\, has announced a Delegation Meeting to be held December 13\, 2022\, 4:00 P.M. at the Ronald Townsend Government Building\, 2404 N. Main St.\, Anderson\, SC. \n*If you previously applied in June 2022 for any seats listed below\, you need not re-apply as your application is still on file and will be considered. \n  \n1. Consider Appointments to the Following Anderson County Boards and Commissions: \n\n\n\nRegistration and Election Commission (Three Seats – School Districts 1 & 5 & 1 At- Large)\nTri-County Technical College Board (One Seat)\nDisabilities and Special Needs Board (Three Seats)\nChildren’s Foster Care Review Board (Five Seats)\nAnderson-Oconee-Pickens Mental Health Center Board (Two Seats)\nSocial Services Board (Two Seats)\nHammond Water District Board (Three Seats)\nSandy Springs Water District Board (Four Seats)\nStarr-Iva Water District Board (Three Seats)\nPowdersville Water District Board (One Seat)\nWest Anderson Water District Board (Three Seats)\nAnderson County Forestry Board (Two Seats)\nAnderson County Transportation Committee (Three Seats) One Seat from House District 6\n\n\n\nAnyone interested in applying for appointment to any of the above-mentioned boards or commissions\, please complete and return the application to the Delegation Office (Post Office Box 8002\, Anderson\, SC  29622) no later than Wednesday\, November 23rd. \n###
URL:https://www.andersoncountysc.org/event/legislative-delegation-meeting-7/
LOCATION:Ronald P. Townsend Building\, 2404 N. Main Street\, Anderson\, SC\, 29621\, United States
CATEGORIES:Legislative Delegation
ATTACH;FMTTYPE=image/jpeg:https://www.andersoncountysc.org/wp-content/uploads/2022/03/275120680_326791379480590_1553020834931961463_n-e1763512677483.jpg
ORGANIZER;CN="Caroline Piaso":MAILTO:cpiasio@andersoncountysc.org
END:VEVENT
BEGIN:VEVENT
DTSTART;TZID=UTC:20221220T110000
DTEND;TZID=UTC:20221220T113000
DTSTAMP:20260420T142703
CREATED:20220921T181139Z
LAST-MODIFIED:20221216T230312Z
UID:10000754-1671534000-1671535800@www.andersoncountysc.org
SUMMARY:County Council Meeting
DESCRIPTION:The Anderson County Council will meet on Tuesday\, December 20\, 2022 in the Council Chambers\, Historic Courthouse\, 101 S. Main St.\, Anderson\, SC 29624.\n\nCouncil Meeting at 11:00 a.m.\n\nAgenda
URL:https://www.andersoncountysc.org/event/county-council-meeting-38/
LOCATION:Historic Courthouse\, 101 S. Main Street\, Anderson\, SC\, 29624\, United States
CATEGORIES:County Council Meeting
ATTACH;FMTTYPE=image/jpeg:https://www.andersoncountysc.org/wp-content/uploads/2022/01/AC-Seal-Color-e1675270283402.jpg
ORGANIZER;CN="Renee Watts":MAILTO:rdwatts@andersoncountysc.org
END:VEVENT
BEGIN:VEVENT
DTSTART;VALUE=DATE:20221223
DTEND;VALUE=DATE:20221224
DTSTAMP:20260420T142703
CREATED:20211221T210014Z
LAST-MODIFIED:20211221T210014Z
UID:10000627-1671753600-1671839999@www.andersoncountysc.org
SUMMARY:County Offices Closed
DESCRIPTION:Anderson County offices are closed on December 23\, 2022\, in observance of Christmas.
URL:https://www.andersoncountysc.org/event/county-offices-closed-26/
LOCATION:SC
CATEGORIES:County Offices Closed
END:VEVENT
BEGIN:VEVENT
DTSTART;VALUE=DATE:20221226
DTEND;VALUE=DATE:20221227
DTSTAMP:20260420T142703
CREATED:20211221T210111Z
LAST-MODIFIED:20211221T210111Z
UID:10000628-1672012800-1672099199@www.andersoncountysc.org
SUMMARY:County Offices Closed
DESCRIPTION:Anderson County offices are closed on December 26\, 2022\, in observance of Christmas.
URL:https://www.andersoncountysc.org/event/county-offices-closed-27/
LOCATION:SC
CATEGORIES:County Offices Closed
END:VEVENT
BEGIN:VEVENT
DTSTART;VALUE=DATE:20221227
DTEND;VALUE=DATE:20221228
DTSTAMP:20260420T142703
CREATED:20211221T210205Z
LAST-MODIFIED:20211221T210205Z
UID:10000629-1672099200-1672185599@www.andersoncountysc.org
SUMMARY:County Offices Closed
DESCRIPTION:Anderson County offices are closed on December 27\, 2022\, in observance of Christmas.
URL:https://www.andersoncountysc.org/event/county-offices-closed-28/
LOCATION:SC
CATEGORIES:County Offices Closed
END:VEVENT
END:VCALENDAR