BEGIN:VCALENDAR
VERSION:2.0
PRODID:-//Anderson County - ECPv6.15.20//NONSGML v1.0//EN
CALSCALE:GREGORIAN
METHOD:PUBLISH
X-ORIGINAL-URL:https://www.andersoncountysc.org
X-WR-CALDESC:Events for Anderson County
REFRESH-INTERVAL;VALUE=DURATION:PT1H
X-Robots-Tag:noindex
X-PUBLISHED-TTL:PT1H
BEGIN:VTIMEZONE
TZID:UTC
BEGIN:STANDARD
TZOFFSETFROM:+0000
TZOFFSETTO:+0000
TZNAME:UTC
DTSTART:20220101T000000
END:STANDARD
END:VTIMEZONE
BEGIN:VEVENT
DTSTART;VALUE=DATE:20230102
DTEND;VALUE=DATE:20230103
DTSTAMP:20260420T124818
CREATED:20221130T222635Z
LAST-MODIFIED:20221130T222708Z
UID:10000785-1672617600-1672703999@www.andersoncountysc.org
SUMMARY:County Offices Closed
DESCRIPTION:Anderson County offices are closed on January 2\, 2023\, in observance of New Year.
URL:https://www.andersoncountysc.org/event/county-offices-closed/
LOCATION:SC
CATEGORIES:County Offices Closed
END:VEVENT
BEGIN:VEVENT
DTSTART;TZID=UTC:20230103T180000
DTEND;TZID=UTC:20230103T183000
DTSTAMP:20260420T124818
CREATED:20221221T174203Z
LAST-MODIFIED:20221230T185644Z
UID:10000636-1672768800-1672770600@www.andersoncountysc.org
SUMMARY:Anderson County Council Swearing In
DESCRIPTION:The 2023-24 Anderson County Council will take the oath of office at 6 o’clock on Tuesday\, January 3rd prior to the Council’s regular business meeting at 6:30 p.m. \nAGENDA
URL:https://www.andersoncountysc.org/event/anderson-county-council-swearing-in/
LOCATION:Historic Courthouse\, 101 S. Main Street\, Anderson\, SC\, 29624\, United States
CATEGORIES:County Council Meeting
ATTACH;FMTTYPE=image/jpeg:https://www.andersoncountysc.org/wp-content/uploads/2022/01/AC-Seal-Color-e1675270283402.jpg
ORGANIZER;CN="Renee Watts":MAILTO:rdwatts@andersoncountysc.org
END:VEVENT
BEGIN:VEVENT
DTSTART;TZID=UTC:20230103T183000
DTEND;TZID=UTC:20230103T193000
DTSTAMP:20260420T124818
CREATED:20221130T222908Z
LAST-MODIFIED:20221230T181544Z
UID:10000786-1672770600-1672774200@www.andersoncountysc.org
SUMMARY:County Council Meeting
DESCRIPTION:The Anderson County Council will meet on Tuesday\, January 3\, 2023\, in the Council Chambers\, Historic Courthouse\, 101 S. Main St.\, Anderson\, SC 29624.\n\nCouncil Meeting at 6:30 p.m.\n\nAgenda
URL:https://www.andersoncountysc.org/event/county-council-meeting-39/
LOCATION:Historic Courthouse\, 101 S. Main Street\, Anderson\, SC\, 29624\, United States
CATEGORIES:County Council Meeting
ATTACH;FMTTYPE=image/jpeg:https://www.andersoncountysc.org/wp-content/uploads/2022/01/AC-Seal-Color-e1675270283402.jpg
ORGANIZER;CN="Renee Watts":MAILTO:rdwatts@andersoncountysc.org
END:VEVENT
BEGIN:VEVENT
DTSTART;TZID=UTC:20230107T070000
DTEND;TZID=UTC:20230107T160000
DTSTAMP:20260420T124818
CREATED:20230105T202601Z
LAST-MODIFIED:20230105T203616Z
UID:10000810-1673074800-1673107200@www.andersoncountysc.org
SUMMARY:Striped Bass Challenge Trophy Series Championship Trail | Winter Classic
DESCRIPTION:After many very successful events\, The Striped Bass Challenge (SBC) brings the 2023 Winter Classic\, one of the four Open/Qualifier tournaments of the Trophy Series Championship Trail\, to Green Pond Landing on Jan. 7\, 2023.  Tournament organizers Thomas and David Richardson say the folks at Visit Anderson\, Anderson County\, Anderson Sports & Entertainment Center\, and Second Harvest Food Bank make putting on the event a pleasure.   “The SBC wants to put on a premier fishing tournament and the folks we work with here make that possible\,” Thomas says. “Since our first event over 7 years ago the anglers have provided over 760\,000 meals for the local communities. These folks have a great chance to win big prizes at the captain’s dinner and at the boat ramp.  We’re excited to be able to do this again and to work with all these great people including the folks from the SC DNR.”  He notes that this tournament trail is possible due to the generosity of sponsors. “We couldn’t do it without Bass Pro Shops\, Hunts Brothers Pizza\, American Ethanol\, Cometic\, Johnson Outdoors\, Hurricane Express Wash\, Mad Katz Outdoors\, Midlands Outdoors\, Klotz\, Home Place\, Xtreme Bait Tanks\, Double X Tackle\, Drift Masters Rod Holders\, Southern Fusion BBQ Sauce\, Abu Garcia\, Ugly Stik\, Grizzly Coolers\, Costa\, Betts Tackle\, Crescent Financial\, RMP Drywall and Richardson Brothers Roofing for sure.” The SBC’s goal is to support the community near Anderson by raising enough food and cash donations so that Second Harvest Food Bank can provide 100\,000 meals. “We are really counting on the anglers to bring in a lot of food and money to buy tickets\,” Thomas states. \nAnglers vie not only for the cash prizes which include first place $15\,000\, $2\,500 Big Fish\, gifts cards for youth\, and another $2000 for the lady angler whose team places the highest in the tournament. During the Captains’ Dinner\, prizes are drawn for great products provided by event sponsors. Winners take away bait tanks\, coolers\, sunglasses\, casting nets\, fish finders\, and more. Participants earn tickets by donating food and money to Second Harvest Food Bank\, which ensures wins for both tournament teams and the local community. \nLongtime event sponsors include: Bass Pro Shops\, Humminbird\, American Ethanol\, Minn Kota\, Hunt Brothers Pizza\, Costa\, Betts Nets\, Grizzly Coolers\, Klotz\, Driftmaster\, and Cometic Gaskets. \nLines in Water: 7 am \nLines out Water:3 pm \nWeigh in: 4 pm
URL:https://www.andersoncountysc.org/event/striped-bass-challenge-trophy-series-championship-trail-winter-classic/
LOCATION:Green Pond Landing & Event Center\, 470 Green Pond Road\, Anderson\, SC\, 29626\, United States
CATEGORIES:Parks Dept & Visit Anderson Event
ATTACH;FMTTYPE=image/jpeg:https://www.andersoncountysc.org/wp-content/uploads/2023/01/Striped-Bass-Challenge_PSD.jpg
ORGANIZER;CN="Matt Schell":MAILTO:mschell@andersoncountysc.org
END:VEVENT
BEGIN:VEVENT
DTSTART;TZID=UTC:20230110T180000
DTEND;TZID=UTC:20230110T200000
DTSTAMP:20260420T124818
CREATED:20221230T154648Z
LAST-MODIFIED:20221230T155021Z
UID:10000638-1673373600-1673380800@www.andersoncountysc.org
SUMMARY:Planning Commission Meeting
DESCRIPTION:The Planning Commission will meet Tuesday\, January 10\, 2023 at 6 pm at the Historic Courthouse. The agenda and packet can be found on the Planning Commission webpage. \n(Please select link to view)
URL:https://www.andersoncountysc.org/event/planning-commission-meeting-23/
LOCATION:Historic Courthouse\, 101 S. Main Street\, Anderson\, SC\, 29624\, United States
CATEGORIES:Planning Events
ORGANIZER;CN="Brittany McAbee":MAILTO:bdmcabee@andersoncountysc.org
END:VEVENT
BEGIN:VEVENT
DTSTART;TZID=UTC:20230112T160000
DTEND;TZID=UTC:20230112T163000
DTSTAMP:20260420T124818
CREATED:20230110T151114Z
LAST-MODIFIED:20230112T155113Z
UID:10000814-1673539200-1673541000@www.andersoncountysc.org
SUMMARY:Announcement: Anderson Watershed Protection Grant
DESCRIPTION:It is our pleasure to cordially invite you to an important press event where we will be announcing the first annual award recipients for the Anderson Watershed Protection Grant. \nWhen: Thursday\, January 12 at 4:00 PM\nWhere: Inside the Gracie S. Floyd Event Center | McFalls Landing\, 1625 Broadway Lake Rd\, Anderson\, South Carolina\nWho:    Media; Award beneficiaries; Anderson County government officials; Anderson County Watershed Protection Council \nThe event will include a brief overview of the Anderson Watershed Protection Council\, an address from Anderson County Councilwoman Cindy Wilson\, and an awards distribution ceremony. \nPlease let us know if you will be attending at info@andersonwatercouncil.com.
URL:https://www.andersoncountysc.org/event/announcement-anderson-watershed-protection-grant/
LOCATION:Gracie S. Floyd Event Center at McFalls Landing\, 1625 Broadway Lake Road\, Anderson\, SC\, 29621\, United States
CATEGORIES:Community Meeting
END:VEVENT
BEGIN:VEVENT
DTSTART;TZID=UTC:20230112T171500
DTEND;TZID=UTC:20230112T181500
DTSTAMP:20260420T124818
CREATED:20221230T161742Z
LAST-MODIFIED:20221230T161802Z
UID:10000794-1673543700-1673547300@www.andersoncountysc.org
SUMMARY:Board of Zoning Appeals Meeting
DESCRIPTION:The Board of Zoning Appeals will meet Thursday\, January 12\, 2023 at 5:15 pm at the Historic Courthouse. The agenda and packet can be found on the Board of Zoning Appeals webpage. \n(Please select link to view)
URL:https://www.andersoncountysc.org/event/board-of-zoning-appeals-meeting-16/
LOCATION:Historic Courthouse\, 101 S. Main Street\, Anderson\, SC\, 29624\, United States
CATEGORIES:Planning Events
ORGANIZER;CN="Brittany McAbee":MAILTO:bdmcabee@andersoncountysc.org
END:VEVENT
BEGIN:VEVENT
DTSTART;TZID=UTC:20230114T070000
DTEND;TZID=UTC:20230115T170000
DTSTAMP:20260420T124818
CREATED:20230105T204928Z
LAST-MODIFIED:20230105T205245Z
UID:10000812-1673679600-1673802000@www.andersoncountysc.org
SUMMARY:Bass University
DESCRIPTION:The Bass University Catches Top Bass Fishing Professionals back in the Classroom in Anderson\, SC – Gadsden\, AL and Athens\, TX!  \nFounded in 2009 by Mike Iaconelli and Pete Gluszek\, The Bass University (BU) offers acclaimed bass fishing education programs in three formats: online\, in the classroom\, and on the water.  The Bass University builds programs that help anglers of all skill levels gain confidence in new tactics and techniques to catch bass consistently. – “Never Stop Learning” \nEach Bass University event location features six Pro Anglers\, who will present a total of 12 seminars over two days. Each seminar is approximately 45+ minutes and covers cutting-edge bass fishing tactics\, techniques\, and tackle.  Attendees can ask questions during the round-table discussion and rub elbows with the pros during breakout sessions.  Bass University seminars are two-day events\, but individual days can be purchased when selecting ticket options. Additionally\, all students receive a   T-shirt and a loaded gift bag full of valuable tackle and special sponsor offers. They also have a chance to win great prizes. \nWe are very excited to also announce a new addition to Bass University classes. Each class will feature breakout sessions featuring Sonar Education. Each class will be staffed with sonar experts to answer questions regarding operation and installation of Humminbird\, Lowrance and Garmin products. Bass U is dedicated to teaching anglers how to get the most out of their electronics. \nSonar Specialists include: \nAnderson\, SC – The Sonar Pros – Trent Palmer\nGadsden\, AL – Bucks Island Marine – Israel Britt\nAthens\, TX – The Bass Tank – John Soukup and Scott Palmer \n2023 Events \nAnderson\, South Carolina – Jan 14 & 15\nSaturday\, 14th – Drew Benton: Drew Cook: Fred Roumbanis:\nSunday\, 15th – Bryan Schmitt: John Murray: John Crews: \nGadsden\, Alabama – Jan 21 & 22\nSaturday 21st – Mike Iaconelli\, Ryan Salzman\, Matt Herron\nSunday 22nd – Brandon Lester\, Scott Canterbury\, Brian Thrift \nAthens\, Texas – Jan 28 & 29\nSaturday 28th – Lee Livesay\, Stephen Browning\, Jay Przekurat\nSunday 29th – Keith Combs\, John Soukup\, TBA \nAnglers of all skill levels can register online at TheBassUniversity.com/class-training to guarantee a spot in the class. \nWalk-in registrants are welcome if space allows\, starting at 7:00 a.m. on Saturday and 7:30 a.m. on Sunday. Special rates are available for students and youths 17 and younger.
URL:https://www.andersoncountysc.org/event/bass-university/
LOCATION:Hilton Garden Inn\, 115 Destination Boulevard\, Anderson\, SC\, 29621
CATEGORIES:Parks Dept & Visit Anderson Event
ATTACH;FMTTYPE=image/jpeg:https://www.andersoncountysc.org/wp-content/uploads/2023/01/Bass-University.2023-ClassesREV.jpg
ORGANIZER;CN="Matt Schell":MAILTO:mschell@andersoncountysc.org
END:VEVENT
BEGIN:VEVENT
DTSTART;TZID=UTC:20230117T180000
DTEND;TZID=UTC:20230117T193000
DTSTAMP:20260420T124818
CREATED:20221201T173849Z
LAST-MODIFIED:20230113T210502Z
UID:10000787-1673978400-1673983800@www.andersoncountysc.org
SUMMARY:County Council Meeting
DESCRIPTION:The Anderson County Council will meet on Tuesday\, January 17\, 2023\, in the Council Chambers\, Historic Courthouse\, 101 S. Main St.\, Anderson\, SC 29624.\n\nAwards and Recognitions at 6 p.m.\nCouncil Meeting at 6:30 p.m.\n\nAgenda
URL:https://www.andersoncountysc.org/event/county-council-meeting-40/
LOCATION:Historic Courthouse\, 101 S. Main Street\, Anderson\, SC\, 29624\, United States
CATEGORIES:County Council Meeting
ORGANIZER;CN="Renee Watts":MAILTO:rdwatts@andersoncountysc.org
END:VEVENT
BEGIN:VEVENT
DTSTART;TZID=UTC:20230124T120000
DTEND;TZID=UTC:20230124T130000
DTSTAMP:20260420T124818
CREATED:20230120T222414Z
LAST-MODIFIED:20230120T224944Z
UID:10000667-1674561600-1674565200@www.andersoncountysc.org
SUMMARY:Public Safety Committee Meeting
DESCRIPTION:The Council’s Public Safety Committee will meet on Tuesday\, January 24\, 2023\, at 12:00 pm at the Historic Courthouse\, 101 South Main Street\, Anderson\, S. C. \nAGENDA
URL:https://www.andersoncountysc.org/event/24195/
LOCATION:Historic Courthouse\, 101 S. Main Street\, Anderson\, SC\, 29624\, United States
CATEGORIES:Council Committee Meeting
ATTACH;FMTTYPE=image/jpeg:https://www.andersoncountysc.org/wp-content/uploads/2021/05/Anderson-County-Seal-13-scaled-e1674254976501.jpg
ORGANIZER;CN="Renee Watts":MAILTO:rdwatts@andersoncountysc.org
END:VEVENT
BEGIN:VEVENT
DTSTART;TZID=UTC:20230124T180000
DTEND;TZID=UTC:20230124T190000
DTSTAMP:20260420T124818
CREATED:20230123T184534Z
LAST-MODIFIED:20230123T184534Z
UID:10000669-1674583200-1674586800@www.andersoncountysc.org
SUMMARY:HRC Meeting
DESCRIPTION:The Human Relations Council (HRC) will meet on January 24\, 2023 @ 6 o’clock in the evening at the Historic Courthouse\, 101 S. Main Street\, Anderson\, SC. \nAGENDA
URL:https://www.andersoncountysc.org/event/hrc-meeting-5/
LOCATION:Historic Courthouse\, 101 S. Main Street\, Anderson\, SC\, 29624\, United States
CATEGORIES:Committee Meetings
ATTACH;FMTTYPE=image/png:https://www.andersoncountysc.org/wp-content/uploads/2021/06/HRC-Logo_Website-1440x600-2-e1664202440957.png
END:VEVENT
END:VCALENDAR