BEGIN:VCALENDAR
VERSION:2.0
PRODID:-//Anderson County - ECPv6.15.20//NONSGML v1.0//EN
CALSCALE:GREGORIAN
METHOD:PUBLISH
X-WR-CALNAME:Anderson County
X-ORIGINAL-URL:https://www.andersoncountysc.org
X-WR-CALDESC:Events for Anderson County
REFRESH-INTERVAL;VALUE=DURATION:PT1H
X-Robots-Tag:noindex
X-PUBLISHED-TTL:PT1H
BEGIN:VTIMEZONE
TZID:UTC
BEGIN:STANDARD
TZOFFSETFROM:+0000
TZOFFSETTO:+0000
TZNAME:UTC
DTSTART:20220101T000000
END:STANDARD
END:VTIMEZONE
BEGIN:VEVENT
DTSTART;TZID=UTC:20230202T140000
DTEND;TZID=UTC:20230202T150000
DTSTAMP:20260420T105723
CREATED:20230201T162914Z
LAST-MODIFIED:20230201T172311Z
UID:10000673-1675346400-1675350000@www.andersoncountysc.org
SUMMARY:Planning and Public Works Meeting 
DESCRIPTION: The Council’s Planning and Public Works Committee will meet on Thursday\, February 2\, 2023\, at 2:00pm\, at the Historic Courthouse\, 101 South Main Street\, Anderson\, SC 29624. \n2.2.2023 Amended Agenda\n2.2.2023 Agenda \nPlanning & Public Works Committee\nM. Cindy Wilson\, Chairman\nJimmy Davis\nJohn Wright\, Jr.
URL:https://www.andersoncountysc.org/event/planning-and-public-works-meeting/
LOCATION:Historic Courthouse\, 101 S. Main Street\, Anderson\, SC\, 29624\, United States
CATEGORIES:Council Committee Meeting
ATTACH;FMTTYPE=image/jpeg:https://www.andersoncountysc.org/wp-content/uploads/2022/01/AC-Seal-Color-e1675270283402.jpg
ORGANIZER;CN="Renee Watts":MAILTO:rdwatts@andersoncountysc.org
END:VEVENT
BEGIN:VEVENT
DTSTART;TZID=UTC:20230206T160000
DTEND;TZID=UTC:20230206T170000
DTSTAMP:20260420T105723
CREATED:20221201T174637Z
LAST-MODIFIED:20221201T175111Z
UID:10000630-1675699200-1675702800@www.andersoncountysc.org
SUMMARY:ACTC Meeting
DESCRIPTION:The Anderson County Transportation Committee will meet on Monday\, February 6\, 2023 at 4 o’clock . The meeting is open to the public at the Anderson County 1428 Complex located at 1428 Pearman Dairy Road\, Anderson\, SC 29625.  \nThis meeting is also available on Microsoft Teams upon request.
URL:https://www.andersoncountysc.org/event/actc-meeting-9/
LOCATION:1428 County Complex\, 1428 Pearman Dairy Road\, Anderson\, 29625\, United States
CATEGORIES:Committee Meetings
END:VEVENT
BEGIN:VEVENT
DTSTART;TZID=UTC:20230209T171500
DTEND;TZID=UTC:20230209T181500
DTSTAMP:20260420T105723
CREATED:20221230T162003Z
LAST-MODIFIED:20230202T170733Z
UID:10000795-1675962900-1675966500@www.andersoncountysc.org
SUMMARY:Board of Zoning Appeals Meeting
DESCRIPTION:The Board of Zoning Appeals will meet Thursday\, February 9\, 2023 at 5:15 pm at the Historic Courthouse. The agenda and packet can be found on the Board of Zoning Appeals webpage. \n(Please select link to view)
URL:https://www.andersoncountysc.org/event/board-of-zoning-appeals-meeting-17/
LOCATION:Historic Courthouse\, 101 S. Main Street\, Anderson\, SC\, 29624\, United States
CATEGORIES:Planning Events
ORGANIZER;CN="Brittany McAbee":MAILTO:bdmcabee@andersoncountysc.org
END:VEVENT
BEGIN:VEVENT
DTSTART;TZID=UTC:20230211T090000
DTEND;TZID=UTC:20230211T120000
DTSTAMP:20260420T105723
CREATED:20230119T152131Z
LAST-MODIFIED:20230120T224409Z
UID:10000665-1676106000-1676116800@www.andersoncountysc.org
SUMMARY:Shred Day
DESCRIPTION:Shred Day \nThe Civic Center of Anderson\nBalloon Launch Field\nSaturday\, February 11th\n*Shredding Event is for residential customers only*
URL:https://www.andersoncountysc.org/event/shred-day/
LOCATION:SC
CATEGORIES:Community Event
ATTACH;FMTTYPE=image/jpeg:https://www.andersoncountysc.org/wp-content/uploads/2023/01/Shred-Day-Flyer_52023Rev.jpg
END:VEVENT
BEGIN:VEVENT
DTSTART;TZID=UTC:20230214T113000
DTEND;TZID=UTC:20230214T130000
DTSTAMP:20260420T105723
CREATED:20230126T165539Z
LAST-MODIFIED:20230126T170757Z
UID:10000671-1676374200-1676379600@www.andersoncountysc.org
SUMMARY:Senior Citizens | Valentine’s Day Lunch 
DESCRIPTION:Senior Citizens Valentine’s Day Lunch\nFor widows and widowers ages 65 years old and older\, must live in Anderson County District 2 & 5  \n  \nTuesday\, February 14\, 2023  \n11:30 am—1:00 pm  \nHomeland Park Fire Department  \n  \n*Available to the first 150 seniors.  \nPlease stay in your car and pull thru the line to pick up your boxed lunch.  \n*Limit one box lunch per person.  \nYou must be present to receive a lunch.  \n  \nSPONSORED BY:\nAnderson County Council District 2\nAnderson County Council District 5
URL:https://www.andersoncountysc.org/event/senior-citizens-valentines-day-lunch/
LOCATION:Homeland Park Volunteer Fire Department\, 3299 South Main Street\, Anderson\, SC\, 29624\, United States
CATEGORIES:Community Event
ATTACH;FMTTYPE=image/jpeg:https://www.andersoncountysc.org/wp-content/uploads/2023/01/2023-Valentine-Lunch.jpg
ORGANIZER;CN="Renee Watts":MAILTO:rdwatts@andersoncountysc.org
END:VEVENT
BEGIN:VEVENT
DTSTART;TZID=UTC:20230214T180000
DTEND;TZID=UTC:20230214T200000
DTSTAMP:20260420T105723
CREATED:20221230T155307Z
LAST-MODIFIED:20230202T171244Z
UID:10000640-1676397600-1676404800@www.andersoncountysc.org
SUMMARY:Planning Commission Meeting
DESCRIPTION:The Planning Commission will meet Tuesday\, February 14\, 2023 at 6 pm at the Historic Courthouse. The agenda and packet can be found on the Planning Commission webpage. \n(Please select link to view)
URL:https://www.andersoncountysc.org/event/planning-commission-webpage/
LOCATION:Historic Courthouse\, 101 S. Main Street\, Anderson\, SC\, 29624\, United States
CATEGORIES:Planning Events
ORGANIZER;CN="Brittany McAbee":MAILTO:bdmcabee@andersoncountysc.org
END:VEVENT
BEGIN:VEVENT
DTSTART;TZID=UTC:20230216T170000
DTEND;TZID=UTC:20230216T173000
DTSTAMP:20260420T105723
CREATED:20230213T171025Z
LAST-MODIFIED:20230213T171025Z
UID:10000675-1676566800-1676568600@www.andersoncountysc.org
SUMMARY:Legislative Delegation Meeting Notice
DESCRIPTION:The Anderson County Legislative Delegation will be filling the vacancy on the Anderson County Board of Education\, Area Seven and Rep. Anne Thayer\, Chairman has announced that there will be a meeting to interview candidates that have applied on Thursday\, February 16\, 2023 at 5:00 in Courtroom 5 at 2404 N. Main Street.  The appointment will be for the balance of the open seat expiring 12/31/24.  The appointee will have to run in the 2024 general election in order to maintain the seat beyond that date. \nThis meeting is open to the public and should you have any questions\, please contact Caroline Piasio at the Delegation office:  864.260.4025. \n###
URL:https://www.andersoncountysc.org/event/legislative-delegation-meeting-notice/
LOCATION:Ronald P. Townsend Building\, 2404 N. Main Street\, Anderson\, SC\, 29621\, United States
CATEGORIES:Legislative Delegation
ATTACH;FMTTYPE=image/jpeg:https://www.andersoncountysc.org/wp-content/uploads/2022/03/275120680_326791379480590_1553020834931961463_n-e1763512677483.jpg
ORGANIZER;CN="Caroline Piaso":MAILTO:cpiasio@andersoncountysc.org
END:VEVENT
BEGIN:VEVENT
DTSTART;TZID=UTC:20230221T170000
DTEND;TZID=UTC:20230221T180000
DTSTAMP:20260420T105723
CREATED:20230217T201117Z
LAST-MODIFIED:20230217T201117Z
UID:10000677-1676998800-1677002400@www.andersoncountysc.org
SUMMARY:Council Personnel Committee Meeting 
DESCRIPTION: The County Council’s Personnel Committee Meeting will meet on Tuesday. February 21\, 2023\, at 5:00 p.m. Location of meeting is at the Historic Courthouse\, 101 S. Main Street\, Anderson\, S.C. 29624. \n2.21.2023 Personnel Committee Agenda
URL:https://www.andersoncountysc.org/event/council-personnel-committee-meeting/
LOCATION:Historic Courthouse\, 101 S. Main Street\, Anderson\, SC\, 29624\, United States
CATEGORIES:Council Committee Meeting
ATTACH;FMTTYPE=image/jpeg:https://www.andersoncountysc.org/wp-content/uploads/2022/01/AC-Seal-Color-e1675270283402.jpg
ORGANIZER;CN="Renee Watts":MAILTO:rdwatts@andersoncountysc.org
END:VEVENT
BEGIN:VEVENT
DTSTART;TZID=UTC:20230223T180000
DTEND;TZID=UTC:20230223T193000
DTSTAMP:20260420T105723
CREATED:20230222T174824Z
LAST-MODIFIED:20230223T141441Z
UID:10000679-1677175200-1677180600@www.andersoncountysc.org
SUMMARY:Council Special Called Meeting
DESCRIPTION: AMENDED AGENDA\nANDERSON COUNTY COUNCIL\nSPECIAL CALLED MEETING \nThursday\, February 23\, 2023\, at 6 p.m.  \n101 S. Main Street\nAnderson\, South Carolina\nSecond Floor\, Administrator’s Conference Room\nChairman Tommy Dunn\, Presiding  \n1. CALL TO ORDER  \n2. INVOCATION AND PLEDGE OF ALLEGIANCE Hon. Jimmy Davis  \n3. CITIZENS COMMENTS     Agenda Matters Only  \n4. EXECUTIVE SESSION  \na. Personnel matter interviews for Planning Commission vacancy  \n5. ADJOURNMENT  \n  \n2.23.2023 Special Called Council Meeting Amended Agenda \n_____\n*Start/End time is an estimation.
URL:https://www.andersoncountysc.org/event/24597/
LOCATION:Historic Courthouse\, 101 S. Main Street\, Anderson\, SC\, 29624\, United States
CATEGORIES:County Council Meeting
ATTACH;FMTTYPE=image/jpeg:https://www.andersoncountysc.org/wp-content/uploads/2021/05/Anderson-County-Seal-13-scaled-e1674254976501.jpg
ORGANIZER;CN="Renee Watts":MAILTO:rdwatts@andersoncountysc.org
END:VEVENT
BEGIN:VEVENT
DTSTART;TZID=UTC:20230228T180000
DTEND;TZID=UTC:20230228T190000
DTSTAMP:20260420T105723
CREATED:20230227T202346Z
LAST-MODIFIED:20230227T202346Z
UID:10000681-1677607200-1677610800@www.andersoncountysc.org
SUMMARY:HRC Meeting
DESCRIPTION:Anderson County Human Relations Council will meet on February 28\, 2023 @ 6:00 PM\, at the Historic Courthouse\, 101 S. Main Street\, Anderson\, SC 29624. \n02.28.23 Agenda
URL:https://www.andersoncountysc.org/event/hrc-meeting-6/
LOCATION:Historic Courthouse\, 101 S. Main Street\, Anderson\, SC\, 29624\, United States
CATEGORIES:Community Meeting
ATTACH;FMTTYPE=image/png:https://www.andersoncountysc.org/wp-content/uploads/2021/06/HRC-Logo_Website-1440x600-2-e1664202440957.png
END:VEVENT
END:VCALENDAR