BEGIN:VCALENDAR
VERSION:2.0
PRODID:-//Anderson County - ECPv6.15.20//NONSGML v1.0//EN
CALSCALE:GREGORIAN
METHOD:PUBLISH
X-ORIGINAL-URL:https://www.andersoncountysc.org
X-WR-CALDESC:Events for Anderson County
REFRESH-INTERVAL;VALUE=DURATION:PT1H
X-Robots-Tag:noindex
X-PUBLISHED-TTL:PT1H
BEGIN:VTIMEZONE
TZID:UTC
BEGIN:STANDARD
TZOFFSETFROM:+0000
TZOFFSETTO:+0000
TZNAME:UTC
DTSTART:20220101T000000
END:STANDARD
END:VTIMEZONE
BEGIN:VEVENT
DTSTART;TZID=UTC:20230302T180000
DTEND;TZID=UTC:20230302T190000
DTSTAMP:20260420T092005
CREATED:20230227T203214Z
LAST-MODIFIED:20230228T201434Z
UID:10000830-1677780000-1677783600@www.andersoncountysc.org
SUMMARY:Council Special Called Meeting
DESCRIPTION:Anderson County Council will hold a Special Called Meeting on Thursday\, March 2\, 2023\, at 6 p.m.\, Historic Courthouse\, 101 S. Main Street\, Anderson\, SC 29624. The Council will discuss a Traffic Impact Analysis. No votes will be taken information only.  \n3.2.2023 Special Called Amended Agenda\n3.2.2023 Special Called Agenda
URL:https://www.andersoncountysc.org/event/council-special-called-meeting-3/
LOCATION:Historic Courthouse\, 101 S. Main Street\, Anderson\, SC\, 29624\, United States
CATEGORIES:County Council Meeting
ATTACH;FMTTYPE=image/jpeg:https://www.andersoncountysc.org/wp-content/uploads/2022/01/AC-Seal-Color-e1675270283402.jpg
ORGANIZER;CN="Renee Watts":MAILTO:rdwatts@andersoncountysc.org
END:VEVENT
BEGIN:VEVENT
DTSTART;TZID=UTC:20230306T160000
DTEND;TZID=UTC:20230306T170000
DTSTAMP:20260420T092005
CREATED:20230303T174633Z
LAST-MODIFIED:20230303T174633Z
UID:10000831-1678118400-1678122000@www.andersoncountysc.org
SUMMARY:ACTC Meeting
DESCRIPTION:The Anderson County Transportation Committee will meet via Microsoft Teams on Monday\, March 6\, 2023 at 4p.m. This meeting is Executive Session Only. \nAGENDA\n3.6.23 ACTC NOTICE \n 
URL:https://www.andersoncountysc.org/event/actc-meeting-10/
LOCATION:SC
CATEGORIES:Committee Meetings
ORGANIZER;CN="Brittany Burdette":MAILTO:bnburdette@andersoncountysc.org
END:VEVENT
BEGIN:VEVENT
DTSTART;TZID=UTC:20230308T180000
DTEND;TZID=UTC:20230308T193000
DTSTAMP:20260420T092005
CREATED:20230307T152754Z
LAST-MODIFIED:20230307T152754Z
UID:10000833-1678298400-1678303800@www.andersoncountysc.org
SUMMARY:County Council | Special Called Meeting
DESCRIPTION:Anderson County Council will hold a Special Called meeting on Wednesday\, March 8\, 2023\, at 6 p.m.\, 101 S. Main Street\, Anderson\, SC. The only item on the agenda is to conduct interviews of candidates for a Planning Commission vacancy. \nAGENDA \n 
URL:https://www.andersoncountysc.org/event/county-council-special-called-meeting-3/
LOCATION:Historic Courthouse\, 101 S. Main Street\, Anderson\, SC\, 29624\, United States
CATEGORIES:County Council Meeting
ATTACH;FMTTYPE=image/jpeg:https://www.andersoncountysc.org/wp-content/uploads/2022/01/AC-Seal-Color-e1675270283402.jpg
ORGANIZER;CN="Renee Watts":MAILTO:rdwatts@andersoncountysc.org
END:VEVENT
BEGIN:VEVENT
DTSTART;TZID=UTC:20230309T090000
DTEND;TZID=UTC:20230309T100000
DTSTAMP:20260420T092005
CREATED:20230307T142051Z
LAST-MODIFIED:20230307T142731Z
UID:10000832-1678352400-1678356000@www.andersoncountysc.org
SUMMARY:Special Delegation Meeting - Columbia
DESCRIPTION:Representative Anne J. Thayer\, Chairman of the Anderson County Legislative Delegation\, has announced a Special Delegation Meeting to be held March 9\, 2023\, at 9:00AM in Room 108 of the Blatt Building\, 1105 Pendleton St.\, Columbia\, SC  29201 to consider appointments to: \n\nAnderson County Disabilities and Special Needs Board\n\nThe meeting will be a live broadcast that can be accessed at scstatehouse.gov / under Chamber Video at top click House / look to the right side of the page under House Meeting Schedule to find meeting and then click on Live Broadcast to view. \nPlease contact Caroline Piasio (864.260.4025) with any questions.
URL:https://www.andersoncountysc.org/event/special-delegation-meeting/
LOCATION:SC
CATEGORIES:Legislative Delegation
ATTACH;FMTTYPE=image/jpeg:https://www.andersoncountysc.org/wp-content/uploads/2022/03/275120680_326791379480590_1553020834931961463_n-e1763512677483.jpg
ORGANIZER;CN="Caroline Piaso":MAILTO:cpiasio@andersoncountysc.org
END:VEVENT
BEGIN:VEVENT
DTSTART;TZID=UTC:20230309T171500
DTEND;TZID=UTC:20230309T181500
DTSTAMP:20260420T092005
CREATED:20221230T162241Z
LAST-MODIFIED:20221230T162241Z
UID:10000796-1678382100-1678385700@www.andersoncountysc.org
SUMMARY:Board of Zoning Appeals Meeting
DESCRIPTION:The Board of Zoning Appeals will meet Thursday\, March 9\, 2023 at 5:15 pm at the Historic Courthouse. The agenda and packet can be found on the Board of Zoning Appeals webpage. \n(Please select link to view)
URL:https://www.andersoncountysc.org/event/board-of-zoning-appeals-meeting-18/
LOCATION:Historic Courthouse\, 101 S. Main Street\, Anderson\, SC\, 29624\, United States
CATEGORIES:Planning Events
ORGANIZER;CN="Brittany McAbee":MAILTO:bdmcabee@andersoncountysc.org
END:VEVENT
BEGIN:VEVENT
DTSTART;TZID=UTC:20230314T131500
DTEND;TZID=UTC:20230314T140000
DTSTAMP:20260420T092005
CREATED:20230310T213337Z
LAST-MODIFIED:20230310T220021Z
UID:10000834-1678799700-1678802400@www.andersoncountysc.org
SUMMARY:Planning & Public Works Committee Meeting
DESCRIPTION:The Anderson County Council’s Planning and Public Works Committee will meet Tuesday\, March 14\, 2023\, at 1:15 pm\, Historic Courthouse\, 101 South Main Street\, Anderson\, SC 29624. \n3.14.2023 Agenda
URL:https://www.andersoncountysc.org/event/planning-and-public-works-committee-meeting-4/
LOCATION:Historic Courthouse\, 101 S. Main Street\, Anderson\, SC\, 29624\, United States
CATEGORIES:Council Committee Meeting
ATTACH;FMTTYPE=image/jpeg:https://www.andersoncountysc.org/wp-content/uploads/2022/01/AC-Seal-Color-e1675270283402.jpg
ORGANIZER;CN="Renee Watts":MAILTO:rdwatts@andersoncountysc.org
END:VEVENT
BEGIN:VEVENT
DTSTART;TZID=UTC:20230314T180000
DTEND;TZID=UTC:20230314T200000
DTSTAMP:20260420T092005
CREATED:20221230T155623Z
LAST-MODIFIED:20230307T155618Z
UID:10000642-1678816800-1678824000@www.andersoncountysc.org
SUMMARY:Planning Commission Meeting
DESCRIPTION:The Planning Commission will meet Tuesday\, March 14\, 2023\, at 6 pm at the Historic Courthouse. The agenda and packet can be found on the Planning Commission webpage. \n(Please select link to view) \nAGENDA & PACKET
URL:https://www.andersoncountysc.org/event/planning-commission-meeting-24/
LOCATION:Historic Courthouse\, 101 S. Main Street\, Anderson\, SC\, 29624\, United States
CATEGORIES:Planning Events
ORGANIZER;CN="Brittany McAbee":MAILTO:bdmcabee@andersoncountysc.org
END:VEVENT
BEGIN:VEVENT
DTSTART;TZID=UTC:20230321T180000
DTEND;TZID=UTC:20230321T193000
DTSTAMP:20260420T092005
CREATED:20230113T211448Z
LAST-MODIFIED:20230619T151227Z
UID:10000816-1679421600-1679427000@www.andersoncountysc.org
SUMMARY:County Council Meeting
DESCRIPTION:The Anderson County Council will meet on Tuesday\, June 20\, 2023\, at 6:30 p.m. in the Council Chambers\, Historic Courthouse\, 101 S. Main St.\, Anderson\, SC 29624. \n\n\n\n\n\nAGENDA
URL:https://www.andersoncountysc.org/event/county-council-meeting-41/2023-03-21/
LOCATION:Historic Courthouse\, 101 S. Main Street\, Anderson\, SC\, 29624\, United States
CATEGORIES:County Council Meeting
ATTACH;FMTTYPE=image/jpeg:https://www.andersoncountysc.org/wp-content/uploads/2021/05/Anderson-County-Seal-13-scaled-e1674254976501.jpg
ORGANIZER;CN="Renee Watts":MAILTO:rdwatts@andersoncountysc.org
END:VEVENT
END:VCALENDAR