BEGIN:VCALENDAR
VERSION:2.0
PRODID:-//Anderson County - ECPv6.15.20//NONSGML v1.0//EN
CALSCALE:GREGORIAN
METHOD:PUBLISH
X-ORIGINAL-URL:https://www.andersoncountysc.org
X-WR-CALDESC:Events for Anderson County
REFRESH-INTERVAL;VALUE=DURATION:PT1H
X-Robots-Tag:noindex
X-PUBLISHED-TTL:PT1H
BEGIN:VTIMEZONE
TZID:UTC
BEGIN:STANDARD
TZOFFSETFROM:+0000
TZOFFSETTO:+0000
TZNAME:UTC
DTSTART:20220101T000000
END:STANDARD
END:VTIMEZONE
BEGIN:VEVENT
DTSTART;TZID=UTC:20230704T180000
DTEND;TZID=UTC:20230704T193000
DTSTAMP:20260420T013204
CREATED:20230113T212259Z
LAST-MODIFIED:20230901T201935Z
UID:10000658-1688493600-1688499000@www.andersoncountysc.org
SUMMARY:County Council Meeting
DESCRIPTION:The Anderson County Council meets on the first and third Tuesday of each month at 6:00 p.m. in the Council Chambers\, Historic Courthouse\, 101 S. Main St.\, Anderson\, SC 29624. \n\n\n\nSpecial Presentations at 6 p.m. Council Meeting at 6:30 p.m. \n\n\n \nAGENDA \n 
URL:https://www.andersoncountysc.org/event/county-council-meeting-42/2023-07-04/
LOCATION:Historic Courthouse\, 101 S. Main Street\, Anderson\, SC\, 29624\, United States
CATEGORIES:County Council Meeting
ATTACH;FMTTYPE=image/jpeg:https://www.andersoncountysc.org/wp-content/uploads/2021/05/Anderson-County-Seal-13-scaled-e1674254976501.jpg
ORGANIZER;CN="Renee Watts":MAILTO:rdwatts@andersoncountysc.org
END:VEVENT
BEGIN:VEVENT
DTSTART;TZID=UTC:20230710T121500
DTEND;TZID=UTC:20230710T133000
DTSTAMP:20260420T013204
CREATED:20230707T143334Z
LAST-MODIFIED:20230707T143334Z
UID:10000715-1688991300-1688995800@www.andersoncountysc.org
SUMMARY:Planning & Public Works Meeting
DESCRIPTION:The Council’s Planning and Public Works Committee will meet on Monday\, July 10\, 2023\, at 12:15 pm. The meeting will be held at the Historic Courthouse\, 101 South Main Street\, Anderson\, SC 29624. \nAGENDA
URL:https://www.andersoncountysc.org/event/planning-public-works-meeting-2/
LOCATION:Historic Courthouse\, 101 S. Main Street\, Anderson\, SC\, 29624\, United States
CATEGORIES:Council Committee Meeting
ATTACH;FMTTYPE=image/jpeg:https://www.andersoncountysc.org/wp-content/uploads/2022/01/AC-Seal-Color-e1675270283402.jpg
ORGANIZER;CN="Renee Watts":MAILTO:rdwatts@andersoncountysc.org
END:VEVENT
BEGIN:VEVENT
DTSTART;TZID=UTC:20230711T180000
DTEND;TZID=UTC:20230711T200000
DTSTAMP:20260420T013204
CREATED:20221230T160613Z
LAST-MODIFIED:20221230T160613Z
UID:10000788-1689098400-1689105600@www.andersoncountysc.org
SUMMARY:Planning Commission Meeting
DESCRIPTION:The Planning Commission will meet Tuesday\, July 11\, 2023 at 6 pm at the Historic Courthouse. The agenda and packet can be found on the Planning Commission webpage. \n(Please select link to view)
URL:https://www.andersoncountysc.org/event/planning-commission-meeting-28/
LOCATION:Historic Courthouse\, 101 S. Main Street\, Anderson\, SC\, 29624\, United States
CATEGORIES:Planning Events
ORGANIZER;CN="Brittany McAbee":MAILTO:bdmcabee@andersoncountysc.org
END:VEVENT
BEGIN:VEVENT
DTSTART;TZID=UTC:20230713T171500
DTEND;TZID=UTC:20230713T181500
DTSTAMP:20260420T013204
CREATED:20221230T162819Z
LAST-MODIFIED:20221230T162819Z
UID:10000800-1689268500-1689272100@www.andersoncountysc.org
SUMMARY:Board of Zoning Appeals Meeting
DESCRIPTION:The Board of Zoning Appeals will meet Thursday\, July 13\, 2023 at 5:15 pm at the Historic Courthouse. The agenda and packet can be found on the Board of Zoning Appeals webpage. \n(Please select link to view)
URL:https://www.andersoncountysc.org/event/board-of-zoning-appeals-meeting-22/
LOCATION:Historic Courthouse\, 101 S. Main Street\, Anderson\, SC\, 29624\, United States
CATEGORIES:Planning Events
ORGANIZER;CN="Brittany McAbee":MAILTO:bdmcabee@andersoncountysc.org
END:VEVENT
BEGIN:VEVENT
DTSTART;TZID=UTC:20230718T180000
DTEND;TZID=UTC:20230718T193000
DTSTAMP:20260420T013204
CREATED:20230113T211448Z
LAST-MODIFIED:20230619T151227Z
UID:10000820-1689703200-1689708600@www.andersoncountysc.org
SUMMARY:County Council Meeting
DESCRIPTION:The Anderson County Council will meet on Tuesday\, June 20\, 2023\, at 6:30 p.m. in the Council Chambers\, Historic Courthouse\, 101 S. Main St.\, Anderson\, SC 29624. \n\n\n\n\n\nAGENDA
URL:https://www.andersoncountysc.org/event/county-council-meeting-41/2023-07-18/
LOCATION:Historic Courthouse\, 101 S. Main Street\, Anderson\, SC\, 29624\, United States
CATEGORIES:County Council Meeting
ATTACH;FMTTYPE=image/jpeg:https://www.andersoncountysc.org/wp-content/uploads/2021/05/Anderson-County-Seal-13-scaled-e1674254976501.jpg
ORGANIZER;CN="Renee Watts":MAILTO:rdwatts@andersoncountysc.org
END:VEVENT
BEGIN:VEVENT
DTSTART;TZID=UTC:20230721T140000
DTEND;TZID=UTC:20230721T170000
DTSTAMP:20260420T013204
CREATED:20230711T212114Z
LAST-MODIFIED:20230711T213217Z
UID:10000717-1689948000-1689958800@www.andersoncountysc.org
SUMMARY:District 2 | Ice Cream in the Park*
DESCRIPTION:Councilman Glenn Davis to host Ice Cream in the Parks next Friday\, July 21st. \n*Check Locations & Time Below*\n2 pm D. B. Walker Park\, 308 Jefferson Ave.\, Anderson\, SC\n3 pm Greeley Park\, 1219 S. Fant Street\, Anderson\, SC\n4 pm Beatrice Thompson Park\, 525 West Market Street\, Anderson\, SC\n5 pm Wellington Park\, 4010 Calvert Street\, Anderson\, SC \n 
URL:https://www.andersoncountysc.org/event/district-2-ice-cream-in-the-park/
LOCATION:SC
CATEGORIES:Community Event
ATTACH;FMTTYPE=image/jpeg:https://www.andersoncountysc.org/wp-content/uploads/2022/01/AC-Seal-Color-e1675270283402.jpg
ORGANIZER;CN="Renee Watts":MAILTO:rdwatts@andersoncountysc.org
END:VEVENT
BEGIN:VEVENT
DTSTART;TZID=UTC:20230727T180000
DTEND;TZID=UTC:20230727T193000
DTSTAMP:20260420T013204
CREATED:20230428T185941Z
LAST-MODIFIED:20230703T140838Z
UID:10000860-1690480800-1690486200@www.andersoncountysc.org
SUMMARY:2023 Comprehensive Plan Update Districts 4\, 6\, & 7 Community Meeting
DESCRIPTION:2023 Statistical Update Anderson County Comprehensive Plan Engagement Meeting for Council Districts 4\, 6\, & 7 on July 27\, 2023 at 6:00 PM. The meeting will be held at the Spearman Elementary School\, 2001 Easley Highway\, Piedmont\, SC 29673. \n2023 Comprehensive Plan Update Community Meetings Flyer (July 27) (Districts 4\,6\, & 7))
URL:https://www.andersoncountysc.org/event/2023-comprehensive-plan-update-districts-4-6-7-community-meeting/
LOCATION:SC
CATEGORIES:Community Meeting,County Council Meeting,Planning Events
ATTACH;FMTTYPE=image/jpeg:https://www.andersoncountysc.org/wp-content/uploads/2022/01/AC-Seal-Color-e1675270283402.jpg
END:VEVENT
END:VCALENDAR