BEGIN:VCALENDAR
VERSION:2.0
PRODID:-//Anderson County - ECPv6.15.20//NONSGML v1.0//EN
CALSCALE:GREGORIAN
METHOD:PUBLISH
X-ORIGINAL-URL:https://www.andersoncountysc.org
X-WR-CALDESC:Events for Anderson County
REFRESH-INTERVAL;VALUE=DURATION:PT1H
X-Robots-Tag:noindex
X-PUBLISHED-TTL:PT1H
BEGIN:VTIMEZONE
TZID:UTC
BEGIN:STANDARD
TZOFFSETFROM:+0000
TZOFFSETTO:+0000
TZNAME:UTC
DTSTART:20220101T000000
END:STANDARD
END:VTIMEZONE
BEGIN:VEVENT
DTSTART;TZID=UTC:20230801T180000
DTEND;TZID=UTC:20230801T193000
DTSTAMP:20260419T234712
CREATED:20230113T212259Z
LAST-MODIFIED:20230901T201935Z
UID:10000659-1690912800-1690918200@www.andersoncountysc.org
SUMMARY:County Council Meeting
DESCRIPTION:The Anderson County Council meets on the first and third Tuesday of each month at 6:00 p.m. in the Council Chambers\, Historic Courthouse\, 101 S. Main St.\, Anderson\, SC 29624. \n\n\n\nSpecial Presentations at 6 p.m. Council Meeting at 6:30 p.m. \n\n\n \nAGENDA \n 
URL:https://www.andersoncountysc.org/event/county-council-meeting-42/2023-08-01/
LOCATION:Historic Courthouse\, 101 S. Main Street\, Anderson\, SC\, 29624\, United States
CATEGORIES:County Council Meeting
ATTACH;FMTTYPE=image/jpeg:https://www.andersoncountysc.org/wp-content/uploads/2021/05/Anderson-County-Seal-13-scaled-e1674254976501.jpg
ORGANIZER;CN="Renee Watts":MAILTO:rdwatts@andersoncountysc.org
END:VEVENT
BEGIN:VEVENT
DTSTART;TZID=UTC:20230808T180000
DTEND;TZID=UTC:20230808T200000
DTSTAMP:20260419T234712
CREATED:20221230T160736Z
LAST-MODIFIED:20221230T160736Z
UID:10000789-1691517600-1691524800@www.andersoncountysc.org
SUMMARY:Planning Commission Meeting
DESCRIPTION:The Planning Commission will meet Tuesday\, August 8\, 2023 at 6 pm at the Historic Courthouse. The agenda and packet can be found on the Planning Commission webpage. \n(Please select link to view)
URL:https://www.andersoncountysc.org/event/planning-commission-meeting-29/
LOCATION:Historic Courthouse\, 101 S. Main Street\, Anderson\, SC\, 29624\, United States
CATEGORIES:Planning Events
ORGANIZER;CN="Brittany McAbee":MAILTO:bdmcabee@andersoncountysc.org
END:VEVENT
BEGIN:VEVENT
DTSTART;TZID=UTC:20230810T171500
DTEND;TZID=UTC:20230810T181500
DTSTAMP:20260419T234712
CREATED:20221230T163030Z
LAST-MODIFIED:20221230T163711Z
UID:10000801-1691687700-1691691300@www.andersoncountysc.org
SUMMARY:Board of Zoning Appeals Meeting
DESCRIPTION:The Board of Zoning Appeals will meet Thursday\, August 10\, 2023 at 5:15 pm at the Historic Courthouse. The agenda and packet can be found on the Board of Zoning Appeals webpage. \n(Please select link to view)
URL:https://www.andersoncountysc.org/event/board-of-zoning-appeals-2/
LOCATION:Historic Courthouse\, 101 S. Main Street\, Anderson\, SC\, 29624\, United States
CATEGORIES:Planning Events
ORGANIZER;CN="Brittany McAbee":MAILTO:bdmcabee@andersoncountysc.org
END:VEVENT
BEGIN:VEVENT
DTSTART;TZID=UTC:20230815T180000
DTEND;TZID=UTC:20230815T193000
DTSTAMP:20260419T234712
CREATED:20230113T211448Z
LAST-MODIFIED:20230908T160606Z
UID:10000828-1692122400-1692127800@www.andersoncountysc.org
SUMMARY:County Council Meeting
DESCRIPTION:The Anderson County Council meets on the first and third Tuesday of each month at 6:30 p.m. in the Council Chambers\, Historic Courthouse\, 101 S. Main St.\, Anderson\, SC 29624. \nSpecial recognitions\, if on the agenda\, are held at 6 o’clock prior to the Council meeting at 6:30 p.m. \n\n\n\n\n\nAGENDA
URL:https://www.andersoncountysc.org/event/county-council-meeting-41-2023-07-18-2023-08-15/
LOCATION:Historic Courthouse\, 101 S. Main Street\, Anderson\, SC\, 29624\, United States
CATEGORIES:County Council Meeting
ATTACH;FMTTYPE=image/jpeg:https://www.andersoncountysc.org/wp-content/uploads/2021/05/Anderson-County-Seal-13-scaled-e1674254976501.jpg
ORGANIZER;CN="Renee Watts":MAILTO:rdwatts@andersoncountysc.org
END:VEVENT
BEGIN:VEVENT
DTSTART;TZID=UTC:20230822T180000
DTEND;TZID=UTC:20230822T190000
DTSTAMP:20260419T234712
CREATED:20230413T221848Z
LAST-MODIFIED:20230413T221848Z
UID:10000841-1692727200-1692730800@www.andersoncountysc.org
SUMMARY:HRC Meeting
DESCRIPTION:The Human Relations Council (HRC) will meet at the Historic Courthouse on August 22nd at 6 o’clock in the evening. \nThe meeting agenda may be found by visiting the HRC webpage\, www.andersoncountysc.org/anderson-county-human-relations-council.
URL:https://www.andersoncountysc.org/event/hrc-meeting-10/
LOCATION:Historic Courthouse\, 101 S. Main Street\, Anderson\, SC\, 29624\, United States
CATEGORIES:Human Relations Council
ATTACH;FMTTYPE=image/png:https://www.andersoncountysc.org/wp-content/uploads/2021/06/HRC-Logo_Website-1440x600-2-e1664202440957.png
END:VEVENT
BEGIN:VEVENT
DTSTART;TZID=UTC:20230829T180000
DTEND;TZID=UTC:20230829T193000
DTSTAMP:20260419T234712
CREATED:20230428T190401Z
LAST-MODIFIED:20230703T141226Z
UID:10000861-1693332000-1693337400@www.andersoncountysc.org
SUMMARY:2023 Comprehensive Plan Update District 7 Community Meeting
DESCRIPTION:Select Link to View Details \n2023 Comprehensive Plan Update Community Meetings Flyer (August 29) (District 7)
URL:https://www.andersoncountysc.org/event/2023-comprehensive-plan-update-district-7-community-meeting/
LOCATION:SC
CATEGORIES:Community Meeting,County Council Meeting,Planning Events
ATTACH;FMTTYPE=image/jpeg:https://www.andersoncountysc.org/wp-content/uploads/2022/01/AC-Seal-Color-e1675270283402.jpg
END:VEVENT
END:VCALENDAR