BEGIN:VCALENDAR
VERSION:2.0
PRODID:-//Anderson County - ECPv6.15.20//NONSGML v1.0//EN
CALSCALE:GREGORIAN
METHOD:PUBLISH
X-WR-CALNAME:Anderson County
X-ORIGINAL-URL:https://www.andersoncountysc.org
X-WR-CALDESC:Events for Anderson County
REFRESH-INTERVAL;VALUE=DURATION:PT1H
X-Robots-Tag:noindex
X-PUBLISHED-TTL:PT1H
BEGIN:VTIMEZONE
TZID:UTC
BEGIN:STANDARD
TZOFFSETFROM:+0000
TZOFFSETTO:+0000
TZNAME:UTC
DTSTART:20220101T000000
END:STANDARD
END:VTIMEZONE
BEGIN:VEVENT
DTSTART;VALUE=DATE:20230901
DTEND;VALUE=DATE:20230904
DTSTAMP:20260419T215448
CREATED:20230601T170221Z
LAST-MODIFIED:20230601T170221Z
UID:10000872-1693526400-1693785599@www.andersoncountysc.org
SUMMARY:Celebrate Anderson | Hot Air Affair
DESCRIPTION:Celebrate Anderson Weekend is September 1 – 3\, 2023 at the Anderson Sports & Entertainment Center.\nThe Cancer Association of Anderson’s Annual Hot Air Affair: Rising Above Cancer joins Anderson County’s Celebrate Anderson for a spectacular 2023 Labor Day Weekend! \nThe Cancer Association of Anderson is proud to bring the 2023 HOT AIR AFFAIR: RISING ABOVE CANCER to the Anderson Sports & Entertainment Complex during this upcoming Labor Day Weekend! Once again\, skies above Anderson County will be filled with beautiful hot air balloons. Mark your calendar for Labor Day Weekend\, Sep 1st – 4th! This signature event benefits the Cancer Association of Anderson\, the only LOCAL cancer charity in Anderson County. \nJoin our Hot Air Affair sponsors Anderson County\, Blossman Gas & Appliance\, AnMed Health\, The People’s Bank\, and many others as we join with Anderson County’s Celebrate Anderson to bring together more than twenty-five hot air balloons and a Labor Day Weekend filled with Family Fun and entertainment! \nAccording to Cancer Association Director Angela Stringer\, “We look forward to welcoming our balloon pilots to the skies over Anderson County every year! The opportunity to join with Celebrate Anderson to provide a FREE event that raises funds and awareness for our brave patients and survivors makes it even more exiting! The fabulous Combo Kings will be performing on the Balloon Stage as well as other local talent. Please come out and join us for a family-friendly weekend with hot air balloons\, kids-zone\, food trucks\, vendors\, and much\, much more.” \nOrganizers are expecting 30\,000+ people during the three-day event. \nCelebrate Anderson Information\nHot Air Affair Information
URL:https://www.andersoncountysc.org/event/celebrate-anderson-hot-air-affair/
LOCATION:ASEC | Anderson Sports & Entertainment Center\, 3027 Martin Luther King Jr. Boulevard\, Anderson\, SC\, 29625\, United States
CATEGORIES:Community Event
END:VEVENT
BEGIN:VEVENT
DTSTART;TZID=UTC:20230902T100000
DTEND;TZID=UTC:20230902T103000
DTSTAMP:20260419T215448
CREATED:20230828T133723Z
LAST-MODIFIED:20230831T133848Z
UID:10000719-1693648800-1693650600@www.andersoncountysc.org
SUMMARY:Storywalk at KidVenture & Chris Taylor Park
DESCRIPTION:Join us for an exciting unveiling! In partnership with Anderson County Library System\, we are adding a special Storywalk and fun\, educational signs to KidVenture 2.0 Playground and Chris Taylor Memorial Park. Join us on September 2 at 10 AM at the KidVenture 2.0 Playground to see the new Storywalk\, explore the Bookmobile\, and hear remarks from county officials. It’s sure to be a fun morning! \nINVITATION
URL:https://www.andersoncountysc.org/event/storywalk-at-kidventure-chris-taylor-park/
LOCATION:ASEC | Anderson Sports & Entertainment Center\, 3027 Martin Luther King Jr. Boulevard\, Anderson\, SC\, 29625\, United States
CATEGORIES:Community Event
ATTACH;FMTTYPE=image/jpeg:https://www.andersoncountysc.org/wp-content/uploads/2023/08/StoryWalk-at-KidVenture-e1693236318217.jpeg
END:VEVENT
BEGIN:VEVENT
DTSTART;TZID=UTC:20230905T180000
DTEND;TZID=UTC:20230905T193000
DTSTAMP:20260419T215448
CREATED:20230113T212259Z
LAST-MODIFIED:20230901T201935Z
UID:10000660-1693936800-1693942200@www.andersoncountysc.org
SUMMARY:County Council Meeting
DESCRIPTION:The Anderson County Council meets on the first and third Tuesday of each month at 6:00 p.m. in the Council Chambers\, Historic Courthouse\, 101 S. Main St.\, Anderson\, SC 29624. \n\n\n\nSpecial Presentations at 6 p.m. Council Meeting at 6:30 p.m. \n\n\n \nAGENDA \n 
URL:https://www.andersoncountysc.org/event/county-council-meeting-42/2023-09-05/
LOCATION:Historic Courthouse\, 101 S. Main Street\, Anderson\, SC\, 29624\, United States
CATEGORIES:County Council Meeting
ATTACH;FMTTYPE=image/jpeg:https://www.andersoncountysc.org/wp-content/uploads/2021/05/Anderson-County-Seal-13-scaled-e1674254976501.jpg
ORGANIZER;CN="Renee Watts":MAILTO:rdwatts@andersoncountysc.org
END:VEVENT
BEGIN:VEVENT
DTSTART;TZID=UTC:20230912T180000
DTEND;TZID=UTC:20230912T200000
DTSTAMP:20260419T215448
CREATED:20221230T160957Z
LAST-MODIFIED:20230905T152212Z
UID:10000790-1694541600-1694548800@www.andersoncountysc.org
SUMMARY:Planning Commission Meeting
DESCRIPTION:The Planning Commission will meet Tuesday\, September 12\, 2023 at 6 pm at the Historic Courthouse. The agenda and packet can be found on the Planning Commission webpage. \n(Please select link to view)
URL:https://www.andersoncountysc.org/event/planning-commission-meeting-30/
LOCATION:Historic Courthouse\, 101 S. Main Street\, Anderson\, SC\, 29624\, United States
CATEGORIES:Planning Events
ORGANIZER;CN="Brittany McAbee":MAILTO:bdmcabee@andersoncountysc.org
END:VEVENT
BEGIN:VEVENT
DTSTART;TZID=UTC:20230913T090000
DTEND;TZID=UTC:20230913T100000
DTSTAMP:20260419T215448
CREATED:20230911T142716Z
LAST-MODIFIED:20230912T001300Z
UID:10001113-1694595600-1694599200@www.andersoncountysc.org
SUMMARY:Solid Waste ADHOC Committee Meeting
DESCRIPTION:The Anderson County Council Solid Waste Ad Hoc committee will meet on Wednesday\, September 13\, 2023\, 9:00 a.m. at the Historic Courthouse\, 101 South Main Street\, Anderson\, SC. \nAGENDA
URL:https://www.andersoncountysc.org/event/solid-waste-adhoc-committee-meeting/
LOCATION:Historic Courthouse\, 101 S. Main Street\, Anderson\, SC\, 29624\, United States
CATEGORIES:Council Committee Meeting
ATTACH;FMTTYPE=image/jpeg:https://www.andersoncountysc.org/wp-content/uploads/2022/01/AC-Seal-Color-e1675270283402.jpg
ORGANIZER;CN="Renee Watts":MAILTO:rdwatts@andersoncountysc.org
END:VEVENT
BEGIN:VEVENT
DTSTART;TZID=UTC:20230914T170000
DTEND;TZID=UTC:20230914T190000
DTSTAMP:20260419T215448
CREATED:20230831T134024Z
LAST-MODIFIED:20230831T134024Z
UID:10000874-1694710800-1694718000@www.andersoncountysc.org
SUMMARY:Public Drop-In Meeting: Hwy 81 Corridor|Wren School Rd/Lake Road
DESCRIPTION:Anderson County and GPATS is conducting a study of the Highway 81 corridor from the Wren School Rd/Lake Rd intersection to the Powdersville Main/ Piedmont Rd intersection. Anderson County requests comments along this section of Highway 81. To make a comment\, please visit the wiki map here: https://wikimapping.com/SC-Highway-81-Corridor-Study.html. \nA public drop-in meeting is scheduled to be held on Thursday\, September 14\, 2023 from 5 pm to 7pm at Wren Middle School\, located at 1010 Wren School Rd\, Piedmont\, SC 29673. \nInfographic Map
URL:https://www.andersoncountysc.org/event/public-drop-in-meeting-hwy-81-corridorwren-school-rd-lake-road/
LOCATION:SC
CATEGORIES:Community Meeting
ATTACH;FMTTYPE=image/png:https://www.andersoncountysc.org/wp-content/uploads/2023/08/Screenshot-2023-08-28-at-10.58.56-AM-e1693234843163.png
ORGANIZER;CN="Brittany McAbee":MAILTO:bdmcabee@andersoncountysc.org
END:VEVENT
BEGIN:VEVENT
DTSTART;TZID=UTC:20230914T171500
DTEND;TZID=UTC:20230914T181500
DTSTAMP:20260419T215448
CREATED:20221230T163214Z
LAST-MODIFIED:20221230T163214Z
UID:10000802-1694711700-1694715300@www.andersoncountysc.org
SUMMARY:Board of Zoning Appeals Meeting
DESCRIPTION:The Board of Zoning Appeals will meet Thursday\, September 14\, 2023 at 5:15 pm at the Historic Courthouse. The agenda and packet can be found on the Board of Zoning Appeals webpage. \n(Please select link to view)
URL:https://www.andersoncountysc.org/event/board-of-zoning-appeals-meeting-23/
LOCATION:Historic Courthouse\, 101 S. Main Street\, Anderson\, SC\, 29624\, United States
CATEGORIES:Planning Events
ORGANIZER;CN="Brittany McAbee":MAILTO:bdmcabee@andersoncountysc.org
END:VEVENT
BEGIN:VEVENT
DTSTART;TZID=UTC:20230919T183000
DTEND;TZID=UTC:20230919T193000
DTSTAMP:20260419T215448
CREATED:20230915T195024Z
LAST-MODIFIED:20230915T195025Z
UID:10000993-1695148200-1695151800@www.andersoncountysc.org
SUMMARY:County Council Meeting
DESCRIPTION:The Anderson County Council meets on the first and third Tuesday of each month at 6:30 p.m. in the Council Chambers\, Historic Courthouse\, 101 S. Main St.\, Anderson\, SC 29624. \nSpecial recognitions\, if on the agenda\, are held at 6 o’clock prior to the Council meeting at 6:30 p.m. \n\n\n\n\n\nAGENDA
URL:https://www.andersoncountysc.org/event/county-council-meeting-41-2023-07-18-2023-08-15-2/
LOCATION:Historic Courthouse\, 101 S. Main Street\, Anderson\, SC\, 29624\, United States
CATEGORIES:County Council Meeting
ATTACH;FMTTYPE=image/jpeg:https://www.andersoncountysc.org/wp-content/uploads/2021/05/Anderson-County-Seal-13-scaled-e1674254976501.jpg
ORGANIZER;CN="Renee Watts":MAILTO:rdwatts@andersoncountysc.org
END:VEVENT
BEGIN:VEVENT
DTSTART;TZID=UTC:20230921T090000
DTEND;TZID=UTC:20230921T100000
DTSTAMP:20260419T215448
CREATED:20230920T150008Z
LAST-MODIFIED:20230920T150008Z
UID:10001115-1695286800-1695290400@www.andersoncountysc.org
SUMMARY:Short-Term Rental AdHoc Committee
DESCRIPTION:The County Council Short-Term Rental AdHoc Committee will meet on Thursday\, September 21\, 2023\, 9:00 a.m. at the Historic Courthouse\, 101 South Main Street\, Anderson\, SC. \nAGENDA
URL:https://www.andersoncountysc.org/event/short-term-rental-adhoc-committee/
LOCATION:Historic Courthouse\, 101 S. Main Street\, Anderson\, SC\, 29624\, United States
CATEGORIES:Council Committee Meeting
ATTACH;FMTTYPE=image/jpeg:https://www.andersoncountysc.org/wp-content/uploads/2022/01/AC-Seal-Color-e1675270283402.jpg
ORGANIZER;CN="Renee Watts":MAILTO:rdwatts@andersoncountysc.org
END:VEVENT
BEGIN:VEVENT
DTSTART;TZID=UTC:20230922T090000
DTEND;TZID=UTC:20230922T100000
DTSTAMP:20260419T215448
CREATED:20230921T144128Z
LAST-MODIFIED:20230921T144128Z
UID:10001116-1695373200-1695376800@www.andersoncountysc.org
SUMMARY:Public Safety Committee Meeting
DESCRIPTION:The County Council Public Safety Committee will meet on Friday\, September 22\, 2023\, at 9:00 a.m. in the County Council Chambers at the Historic Courthouse\, 101 South Main Street\, Anderson\, SC. \nAGENDA
URL:https://www.andersoncountysc.org/event/public-safety-committee-meeting-2/
LOCATION:Historic Courthouse\, 101 S. Main Street\, Anderson\, SC\, 29624\, United States
CATEGORIES:Council Committee Meeting
ATTACH;FMTTYPE=image/jpeg:https://www.andersoncountysc.org/wp-content/uploads/2022/01/AC-Seal-Color-e1675270283402.jpg
ORGANIZER;CN="Renee Watts":MAILTO:rdwatts@andersoncountysc.org
END:VEVENT
BEGIN:VEVENT
DTSTART;TZID=UTC:20230922T180000
DTEND;TZID=UTC:20230922T193000
DTSTAMP:20260419T215448
CREATED:20230428T190656Z
LAST-MODIFIED:20230428T190656Z
UID:10000862-1695405600-1695411000@www.andersoncountysc.org
SUMMARY:2023 Comprehensive Plan Update Districts 3 & 7 Community Meeting
DESCRIPTION:Select Link to View Details \n2023 Comprehensive Plan Update Community Meetings Flyer (September 22) (Districts 3&7)
URL:https://www.andersoncountysc.org/event/2023-comprehensive-plan-update-districts-3-7-community-meeting/
LOCATION:SC
CATEGORIES:Community Meeting,County Council Meeting,Planning Events
END:VEVENT
BEGIN:VEVENT
DTSTART;TZID=UTC:20230926T180000
DTEND;TZID=UTC:20230926T190000
DTSTAMP:20260419T215448
CREATED:20230413T222057Z
LAST-MODIFIED:20230925T200325Z
UID:10000842-1695751200-1695754800@www.andersoncountysc.org
SUMMARY:HRC Meeting
DESCRIPTION:The Human Relations Council (HRC) will meet at the Historic Courthouse on September 26th at 6 o’clock in the evening. \nThe meeting agenda may be found by visiting the HRC webpage\, www.andersoncountysc.org/anderson-county-human-relations-council. AGENDA
URL:https://www.andersoncountysc.org/event/hrc-meeting-11/
LOCATION:Historic Courthouse\, 101 S. Main Street\, Anderson\, SC\, 29624\, United States
CATEGORIES:Human Relations Council
ATTACH;FMTTYPE=image/png:https://www.andersoncountysc.org/wp-content/uploads/2021/06/HRC-Logo_Website-1440x600-2-e1664202440957.png
END:VEVENT
BEGIN:VEVENT
DTSTART;TZID=UTC:20230928T173000
DTEND;TZID=UTC:20230928T183000
DTSTAMP:20260419T215448
CREATED:20230428T190928Z
LAST-MODIFIED:20230620T192559Z
UID:10000863-1695922200-1695925800@www.andersoncountysc.org
SUMMARY:2023 Comprehensive Plan Update Districts 3 & 7 Community Meeting
DESCRIPTION:Select Link to View Details \n2023 Comprehensive Plan Update Community Meetings Flyer (September 28) (Districts 3&7)
URL:https://www.andersoncountysc.org/event/2023-comprehensive-plan-update-districts-3-7-community-meeting-2/
LOCATION:SC
CATEGORIES:Community Meeting,County Council Meeting,Planning Events
END:VEVENT
BEGIN:VEVENT
DTSTART;VALUE=DATE:20230930
DTEND;VALUE=DATE:20231001
DTSTAMP:20260419T215448
CREATED:20230927T140547Z
LAST-MODIFIED:20230927T140547Z
UID:10001117-1696032000-1696118399@www.andersoncountysc.org
SUMMARY:First Annual Redfin Classic Fishing Tournament & Concert
DESCRIPTION:First Annual Redfin Classic Fishing Tournament Set to Make a Splash on Anderson\, SC \n\n\nGet ready for an exhilarating day of competitive fishing and lakeside entertainment as we proudly announce the inaugural 1st Annual Redfin Classic Fishing Tournament. This exciting event will take place at the picturesque Green Pond Landing on Lake Hartwell\, South Carolina\, on Saturday Sept 30th. \nIn collaboration with Visit Anderson SC and Presented By Palmetto Boat Center\, the 1st Annual Redfin Classic promises to be a highlight of the fishing calendar\, offering anglers and outdoor enthusiasts an opportunity to showcase their skills and win big. \nKey Event Highlights: \n\nLocation: Green Pond Landing in Anderson\, SC\nDate: September 30th\, 2023 | Launch at Safe Light (7 a.m.) | Weigh-ins at 2 p.m.\nPrizes: Redfin Polarized is generously offering a staggering $20\,000.00 cash prize for the 1st place winner. But the excitement doesn’t end there – if the victorious angler is sporting Redfin Sunglasses during the competition\, they will receive a bonus prize of $5\,000.00! With such incredible rewards\, the stakes have never been higher.\nTop 20 Payout: Even if you don’t clinch the top spot\, don’t worry – there are fantastic prizes for the top 20 participants.\nBoat Dealer Contingencies: Be on the lookout for additional rewards and surprises\, courtesy of boat dealers.\nTournament Director: Leading the charge for this spectacular event is Tournament Director Carl Smith.\nHost: Redfin Polarized\nCEO: Hunter Johnson of Redfin Polarized is thrilled to be part of this grand initiative.\nAs a special treat for attendees\, the night before the tournament\, on September 29th from 6:00 PM to 9:00 PM\, there will be a FREE Concert\, a selection of delectable food trucks\, and more. It’s an opportunity to get the party started early and connect with fellow participants and fishing enthusiasts.\n\nCarl Smith\, the Tournament Director\, expressed his enthusiasm for the event\, stating\, “The 1st Annual Redfin Classic is not just a fishing tournament; it’s a celebration of our passion for the outdoors and the camaraderie that comes with it. We are thrilled to partner with Visit Anderson SC\, Palmetto Boat Center\, and Redfin Polarized to bring this event to life.” \nCEO Hunter Johnson of Redfin Polarized added\, “At Redfin Polarized\, we are dedicated to supporting outdoor enthusiasts and enhancing their experiences. We are proud to be part of this remarkable tournament\, and we can’t wait to see who will take home the grand prize.” \nWith its breathtaking location\, substantial prizes\, and thrilling activities\, the 1st Annual Redfin Classic Fishing Tournament promises to be an event that anglers and spectators alike will cherish. Mark your calendars for Saturday September 30th\, and don’t miss the pre-tournament festivities on September 29th from 6:00 PM to 9:00 PM. This is an event that promises to make waves! \nFor more information\, registration details\, and updates about the 1st Annual Redfin Classic\, please visit https://redfinpolarized.com/pages/the-redfin-classic.
URL:https://www.andersoncountysc.org/event/first-annual-redfin-classic-fishing-tournament-concert/
LOCATION:Green Pond Landing & Event Center\, 470 Green Pond Road\, Anderson\, SC\, 29626\, United States
CATEGORIES:Community Event
ATTACH;FMTTYPE=image/jpeg:https://www.andersoncountysc.org/wp-content/uploads/2023/09/Redfin-Cllassic-2023.jpg
ORGANIZER;CN="Matt Schell":MAILTO:mschell@andersoncountysc.org
END:VEVENT
END:VCALENDAR