BEGIN:VCALENDAR
VERSION:2.0
PRODID:-//Anderson County - ECPv6.15.20//NONSGML v1.0//EN
CALSCALE:GREGORIAN
METHOD:PUBLISH
X-WR-CALNAME:Anderson County
X-ORIGINAL-URL:https://www.andersoncountysc.org
X-WR-CALDESC:Events for Anderson County
REFRESH-INTERVAL;VALUE=DURATION:PT1H
X-Robots-Tag:noindex
X-PUBLISHED-TTL:PT1H
BEGIN:VTIMEZONE
TZID:UTC
BEGIN:STANDARD
TZOFFSETFROM:+0000
TZOFFSETTO:+0000
TZNAME:UTC
DTSTART:20220101T000000
END:STANDARD
END:VTIMEZONE
BEGIN:VEVENT
DTSTART;TZID=UTC:20231003T180000
DTEND;TZID=UTC:20231003T193000
DTSTAMP:20260419T201359
CREATED:20230929T195054Z
LAST-MODIFIED:20230929T195055Z
UID:10000661-1696356000-1696361400@www.andersoncountysc.org
SUMMARY:County Council Meeting
DESCRIPTION:The Anderson County Council meets on the first and third Tuesday of each month at 6:00 p.m. in the Council Chambers\, Historic Courthouse\, 101 S. Main St.\, Anderson\, SC 29624. \n\n\n\nSpecial Presentations at 6 p.m. Council Meeting at 6:30 p.m. \n\n\n \nAGENDA \n 
URL:https://www.andersoncountysc.org/event/county-council-meeting-42-2/
LOCATION:Historic Courthouse\, 101 S. Main Street\, Anderson\, SC\, 29624\, United States
CATEGORIES:County Council Meeting
ATTACH;FMTTYPE=image/jpeg:https://www.andersoncountysc.org/wp-content/uploads/2021/05/Anderson-County-Seal-13-scaled-e1674254976501.jpg
ORGANIZER;CN="Renee Watts":MAILTO:rdwatts@andersoncountysc.org
END:VEVENT
BEGIN:VEVENT
DTSTART;TZID=UTC:20231006T080000
DTEND;TZID=UTC:20231006T153000
DTSTAMP:20260419T201359
CREATED:20231004T145138Z
LAST-MODIFIED:20231004T150619Z
UID:10001120-1696579200-1696606200@www.andersoncountysc.org
SUMMARY:County Council Retreat
DESCRIPTION:The Anderson County Council will meet on Friday\, October 6\, 2023\, 8:00 a.m. at the Anderson County Sports & Entertainment Center\, 3027 Martin Luther King Jr. Boulevard\, Anderson\, South Carolina. \nAGENDA
URL:https://www.andersoncountysc.org/event/county-council-retreat/
LOCATION:ASEC | Anderson Sports & Entertainment Center\, 3027 Martin Luther King Jr. Boulevard\, Anderson\, SC\, 29625\, United States
CATEGORIES:County Council Meeting
ATTACH;FMTTYPE=image/jpeg:https://www.andersoncountysc.org/wp-content/uploads/2022/01/AC-Seal-Color-e1675270283402.jpg
ORGANIZER;CN="Renee Watts":MAILTO:rdwatts@andersoncountysc.org
END:VEVENT
BEGIN:VEVENT
DTSTART;TZID=UTC:20231010T100000
DTEND;TZID=UTC:20231010T110000
DTSTAMP:20260419T201359
CREATED:20231010T154346Z
LAST-MODIFIED:20231010T154346Z
UID:10001123-1696932000-1696935600@www.andersoncountysc.org
SUMMARY:School District One Meeting | Remapping Option
DESCRIPTION:Representing members of the Delegation will be attending a meeting scheduled by G. Robert Binnicker\, Superintendent Anderson School District One. \nThe meeting is scheduled at the District Office (801 N. Hamilton St.\, Williamston) on October 12th at 10:00 to review and discuss a second mapping for the School District board areas.
URL:https://www.andersoncountysc.org/event/school-district-one-meeting-remapping-option/
LOCATION:School District One\, 801 N. Hamilton St.\, Williamston\, SC\, 29697\, United States
CATEGORIES:Community Meeting,Legislative Delegation
ORGANIZER;CN="Caroline Piaso":MAILTO:cpiasio@andersoncountysc.org
END:VEVENT
BEGIN:VEVENT
DTSTART;TZID=UTC:20231010T180000
DTEND;TZID=UTC:20231010T200000
DTSTAMP:20260419T201359
CREATED:20221230T161126Z
LAST-MODIFIED:20221230T161126Z
UID:10000791-1696960800-1696968000@www.andersoncountysc.org
SUMMARY:Planning Commission Meeting
DESCRIPTION:The Planning Commission will meet Tuesday\, October 10\, 2023 at 6 pm at the Historic Courthouse. The agenda and packet can be found on the Planning Commission webpage. \n(Please select link to view)
URL:https://www.andersoncountysc.org/event/planning-commission-meeting-31/
LOCATION:Historic Courthouse\, 101 S. Main Street\, Anderson\, SC\, 29624\, United States
CATEGORIES:Planning Events
ORGANIZER;CN="Brittany McAbee":MAILTO:bdmcabee@andersoncountysc.org
END:VEVENT
BEGIN:VEVENT
DTSTART;TZID=UTC:20231011T180000
DTEND;TZID=UTC:20231011T190000
DTSTAMP:20260419T201359
CREATED:20231005T183303Z
LAST-MODIFIED:20231005T183303Z
UID:10001121-1697047200-1697050800@www.andersoncountysc.org
SUMMARY:Accommodations Tax Advisory Committee Meeting
DESCRIPTION: Accommodations Tax Advisory Committee | Wednesday\, October 11\, 2023 | 6:00 PM  \nCivic Center of Anderson Boardroom\, 3027 Martin Luther King\, Jr. Blvd.\, Anderson\, SC 29625  \nAGENDA
URL:https://www.andersoncountysc.org/event/accommodations-tax-advisory-committee-meeting/
LOCATION:ASEC | Anderson Sports & Entertainment Center\, 3027 Martin Luther King Jr. Boulevard\, Anderson\, SC\, 29625\, United States
END:VEVENT
BEGIN:VEVENT
DTSTART;TZID=UTC:20231012T130000
DTEND;TZID=UTC:20231012T140000
DTSTAMP:20260419T201359
CREATED:20231005T183700Z
LAST-MODIFIED:20231005T183700Z
UID:10001122-1697115600-1697119200@www.andersoncountysc.org
SUMMARY:Convention & Visitors Bureau Board of Directors Meeting
DESCRIPTION:Anderson County Convention & Visitors Bureau Board of Directors Meeting will meet on  Thursday\, October 12\, 2023 | 1:00 pm at 110 Federal Street\, Anderson\, SC. \nAGENDA
URL:https://www.andersoncountysc.org/event/convention-visitors-bureau-board-of-directors-meeting/
LOCATION:Visit Anderson\, 110 Federal Street\, Anderson\, SC\, 29621\, United States
CATEGORIES:Community Meeting
ATTACH;FMTTYPE=image/jpeg:https://www.andersoncountysc.org/wp-content/uploads/2022/10/Visit-Anderson.jpg
END:VEVENT
BEGIN:VEVENT
DTSTART;TZID=UTC:20231012T171500
DTEND;TZID=UTC:20231012T181500
DTSTAMP:20260419T201359
CREATED:20221230T163351Z
LAST-MODIFIED:20221230T163351Z
UID:10000804-1697130900-1697134500@www.andersoncountysc.org
SUMMARY:Board of Zoning Appeals Meeting
DESCRIPTION:The Board of Zoning Appeals will meet Thursday\, October 12\, 2023 at 5:15 pm at the Historic Courthouse. The agenda and packet can be found on the Board of Zoning Appeals webpage. \n(Please select link to view)
URL:https://www.andersoncountysc.org/event/board-of-zoning-appeals-meeting-24/
LOCATION:Historic Courthouse\, 101 S. Main Street\, Anderson\, SC\, 29624\, United States
ORGANIZER;CN="Brittany McAbee":MAILTO:bdmcabee@andersoncountysc.org
END:VEVENT
BEGIN:VEVENT
DTSTART;TZID=UTC:20231017T170000
DTEND;TZID=UTC:20231017T183000
DTSTAMP:20260419T201359
CREATED:20231013T213228Z
LAST-MODIFIED:20231013T213855Z
UID:10001125-1697562000-1697567400@www.andersoncountysc.org
SUMMARY:Public Meeting: Town of Honea Path – Chiquola Mill Cleanup Project
DESCRIPTION:Town of Honea Path\, SC – Chiquola Mill Cleanup Project\nPublic Notice: Submission of EPA Brownfields Cleanup Grant Application and Analysis of Brownfields Cleanup Alternatives \nThe Town of Honea Path is submitting a Brownfields Cleanup Grant Application to the USEPA to conduct cleanup activities at the former Chiquola Mill site\, located at 410 Chiquola Ave. in Honea Path. The property is identified as TMS 275-09-11-003-000. The cleanup work will be performed in accordance with one of the alternatives outlined in the Analysis of Brownfields Cleanup Alternatives (ABCA). The purpose of the ABCA is to evaluate various cleanup/management alternatives for asbestos containing materials (ACM) and contaminated soils. This notice is to\ninform the community of the preparation of the grant application\, the draft ABCA\, and a Public Meeting. \nThe ABCA is available for public comment for 30 days starting October 18\, 2023\, and ending November 17\, 2023. A draft copy of the ABCA will be available at the Town Hall located at 204 South Main St. Also\, the draft grant application is available for review and comment at the Town office\, 204 S. Main St\, from October 18 until November 3\, before the grant is submitted on November 13\, 2023. Both the draft ABCA and grant application are available electronically by requesting them from Mandy Porter at aporter@honeapathsc.com. \nCommunity input is an integral and meaningful part of this type of project\, and public and community-based organizations are encouraged to review the draft grant application and ABCA and provide comments. This matter will be discussed in a public meeting on Tuesday\, October 17\, 2023\, at 5:00 pm at Town Hall\, 204 S. Main St.\, Honea Path. If you desire a virtual option for attending the meeting\, please contact Mandy Porter – contact information is below. \nPlease contact or send any comments about the grant application and/or draft ABCA to the following: \nAmanda Porter – Honea Path\n(864)369-2466\naporter@honeapathsc.com \nGail Rawls Jeter – Stantec\n(803)210-6080\nGail.Jeter@Stantec.com
URL:https://www.andersoncountysc.org/event/public-meeting-town-of-honea-path-chiquola-mill-cleanup-project/
LOCATION:Town of Honea Path | Town Hall\, 204 S. Main St.\, Honea Path\, SC\, 29654
CATEGORIES:Community Meeting
ATTACH;FMTTYPE=image/jpeg:https://www.andersoncountysc.org/wp-content/uploads/2023/10/Honea-Path_TEMPLATE_FB_Box.jpg
END:VEVENT
BEGIN:VEVENT
DTSTART;TZID=UTC:20231017T173000
DTEND;TZID=UTC:20231017T190000
DTSTAMP:20260419T201359
CREATED:20231012T203710Z
LAST-MODIFIED:20231013T175247Z
UID:10001124-1697563800-1697569200@www.andersoncountysc.org
SUMMARY:William States Lee Inducted into the Museum Hall of Fame
DESCRIPTION:Induction ceremony and reception are open to the public. \nThe life of William States Lee will be celebrated with an induction into the Anderson County Museum’s Hall of Fame on Tuesday\, October 17th. Nominated by Michael Gardner\, W.S. Lee was chosen from an outstanding list of people who have made significant contributions to Anderson County and South Carolina. \nMr. Lee\, along with James B. Duke\, played a key role in starting the Duke Energy Company. Lee was an influential member of a powerful regional South Carolina community responsible for a new electric utility industry\, the new south textile boom\, and the future growth of the Piedmont. Lee was looked upon as one of the country’s foremost pioneers in waterpower development. Much of the industrial advancement in the Carolinas can be credited to his individual effort and ability. It is said that he literally changed the industrial geography of these states by his hydro-electric enterprises furnishing energy to a vast network of transmission lines. \nThe Hall of Fame recipient is nominated by the museum Advisory Committee which is appointed by the County Council. Nominees must be deceased for at least ten years before they are eligible to be submitted. The ceremony will begin at 5:30 p.m. on October 17th followed by a reception. Both are open to the public. \nThe award-winning Anderson County Museum is celebrating 40 years of preserving the history and heritage of Anderson County and South Carolina. Located at 202 East Greenville Street in downtown Anderson\, the museum is handicap accessible and admission free. The Fred Whitten Gallery and Whitner’s Mercantile store hours are Tuesday 10 a.m. to 7 p.m. and Wednesday through Saturday 10 a.m. to 4 p.m. The Roper Research Room is open 1 to 7 p.m. on Tuesdays and by appointment with the Curator. For more information\, contact the Museum at (864) 260-4737.
URL:https://www.andersoncountysc.org/event/william-states-lee-jr-inducted-into-the-museum-hall-of-fame/
LOCATION:Anderson County Museum\, 202 E. Greenville Street\, Anderson\, 29621\, United States
CATEGORIES:Community Event
ATTACH;FMTTYPE=image/jpeg:https://www.andersoncountysc.org/wp-content/uploads/2023/10/TEMPLATE_FB_Box.jpg
END:VEVENT
BEGIN:VEVENT
DTSTART;TZID=UTC:20231017T180000
DTEND;TZID=UTC:20231017T193000
DTSTAMP:20260419T201359
CREATED:20231003T153349Z
LAST-MODIFIED:20231013T202328Z
UID:10000994-1697565600-1697571000@www.andersoncountysc.org
SUMMARY:County Council Meeting
DESCRIPTION:The Anderson County Council meets on the first and third Tuesday of each month at 6:30 p.m. in the Council Chambers\, Historic Courthouse\, 101 S. Main St.\, Anderson\, SC 29624. \nSpecial recognitions\, if on the agenda\, are held at 6 o’clock prior to the Council meeting at 6:30 p.m. \n\n\n\n\n\nAGENDA
URL:https://www.andersoncountysc.org/event/county-council-meeting-41-2023-07-18-2023-08-15-3/
LOCATION:Historic Courthouse\, 101 S. Main Street\, Anderson\, SC\, 29624\, United States
CATEGORIES:County Council Meeting
ATTACH;FMTTYPE=image/jpeg:https://www.andersoncountysc.org/wp-content/uploads/2021/05/Anderson-County-Seal-13-scaled-e1674254976501.jpg
ORGANIZER;CN="Renee Watts":MAILTO:rdwatts@andersoncountysc.org
END:VEVENT
BEGIN:VEVENT
DTSTART;TZID=UTC:20231024T180000
DTEND;TZID=UTC:20231024T190000
DTSTAMP:20260419T201359
CREATED:20231023T195011Z
LAST-MODIFIED:20231023T195011Z
UID:10001128-1698170400-1698174000@www.andersoncountysc.org
SUMMARY:HRC Meeting
DESCRIPTION:The Human Relations Council will meet on October 24\, 2023 at 6:00 PM\, Historic Courthouse. \n10.24.2023 Agenda \n 
URL:https://www.andersoncountysc.org/event/hrc-meeting-15/
LOCATION:Historic Courthouse\, 101 S. Main Street\, Anderson\, SC\, 29624\, United States
CATEGORIES:Committee Meetings
ATTACH;FMTTYPE=image/png:https://www.andersoncountysc.org/wp-content/uploads/2021/06/HRC-Logo_Website-1440x600-2-e1664202440957.png
END:VEVENT
BEGIN:VEVENT
DTSTART;TZID=UTC:20231026T180000
DTEND;TZID=UTC:20231026T193000
DTSTAMP:20260419T201359
CREATED:20230428T191121Z
LAST-MODIFIED:20230428T191121Z
UID:10000864-1698343200-1698348600@www.andersoncountysc.org
SUMMARY:2023 Comprehensive Plan Update Districts 1 & 7 Community Meeting
DESCRIPTION:Select Link to View Details \n2023 Comprehensive Plan Update Community Meetings Flyer (October 26) (Districts 1& 7)
URL:https://www.andersoncountysc.org/event/2023-comprehensive-plan-update-districts-1-7-community-meeting/
LOCATION:SC
CATEGORIES:Community Meeting,County Council Meeting,Planning Events
END:VEVENT
BEGIN:VEVENT
DTSTART;TZID=UTC:20231028T130000
DTEND;TZID=UTC:20231028T150000
DTSTAMP:20260419T201359
CREATED:20231019T190844Z
LAST-MODIFIED:20231019T191738Z
UID:10001127-1698498000-1698505200@www.andersoncountysc.org
SUMMARY:AC Museum - Monster Mash
DESCRIPTION:$1 Per Person – Cash only.\nA Fun & Scare Free Event For Children 12 & Under\nNo Strollers Please.
URL:https://www.andersoncountysc.org/event/ac-museum-monster-mash/
LOCATION:Anderson County Museum\, 202 E. Greenville Street\, Anderson\, 29621\, United States
CATEGORIES:Community Event
ATTACH;FMTTYPE=image/jpeg:https://www.andersoncountysc.org/wp-content/uploads/2023/10/Monster-Mash_Box.jpg
END:VEVENT
BEGIN:VEVENT
DTSTART;TZID=UTC:20231028T160000
DTEND;TZID=UTC:20231028T200000
DTSTAMP:20260419T201359
CREATED:20231019T190450Z
LAST-MODIFIED:20231019T192807Z
UID:10001126-1698508800-1698523200@www.andersoncountysc.org
SUMMARY:Trick or Treat: The Halls of PAWS
DESCRIPTION:Trick or Treat the Halls of PAWS is a family-oriented event hosted by Anderson County PAWS! Admission is FREE and we have LOADS of candy to give out! There will also be food and local business vendors located in our dog park! So come out on Oct. 28th from 4 to 8 pm for some Halloween fun!
URL:https://www.andersoncountysc.org/event/paws-trick-or-treat/
LOCATION:PAWS\, 1320 Hwy. 29 South\, Anderson\, SC\, 29626\, United States
CATEGORIES:Community Event
ATTACH;FMTTYPE=image/jpeg:https://www.andersoncountysc.org/wp-content/uploads/2023/10/PAWS_Box.jpg
END:VEVENT
END:VCALENDAR