BEGIN:VCALENDAR
VERSION:2.0
PRODID:-//Anderson County - ECPv6.15.20//NONSGML v1.0//EN
CALSCALE:GREGORIAN
METHOD:PUBLISH
X-WR-CALNAME:Anderson County
X-ORIGINAL-URL:https://www.andersoncountysc.org
X-WR-CALDESC:Events for Anderson County
REFRESH-INTERVAL;VALUE=DURATION:PT1H
X-Robots-Tag:noindex
X-PUBLISHED-TTL:PT1H
BEGIN:VTIMEZONE
TZID:UTC
BEGIN:STANDARD
TZOFFSETFROM:+0000
TZOFFSETTO:+0000
TZNAME:UTC
DTSTART:20220101T000000
END:STANDARD
END:VTIMEZONE
BEGIN:VEVENT
DTSTART;TZID=UTC:20231107T180000
DTEND;TZID=UTC:20231107T193000
DTSTAMP:20260419T182837
CREATED:20231003T153433Z
LAST-MODIFIED:20231103T183601Z
UID:10000662-1699380000-1699385400@www.andersoncountysc.org
SUMMARY:County Council Meeting
DESCRIPTION:The Anderson County Council meets on the first and third Tuesday of each month at 6:30 p.m. in the Council Chambers\, Historic Courthouse\, 101 S. Main St.\, Anderson\, SC 29624. \n\n\n\n\n\n \nAGENDA \n 
URL:https://www.andersoncountysc.org/event/county-council-meeting-42-3/
LOCATION:Historic Courthouse\, 101 S. Main Street\, Anderson\, SC\, 29624\, United States
CATEGORIES:County Council Meeting
ATTACH;FMTTYPE=image/jpeg:https://www.andersoncountysc.org/wp-content/uploads/2021/05/Anderson-County-Seal-13-scaled-e1674254976501.jpg
ORGANIZER;CN="Renee Watts":MAILTO:rdwatts@andersoncountysc.org
END:VEVENT
BEGIN:VEVENT
DTSTART;TZID=UTC:20231109T171500
DTEND;TZID=UTC:20231109T181500
DTSTAMP:20260419T182837
CREATED:20221230T163515Z
LAST-MODIFIED:20231108T182808Z
UID:10000806-1699550100-1699553700@www.andersoncountysc.org
SUMMARY:Board of Zoning Appeals Meeting
DESCRIPTION:The Board of Zoning Appeals will meet Thursday\, November 9\, 2023 at 5:15 pm at the Anderson County Court House Annex. The agenda and packet can be found on the Board of Zoning Appeals webpage. \n(Please select link to view)
URL:https://www.andersoncountysc.org/event/board-of-zoning-appeals-meeting-25/
LOCATION:Anderson County Courthouse Annex\, 401 E. Fant Street\, Anderson\, SC\, United States
CATEGORIES:Planning Events
ORGANIZER;CN="Brittany McAbee":MAILTO:bdmcabee@andersoncountysc.org
END:VEVENT
BEGIN:VEVENT
DTSTART;TZID=UTC:20231114T180000
DTEND;TZID=UTC:20231114T200000
DTSTAMP:20260419T182837
CREATED:20221230T161247Z
LAST-MODIFIED:20221230T161247Z
UID:10000792-1699984800-1699992000@www.andersoncountysc.org
SUMMARY:Planning Commission Meeting
DESCRIPTION:The Planning Commission will meet Tuesday\, November 14\, 2023 at 6 pm at the Historic Courthouse. The agenda and packet can be found on the Planning Commission webpage. \n(Please select link to view)
URL:https://www.andersoncountysc.org/event/planning-commission-meeting-32/
LOCATION:Historic Courthouse\, 101 S. Main Street\, Anderson\, SC\, 29624\, United States
CATEGORIES:Planning Events
ORGANIZER;CN="Brittany McAbee":MAILTO:bdmcabee@andersoncountysc.org
END:VEVENT
BEGIN:VEVENT
DTSTART;TZID=UTC:20231121T180000
DTEND;TZID=UTC:20231121T193000
DTSTAMP:20260419T182837
CREATED:20231003T153743Z
LAST-MODIFIED:20231117T210331Z
UID:10000995-1700589600-1700595000@www.andersoncountysc.org
SUMMARY:County Council Meeting
DESCRIPTION:The Anderson County Council meets on the first and third Tuesday of each month at 6:30 p.m. in the Council Chambers\, Historic Courthouse\, 101 S. Main St.\, Anderson\, SC 29624. \nSpecial recognitions\, if on the agenda\, are held at 6 o’clock prior to the Council meeting at 6:30 p.m. \n\n\n\n\n\nAGENDA
URL:https://www.andersoncountysc.org/event/county-council-meeting-41-2023-07-18-2023-08-15-4/
LOCATION:Historic Courthouse\, 101 S. Main Street\, Anderson\, SC\, 29624\, United States
CATEGORIES:County Council Meeting
ATTACH;FMTTYPE=image/jpeg:https://www.andersoncountysc.org/wp-content/uploads/2021/05/Anderson-County-Seal-13-scaled-e1674254976501.jpg
ORGANIZER;CN="Renee Watts":MAILTO:rdwatts@andersoncountysc.org
END:VEVENT
BEGIN:VEVENT
DTSTART;TZID=UTC:20231128T180000
DTEND;TZID=UTC:20231128T190000
DTSTAMP:20260419T182837
CREATED:20230413T222440Z
LAST-MODIFIED:20230413T222440Z
UID:10000844-1701194400-1701198000@www.andersoncountysc.org
SUMMARY:HRC Meeting
DESCRIPTION:The Human Relations Council (HRC) will meet at the Historic Courthouse on November 28th at 6 o’clock in the evening. \nThe meeting agenda may be found by visiting the HRC webpage\, www.andersoncountysc.org/anderson-county-human-relations-council.
URL:https://www.andersoncountysc.org/event/hrc-meeting-13/
LOCATION:Historic Courthouse\, 101 S. Main Street\, Anderson\, SC\, 29624\, United States
CATEGORIES:Human Relations Council
ATTACH;FMTTYPE=image/png:https://www.andersoncountysc.org/wp-content/uploads/2021/06/HRC-Logo_Website-1440x600-2-e1664202440957.png
END:VEVENT
END:VCALENDAR