BEGIN:VCALENDAR
VERSION:2.0
PRODID:-//Anderson County - ECPv6.15.20//NONSGML v1.0//EN
CALSCALE:GREGORIAN
METHOD:PUBLISH
X-ORIGINAL-URL:https://www.andersoncountysc.org
X-WR-CALDESC:Events for Anderson County
REFRESH-INTERVAL;VALUE=DURATION:PT1H
X-Robots-Tag:noindex
X-PUBLISHED-TTL:PT1H
BEGIN:VTIMEZONE
TZID:UTC
BEGIN:STANDARD
TZOFFSETFROM:+0000
TZOFFSETTO:+0000
TZNAME:UTC
DTSTART:20230101T000000
END:STANDARD
END:VTIMEZONE
BEGIN:VEVENT
DTSTART;TZID=UTC:20240305T180000
DTEND;TZID=UTC:20240305T193000
DTSTAMP:20260419T145358
CREATED:20240129T151030Z
LAST-MODIFIED:20240301T232003Z
UID:10001168-1709661600-1709667000@www.andersoncountysc.org
SUMMARY:County Council Meeting
DESCRIPTION:The Anderson County Council meets on the first and third Tuesday of each month at 6:00 p.m. in the Council Chambers\, Historic Courthouse\, 101 S. Main St.\, Anderson\, SC 29624. \nSpecial Presentations at 6 p.m.\nCouncil Meeting at 6:30 p.m. \nAGENDA
URL:https://www.andersoncountysc.org/event/29144/
LOCATION:Historic Courthouse\, 101 S. Main Street\, Anderson\, SC\, 29624\, United States
CATEGORIES:County Council Meeting
ATTACH;FMTTYPE=image/jpeg:https://www.andersoncountysc.org/wp-content/uploads/2022/01/AC-Seal-Color-e1675270283402.jpg
ORGANIZER;CN="Renee Watts":MAILTO:rdwatts@andersoncountysc.org
END:VEVENT
BEGIN:VEVENT
DTSTART;TZID=UTC:20240306T080000
DTEND;TZID=UTC:20240306T090000
DTSTAMP:20260419T145358
CREATED:20240304T165151Z
LAST-MODIFIED:20240304T165225Z
UID:10001174-1709712000-1709715600@www.andersoncountysc.org
SUMMARY:Public Safety Committee Meeting
DESCRIPTION:The County Council’s Public Safety Committee will meet on March 6\, 2024 @ 8 a.m.\, at the Historic Courthouse\, 101 South Main Street\, Anderson\, SC 29624.  3.6.2024 Agenda
URL:https://www.andersoncountysc.org/event/public-safety-committee-meeting-6/
LOCATION:Historic Courthouse\, 101 S. Main Street\, Anderson\, SC\, 29624\, United States
CATEGORIES:Council Committee Meeting
ATTACH;FMTTYPE=image/jpeg:https://www.andersoncountysc.org/wp-content/uploads/2022/01/AC-Seal-Color-e1675270283402.jpg
ORGANIZER;CN="Renee Watts":MAILTO:rdwatts@andersoncountysc.org
END:VEVENT
BEGIN:VEVENT
DTSTART;TZID=UTC:20240312T180000
DTEND;TZID=UTC:20240312T200000
DTSTAMP:20260419T145358
CREATED:20231215T201400Z
LAST-MODIFIED:20231215T201948Z
UID:10001142-1710266400-1710273600@www.andersoncountysc.org
SUMMARY:Planning Commission Public Hearing
DESCRIPTION:The Planning Commission will meet this Tuesday\, at 6 pm at the Historic Courthouse to review and discuss project proposals and submittals. The agenda and packet can be found on the Planning Commission webpage. \n(Please select link to view)
URL:https://www.andersoncountysc.org/event/planning-commission-public-hearing-2/
LOCATION:Historic Courthouse\, 101 S. Main Street\, Anderson\, SC\, 29624\, United States
CATEGORIES:Planning Events
ORGANIZER;CN="Brittany McAbee":MAILTO:bdmcabee@andersoncountysc.org
END:VEVENT
BEGIN:VEVENT
DTSTART;TZID=UTC:20240314T170000
DTEND;TZID=UTC:20240314T190000
DTSTAMP:20260419T145358
CREATED:20240311T194108Z
LAST-MODIFIED:20240311T195532Z
UID:10001177-1710435600-1710442800@www.andersoncountysc.org
SUMMARY:Public Workshop: Hwy 29 Corridor
DESCRIPTION:A Corridor Study of U.S. 29 in South Carolina between I-85 to U.S. 178/76 (East River St) is being conducted by the Appalachian Council of Governments (ACOG) in partnership with the S.C. Department of Transportation\, Anderson County\, and the Anderson Clemson Area Transportation Study (ACATS). Attend the Public Workshop \nThursday\, MARCH 14\, 2024 | Drop-In Between 5 pm – 7 pm\n\nAnderson County Main Library\, 300 N McDuffie Street\, Anderson\, SC 29621 \nMembers of the public can drop in at any time to talk with the planning team. Information shared at the workshop will be posted on the website for those unable to attend. \nLearn more at our website: www.us29study.com\nTake the Online Survey Today! \nProvide your comments about:\n– Where current issues along the corridor are.\n– What kind of improvements do you want to see?\n– How you want U.S. 29 to look in the future. \nThe survey will be available until March 22.  \nMore information here
URL:https://www.andersoncountysc.org/event/public-workshop-hwy-29-corridor/
LOCATION:Anderson Main Library\, 300 N. McDuffie St\, Anderson\, SC\, 29621
CATEGORIES:Community Event
ATTACH;FMTTYPE=image/jpeg:https://www.andersoncountysc.org/wp-content/uploads/2024/03/TEMPLATE_FB_Box.jpg
END:VEVENT
BEGIN:VEVENT
DTSTART;TZID=UTC:20240314T171500
DTEND;TZID=UTC:20240314T181500
DTSTAMP:20260419T145358
CREATED:20231215T202247Z
LAST-MODIFIED:20231215T202247Z
UID:10001154-1710436500-1710440100@www.andersoncountysc.org
SUMMARY:Board of Zoning Appeals Public Hearing
DESCRIPTION:The Board of Zoning Appeals will meet this Thursday\, at 5:15 pm at the Historic Courthouse. The agenda and packet can be found on the Board of Zoning Appeals webpage. \n(Please select link to view)
URL:https://www.andersoncountysc.org/event/board-of-zoning-appeals-public-hearing/2024-03-14/
LOCATION:Historic Courthouse\, 101 S. Main Street\, Anderson\, SC\, 29624\, United States
CATEGORIES:Planning Events
END:VEVENT
BEGIN:VEVENT
DTSTART;TZID=UTC:20240319T180000
DTEND;TZID=UTC:20240319T193000
DTSTAMP:20260419T145358
CREATED:20240129T151422Z
LAST-MODIFIED:20240315T191249Z
UID:10001169-1710871200-1710876600@www.andersoncountysc.org
SUMMARY:County Council Meeting
DESCRIPTION:The Anderson County Council meets on the first and third Tuesday of each month at 6:00 p.m. in the Council Chambers\, Historic Courthouse\, 101 S. Main St.\, Anderson\, SC 29624. \nSpecial Presentations at 6 p.m.\nCouncil Meeting at 6:30 p.m. \nAGENDA
URL:https://www.andersoncountysc.org/event/county-council-meeting-48/
LOCATION:Historic Courthouse\, 101 S. Main Street\, Anderson\, SC\, 29624\, United States
CATEGORIES:County Council Meeting
ATTACH;FMTTYPE=image/jpeg:https://www.andersoncountysc.org/wp-content/uploads/2022/01/AC-Seal-Color-e1675270283402.jpg
ORGANIZER;CN="Renee Watts":MAILTO:rdwatts@andersoncountysc.org
END:VEVENT
BEGIN:VEVENT
DTSTART;TZID=UTC:20240323T090000
DTEND;TZID=UTC:20240323T120000
DTSTAMP:20260419T145358
CREATED:20240215T153118Z
LAST-MODIFIED:20240306T230615Z
UID:10001170-1711184400-1711195200@www.andersoncountysc.org
SUMMARY:Shred Day
DESCRIPTION:Our first Shred Day of the Spring is here!\nPaper Shredding on the Balloon Launch Field – Diagonally Across from the Civic Center of Anderson\n\n*Shredding Event is for residential customers only*\n 
URL:https://www.andersoncountysc.org/event/shred-day-2/
LOCATION:ASEC | Anderson Sports & Entertainment Center\, 3027 Martin Luther King Jr. Boulevard\, Anderson\, SC\, 29625\, United States
CATEGORIES:Community Event
ATTACH;FMTTYPE=image/jpeg:https://www.andersoncountysc.org/wp-content/uploads/2024/03/Shred-Day-Flyer-march-23-e1709765850920.jpg
END:VEVENT
BEGIN:VEVENT
DTSTART;TZID=UTC:20240328T163000
DTEND;TZID=UTC:20240328T183000
DTSTAMP:20260419T145358
CREATED:20240326T155140Z
LAST-MODIFIED:20240326T155140Z
UID:10001179-1711643400-1711650600@www.andersoncountysc.org
SUMMARY:Public Meeting: Proposed Orange Way Ext./I-85 Exit 27 Ramp Improvements
DESCRIPTION:Anderson County is hosting a public meeting on I-85 Exit 27 southbound off ramp. The meeting will be held at Piercetown Fire Department on Thursday\, March 28\, 2024. Drop in from 4:30 pm to 6:30 pm for more information.
URL:https://www.andersoncountysc.org/event/public-meeting-proposed-orange-way-ext-i-85-exit-27-ramp-improvements/
LOCATION:Piercetown Fire Department\, 5150 SC 81\, Williamston\, SC\, 29697\, United States
CATEGORIES:Community Meeting
ATTACH;FMTTYPE=image/jpeg:https://www.andersoncountysc.org/wp-content/uploads/2024/03/Exit-27.jpg
ORGANIZER;CN="Brittany McAbee":MAILTO:bdmcabee@andersoncountysc.org
END:VEVENT
END:VCALENDAR